Workbook

Sheet Instructions
A1: Introduction to the Safeguarding Children Audit Tool for Derby and Derbyshire Schools and Colleges
A6: Introduction to Derby/Derbyshire Schools and Colleges Safeguarding Children Audit Tool All schools and colleges should have in place, arrangements that reflect the importance of safeguarding and promoting the welfare of children. These arrangements are set out in Working Together to Safeguard Children (2018), chapter 2. Schools and colleges in England must also have regard to Keeping Children Safe in Education when carrying out their duties to safeguard and promote the welfare of children. Schools and colleges are required to carry out an annual review of their safeguarding practice and to demonstrate how the duties set out in the guidance have been discharged. The safeguarding children audit tool for Derby and Derbyshire schools and colleges has been developed to support establishments to effectively complete their annual safeguarding review.
A8: Ofsted will test the impact of safeguarding arrangements under the Education Inspection Framework (EIF) judgement on the quality of leadership and management. Inspectors will arrive at a judgement about whether the provider has effective safeguarding arrangements or not. This judgement will contribute towards the overall judgement on effectiveness of leadership and management. Judgements are not made solely on what is presented during the inspection. Inspectors must probe further and take into account a range of evidence to evaluate the effectiveness of safeguarding arrangements over time. Any comments received by Ofsted from parents or carers of children attending the setting are also considered. Inspectors will consider the extent to which leaders, managers and those responsible for governance ensure there is a culture of vigilance and that there are effective arrangements to protect children and learners, and these: • Meet statutory requirements • Follow the applicable guidance • Promote learners welfare, including the prevention of radicalisation and extremism Evidence about the effectiveness of safeguarding includes: • Attendance, behaviour (for example bullying) and how well children and learners are supported to keep themselves safe • Whether staff are sensitive to signs of possible safeguarding concerns • Comments about safeguarding from staff, learners, and any parental comments • The extent to which the provision is successfully promoting and supporting learners safety, including taking a proactive approach to managing the risks of sexual violence and harassment Safeguarding is not just about protecting children from deliberate harm, neglect, and failure to act, other aspects of care and education can be associated with heightened risks of harm.
A10: Aims of the safeguarding audit tool The safeguarding audit tool enables you to: • Assess your establishment’s safeguarding processes and practice, identify any gaps, and move on to develop an action plan and a review process to address these • Ensure that key people within the school/college, including the governing body/trustees, know how the school/college is working to keep children safe. This will support strategic challenge to help test and provide assurance that policies, procedures and processes are effective and support the delivery of a robust whole school/college approach to safeguarding • Demonstrate that you have taken appropriate steps to audit your safeguarding arrangements and taken action to safeguard children and young people • Assemble your evidence of impact of safeguarding processes and practice ready for any Ofsted inspection. Remember to keep copies of at least the last 3 previous years of annual safeguarding audits and action plans as this is a good way of demonstrating progression at inspection
A12: Using the safeguarding audit tool The headteacher/principal, designated safeguarding lead and designated child protection governor/trustee should work on this audit together to consider and agree for each section and the associated questions: • Evidence of your current safeguarding processes and practice. • A RAG rating (red, amber, green) not met, partly met, and fully met which best describes your establishment now. To rate your school as fully met, you should at minimum meet all the detailed requirements. If you have some of the requirements, you should rate your school as partly met. • A brief explanation of the evidence supporting your judgment against each question standard. • An action plan with details about the actions in place to meet or improve on the current situation, the timescales for this and when progress will be reviewed. The audit tool will pull together a summary of the identified RAG ratings and an action plan to support the safeguarding planning process and review cycle.
A14: Audit tool completion On completion the audit must be signed by the designated safeguarding lead, headteacher/ principal, designated governor/trustee and chair of governors/trustees to confirm that they agree the contents. The findings of the completed audit must be discussed at senior management meetings as well as a full governing body/trustee meeting; any further actions and their timescales must formally recorded in the minutes. The date of the full governing body/trustee meeting where the audit is to be discussed should also be noted on the audit tool. The governing body/trustees must ensure that audit completion is confirmed with the Derby and Derbyshire Safeguarding Children Partnership (DDSCP). Under local arrangements, Derby and Derbyshire schools and colleges are relevant agencies and have a statutory duty to co-operate and supply information as requested. See Keeping Children Safe in Education
A15: https://www.gov.uk/government/publications/keeping-children-safe-in-education--2
A17: Confirmation of Audit Completion To fulfil its statutory functions, the DDSCP has agreed with Derby and Derbyshire Education subgroup members that all education settings will: • Complete an annual safeguarding audit for the 2022 – 2023 academic year, and • Confirm completion of their annual audit by the 30th June 2023 at the latest by completing a short survey (see links below). Please note a copy of the completed audit is not required by the DDSCP
A21: If you are a Derby School, please complete the confirmation of completion survey here: https://forms.office.com/r/gyvufM5CWf
A22: If you are a Derbyshire School, please complete the confirmation of completion survey here: https://forms.office.com/r/UHrDgsD5tZ
A24: Next steps after completing the audit The audit, action plan and RAG rating should be reviewed halfway through the year as a minimum. It is recommended whenever there is a change in headteacher/principal that the safeguarding audit is reviewed.
A26: If you wish to provide feedback on the content of the Safeguarding Children Audit Tool for school and colleges, please email the Derby and Derbyshire Safeguarding Children Partnership on
A27: ddscp@derby.gov.uk

Sheet 1. Leadership & Key Roles
A1: Section 1. Leadership and Key Roles
A2: Read each statement below and consider whether your setting has not met, partly or fully met the standard. It is important that you reflect on the evidence available and how you know that standards have been met or not. | C2: Status | D2: Give evidence for your current identified rating | E2: Action Planning; provide details about what plans are in place to meet or improve on the current standard. Identify who is responsible, by what date and when the progress will be reviewed.
A3: 1.1 | B3: The governing body and proprietors ensure the school/ college comply with their duties under legislation, contributing to multi-agency working in line with statutory guidance. Considerations: * Are the governing body/proprietor and relevant school staff aware of and understand key legislation and statutory guidance such as Working Together to Safeguard Children and other departmental safeguarding advice documents such as Keeping Children Safe in education? *Does the governing body/proprietor have awareness of their obligations under the Human Rights Act 1989 and the Equality Act 2010 (including the Public Sector Equality Duty)? * Is there a senior board level (or equivalent) lead to take leadership responsibility for the establishments safeguarding arrangements, including those where there are allegations of abuse against staff, supply teachers, volunteers or contractors? * Does the governing body/proprietor and the senior leadership team, especially the DSL, understand the 'three' safeguarding partner arrangements and follow the local multi-agency safeguarding arrangements? * Does the governing body/proprietor understand the local Threshold document which sets out the criteria for action, child protection conferences professional dissent policy, dispute resolution and escalation policy and the local protocols for assessment? * Does the governing body/proprietor have an awareness and due regard to the obligations of the Data Protection Act 2018 and UK GDPR to ensure that personal information is processed fairly and lawfully and kept safe and secure and where appropriate is shared to support the safeguarding of children and individuals at risk? * Are arrangements in place that set out clearly the process and principles for sharing information within the school/college, with the Derby and Derbyshire Safeguarding Children Partnership and other agencies and practitioners as required? *Are the governing body/proprietors and senior school leaders including the DSL aware of and implements any local learning where appropriate, such as those as outlined in DDSCP Briefing note: safeguarding school age children and learning from case reviews and other DDSCP briefing notes located in the multi-agency safeguarding children procedures document library? * Are written safeguarding/child protection reports to governors/trustees a standing item at each full governing body/trustees meeting? * Do all part-time timetables, exclusions, internal, fixed term and permanent, meet requirements of DfE statutory guidance and local guidance, including obligations under Equality duties? * Is there a Prevent action plan/risk assessment in place to keep learners safe from the dangers of radicalisation and extremism? | C3: Fully Met | D3: The Governing body read and reviewed the Child Protection policy and read the statutory guidance KCSIE 22, signed to say they have read and understand part 1. Governors have agreed the Equality and objectives policy 17.2.22 The governing body have a link safeguarding governor. If an allegation has been made against anyone, governors will have committee to support this along with support from Human Resources. The school understand the three safeguarding partner arrangements https://www.childprotectioncompany.com/general/who-are-the-3-safeguarding-partners/#:~:text=The%20Safeguarding%20Partners%20will%20be,falls%20under%20the%20local%20authority. The Threshold offer is understood by the headteacher, DSL and link safeguarding governor. Governors and all staff are aware of the Data Protection 2012 Act because of regular training and changing of policies due to data breach reports. School follows the Derby and Derbyshire agreement of sharing information to protect children. DSL is aware and learns from the serious case reviews, and has asked questions about the invisible men in the household. A written Headteacher report is given to the governors four times a year on referrals made to the family support worker and social care and how many children we have in each category. The numbers are also discussed with the link governor, an additional three times. | E3: Lead Name: Isabel Webb Action/s: Governor trained on managing allegations, and GDPR training. PREVENT action plan on reducing radicalisation- Completed 12.1.23 Timescale: By April 2023 Review date: September 2023
A4: 1.2 | B4: The governing body/proprietor have ensured that there is a whole school approach and proactive culture to safeguarding. Considerations: * How do they ensure that safeguarding and child protection are at the forefront and underpin all aspects of process and policy development? * What steps have been taken to ensure that everyone is involved in the whole school/college approach to safeguarding? * Do all systems, process and policies operate with the best interests of children and learners at their core and recognise that ‘it could happen here’ inside and outside of the school and online? * In what ways is a culture of listening to children and taking into account their wishes and feelings, among staff and in any measure the setting puts in place to protect them, encouraged and supported? * Where there are safeguarding concerns does the governing body/proprietors and school/college leaders ensure the child's wishes and feelings are taken into account when determining what action to take and what services to provide? * Have they ensured that systems are in place which are well promoted, easily understood and easily accessible for children to confidently report abuse, knowing concerns will be treated seriously and that they can safety express their views and give feedback? * Is an open and transparent culture promoted to enable the school/college to identify concerning, problematic and inappropriate behaviour early, minimise the risk of abuse and ensure that all adults working in or on behalf of the school/college are clear about expected and appropriate behaviour, professional boundaries and act within these, in accordance with the ethos and values of the setting? * Are the school/colleges safeguarding policies and procedures transparent, clear, and easy to understand for staff, learners and their parents/carers? | C4: Fully Met | D4: The Governing body read and reviewed the Child Protection policy and read the statutory guidance KCSIE 22, signed to say they have read and understand part 1. Governors have agreed the Equality and objectives policy 17.2.22 Children and parents have been actively in updating their Antibullying and E-safety policy. Children have updated the Children's complaints policy. These polices are shared with governors to review and agree. All behaviour and child on child abuse incidences start with a restorative practise which asks what the child wants to resolve the issue. Our policies reflect this. All staff are trained on Restorative Practise After discussions with the children during Antibullying Week, children said they would like a sign so they can tell a trusted adult that they don't feel safe and want some help but can't talk about this at the moment. This has been included in the Anti-bullying policy. Staff are aware of the staff code of conduct and that we have the following policies to support 'calling in’ concerns such as the Low-Level Concern policy and the Managing Allegations policy. Our policies are annually reviewed and shared with staff. | E4: Lead Name: Action/s: Timescale: Review date:
A5: 1.3 | B5: The governing body/proprietor has ensured that an appropriate senior member of staff, from the school or college leadership team, is appointed to the role of Designated Safeguarding Lead (DSL) to take lead responsibility for safeguarding and child protection, including online safety. Considerations: * Are they a member of the Senior Leadership Team? * The appointed DSL is not the proprietor? * Is the role explicit in the job description? * Is the DSL given appropriate authority and time, funding, training, resources and support? * Is there cover in role? Has a Deputy or Deputies been appointed and trained to the same standard as the DSL? * While safeguarding activities can be delegated, does the lead responsibility remain with DSL? * Is the DSL or deputy/ies available during term time and during school hours for staff to discuss safeguarding concerns? * Have senior leadership team cover arrangements been made should the DSL and their deputy be unavailable? * Are adequate and appropriate DSL cover arrangements made for any out of hours/out of term activities? * Are DSL cover arrangements, including during school holidays, communicated to staff, learners, and partner agencies? | C5: Fully Met | D5: The headteacher is the DSL and the deputy DSL's are the deputy and the senior teacher. Each DSL has this included in their job description. The DSL has time to carry out the role as the headteacher in non-teaching head. The DSL attend termly updates and the deputy/senior teacher and the lead DSL have three yearly DSL training updates. All have annual safeguarding training. The DSL may delegate tasks but the DSL has lead responsibility and is available in school times to support safeguarding concerns. The DSL is available out of hours through the safeguarding email and all staff, governors and parents known they can report concerns to Call Derbyshire to make a referral to social services if they have immediate concerns about the welfare of a child, which is shared on the school website, newsletters and briefings to staff. | E5: Lead Name: Action/s: Timescale: Review date:
A6: 1.4 | B6: The governing body/proprietor/headteacher/principal has ensured that appropriate members of staff have been identified as leads for key areas of safeguarding and they have a co-ordinated approach. Considerations: * Is there an identified senior mental health lead? * Is there a lead teacher for relationships education/relationships and sex education and health education programmes? * In what ways does the designated teacher for looked after children, senior mental health lead, SENCo/named person with oversight for SEND and lead teacher for relationship /relationship and sex education and health education, work together along with the DSL, to advise and support others within the setting? * Does the DSL liaise with relevant staff such as IT technicians, designated teacher, pastoral staff, attendance officers, teachers, school nurses, SENCO's/named person with oversight for SEND and senior mental health leads on matters of safety (including online safety), safeguarding and welfare and on when deciding to make a referral by liaising with relevant agencies? | C6: Fully Met | D6: Headteacher and teacher have been trained as mental health first aiders. The headteacher is the RSE lead, PSHCE and DSL in school. She meets with the SENDCo who is also the LAC lead, to discuss referrals that can be made and support for the child and the family. In discussion with all relevant agencies and support staff referrals are made by the lead DSL. | E6: Lead Name: Action/s: send TA on the mental health lead training to take on the role. Timescale: Review date:
A7: 1.5 | B7: The DSL and deputy/ies liaise with the 'three' safeguarding partners and work with other agencies in line with Working Together to Safeguard Children, Keeping Children Safe in Education, national guidance (i.e. NSPCC - when to call the police) and local policies and procedures. Considerations: * Does the DSL and deputy/ies understand their responsibilities relating to the protection of children, young people and vulnerable adults and safeguarding of all learners, including where there has been a domestic abuse notification via SDAT? * Does the DSL provide support to other staff on child welfare/child protection matters, including child-on-child abuse and protecting children from the risk of radicalisation? * Does the DSL regularly liaise with the headteacher/principal to inform them about safeguarding issues, including children known to local authority children’s social care and or the police? * Is the DSL aware of and understand the requirement for children to have an appropriate adult when detained, searched, and questioned by the police? * Does the DSL help to promote educational outcomes by sharing relevant information about the welfare, safeguarding and child protection issues that children, including those with a social worker or who have had a social worker, are experiencing, or have experienced, and identifying the impact that these might be having on children’s attendance, engagement and achievement at school/college with teachers and school/college leadership staff? * Is the DSL and their deputy/ies aware of and follow multi-agency agreements led by the Derby and Derbyshire Safeguarding Children Partnership (DDSCP)? * In what ways does the DSL act as a main point of contact with the '3' safeguarding partners and other relevant agencies? | C7: Fully Met | D7: Yes, DSL have a job description updated each year and they understand the expectations on what to do if there is a domestic violence notification. DSL is around to support staff and they often discuss threshold and if a referral is necessary. DSL is the headteacher. The school has a Confiscation Policy and all staff are aware that an appropriate adult should be around if a child is being questioned or searched. DSL attends TAF, CiN and Child Protection meetings where she reports back on attendance, welfare and educational outcomes because of home life or experiences. DSL's are aware of the sharing of information with multi-agencies as part of the DDSCP. The DSL is available if a multi-agency needs to speak to someone in school about the immediate welfare of a child. She attends TAF, CiN and Child Protection meetings, contacts social workers for advice on if to make referrals. Speaks with DCC Early help to support the school's family support worker. Signpost parents to different agencies to support if necessary. Escalates concerns if agencies are not acting swiftly enough. | E7: Lead Name: Action/s: Write down what actions we take if there is a domestic violence notification and what steps we take. Timescale: Review date:
A8: 1.6 | B8: The governing body/trustees have put in place effective responses to child-on-child abuse, including sexual violence and sexual harassment. Considerations: In line with the DDSCP letter to schools have they considered: *Do we have a whole school approach to child-on-child abuse? *What actions are we taking to prevent and minimise the risk of child-on-child abuse? *Do we know whether our learners are able to confidently report abuse, knowing their concerns will be taken seriously, they will be supported and kept safe? *Are our reporting systems well promoted, easily understood and easily accessible? *Do all our staff recognise the indicators and signs of child-on-child abuse? Do they know how to identify it and effectively respond to a child? *Do we know if the abuse that occurs online or outside of school or college taken as seriously as that which takes places within the setting? *Do we have clear effective processes as to how allegations of child-on-child abuse will be recorded, investigated and dealt with, including how victims, alleged perpetrators and any other affected children will be supported? *Do we regularly review all scenarios and the decisions and actions taken to identify any learning so that processes and policies can be updated? *Has the governing body/proprietor, senior leaders including the DSL read, understood and are committed to the DDSCP Child-on-Child Abuse Strategy recognising that the issue requires a partnership-wide strategic response? | C8: Fully Met | D8: Yes, we have a Child on Child abuse policy, Behaviour Policy, Child's Complaints policy, IT acceptable use policy, a Child's IT acceptable use policy and an Adult and Child's Antibullying policy. Our curriculum covers healthy relationships through PSHE and looks at good and bad relationships and what you should do about this. Respect, trust, and fairness are three of our school values and these are taught through our class assemblies, and wider curriculum. We cover acceptable and unacceptable touch and what to do about this through Antibullying Week. A survey is run during this week about unwanted touch and what was done about this in an anonymous way, however they can leave their name if they wish to talk about this more. Child have the stop card if they want something to stop but can't talk about it, which was suggested by the children and added into their Antibullying policy. Each classroom has a sharing box which is promoted to the children by the teacher. NSPCC come in and share their role and teach the program- My Privates are My Privates. Online abuse is covered through the PSHCE matters and Project Evolve resources in computing lessons, which links to the DFE recommended Education for a Connected World resources, tackling bullying, unwanted content and sexting/nudes. All staff have been trained on recognising signs annually and these are written into our child protection policy which is reviewed and read annually. The school responds to online bullying at home the same as bullying in school and education is given to both children involved from assertiveness to say no this is con correct, to supporting the child who is bullying to find out why. The Child on Child Abuse policy explains the steps we will take in an incident occurs. After each incident we reflect on if actions could have been different and if policies need to change. DDSCP Child on Child Abuse Strategy is followed and read by DSL and headteacher. https://www.proceduresonline.com/derbyshire/scbs/user_controlled_lcms_area/uploaded_files/DDSCP%20Child%20on%20Child%20Abuse%20Strategy%20Final%20May%2022.pdf | E8: Lead Name: Action/s: Timescale: Review date:

Sheet 2. Safeguarding Policies 
A1: Section 2: Safeguarding Policies and Procedures
A2: Read each statement below and consider whether your setting has not met, partly or fully met the standard. It is important that you reflect on the evidence available and how you know that standards have been met or not. | C2: Status | D2: Give evidence for your current identified rating | E2: Action Planning; provide details about what plans are in place to meet or improve on the current standard. Identify who is responsible, by what date and when the progress will be reviewed.
A3: 2.1 | B3: All establishment staff, governors and regular visitors, including volunteers, supply staff and contractors, are aware of the DDSCP safeguarding children procedures and know how to access them. Considerations: * Are relevant staff familiar with the DDSCP safeguarding children procedures as appropriate to their role? * Does the governing body/proprietors, DSL, their deputies and other relevant safeguarding staff understand the Threshold document (local criteria for action), Assessment protocol, Dispute Resolution and Escalation policy and Child Protection Conference Professional Dissent policy? * Are all staff aware of the local early help process and the process for making referrals to local authority children's social care and or the police? * Are all relevant staff aware of their role in the early help assessment process and any social care processes such as strategy meetings, assessments, multi-agency meetings such as team around the child (TAF) meetings, child in need (CiN) review meetings, child protection (CP) conferences and looked after children (LAC) reviews? | C3: Fully Met | D3: Staff are aware of the DDSCP website relevant to their role. DSL and deputies are aware of the threshold document (local criteria for action), Assessment protocol, Dispute Resolution and Escalation policy and Child Protection Conference Professional Dissent policy. Staff are aware referrals can be made to school's family support worker and know how to make a referral to social care. All relevant are aware that their role is Early Help and they may be asked to support in TAF, CiN, Child Protection or LAC meetings. | E3: Lead Name: Isabel Webb Action/s: Remind staff about the DDSCP website and how this can be used to esculate and look for advice and training. Conpleted Dec 23 Share again the threshold document (local criteria for action), Assessment protocol, Dispute Resolution and Escalation policy and Child Protection Conference Professional Dissent policy with governors. Completed 12.1.23 Timescale: December 2022 Review date: September 2023
A4: 2.2 | B4: All staff, volunteers and governors/proprietors/trustees have read and understood KCSIE Sept 2022 relevant to their role. Considerations: * Have all staff read and understood KCSIE according to their roles and responsibilities? - all staff who work directly with children, at least Keeping Children Safe in Education: for school and college staff (part 1) and Annex B? - all school/college leaders/SLT, including governors/trustees/proprietors and designated safeguarding leads/deputies, all of KCSIE? - all staff who do not work with children directly, at least Keeping Children Safe in Education: for school and college staff (part 1) or Annex A Safeguarding information for school and college staff (a condensed version of part 1). * Where Annex A (the condensed version) is used, has there been an assessment by the governing body or proprietor that they think it would provide a better basis for those staff to promote the welfare and safeguarding children? * Have all staff signed to say they have read and understood KCSIE relevant to their role? * What mechanisms are in place to assist staff to understand, respond to any questions which arise, clarify links to school/college policies and local arrangements and discharge their roles as set out in KCSIE 2022? | C4: Fully Met | D4: All staff and governors have signed to say they have read and understood the KCSIE 2022, relevant to their role in school. A record of this is kept int eh folder in the school office and a digital record in the office SCR folder. Staff write up concerns which are directed to the DSL and actions can be reviewed and fed back to the staff member. Staff are given time in September to ask questions about the new KCSIE and this is also asked on the survey that is completed after they have read this. | E4: Lead Name: Action/s: Timescale: Review date:
A5: 2.3 | B5: The governing body/proprietors have ensured there is an effective and up to date safeguarding/child protection policy. Considerations: * Does the policy reflect KCSIE 2022 and DDSCP local safeguarding arrangements? * Is the policy reviewed at least annually? * Is it updated to incorporate safeguarding issues as they emerge or evolve, lessons learnt and national or local changes? * Does it include references to the context of the school and the community in which it is located and serves and participation in the Stopping Domestic Abuse Together (SDAT) initiative? * Does it outline that some children are potentially at greater risk of harm? For example children with a social worker (child in need and child protection plans), children missing from education and those on part-time timetables or excluded, in alternative provision or elective home education, children requiring mental health support, looked after children, and previously looked after children, care leavers, children with special educational needs and/or disabilities and/or health issues and children who are or may be lesbian, gay, bi or trans (LGBTQ+)? * Does the policy reflect that additional barriers can exist when recognising abuse, neglect and exploitation of children with SEND, including neurodevelopmental conditions such as autism or certain medical or physical health conditions? * Does it include that children can be at risk of harm inside and outside of the school/college, inside/outside of their home, in their community and online? * Does it incorporate online safety, FGM, exploitation (sexual and criminal, including county lines, known locally as child at risk of exploitation/CRE), how children will be kept safe from the dangers of radicalisation/extremism and serious violence? * Does it include the systems by which children can confidently report their concerns/abuse and ensure the child's wishes and feelings are taken into account when determining the action to take and what services to provide? * Does the policy detail the setting’s own individual ‘safeguarding arrangements’ which are consistent with government guidance and local multi-agency safeguarding children procedures put in place by Derby and Derbyshire Safeguarding Children Partnership (DDSCP)? * Does it include that children may not feel ready or know how to tell someone they are being abused or recognise they are being harmed? And how staff should respond when concerns arise? * Is the Prevent action plan/risk assessment referenced in the policy? * Does it include a reference to an annual child protection audit (and confirmation of completion to the DDSCP as required) and an annual online safety audit? * Is the policy consistent with DDSCP procedures, including the thresholds document (local criteria for action), local protocol for assessment, information sharing guidance for practitioners, child protection conference professional dissent policy and dispute resolution and escalation policy? * Have staff contributed to and shaped safeguarding arrangements and the child protection/safeguarding policy? | C5: Partly Met | D5: Our Child Protection policy reflects the KCSIE 22 and the DDSCP local safeguarding offer, which is reviewed annually, agreed by governors and shared with parents and staff. Staff sign to say they have read this and ask if there any questions about the policy which are discussed one to one to support the staff member. The policy includes SDAT and how some children are more at harm than others to abuse and harm. It details that abuse can be at school, home and online. This is also included in the E-safety policy. The policy includes the offer that the school gives including the education to reduce abuse in school and decreasing risk of radicalisation. The policy includes online safety, FGM, exploitation (sexual and criminal, including county lines, known locally as child at risk of exploitation/CRE), how children will be kept safe from the dangers of radicalisation/extremism and serious violence. Children are able to report their concerns through their child complaints policy which is updated annually with them. They know who they can support concerns to, they have three safeguarding boards around school, including on the playground. Children complete an annual antibullying survey where they can share concerns anonymous or named if they want to. They have cards to signal they have a concern if they can't talk about it at that stage and boxes in their classroom to write down their feelings. | E5: Lead Name: Isabel Webb Action/s: * Map out where we are teaching and preventing radicalisation, encourging respect for differences and update the Child Protection policy with this information. * Prevent action plan/risk assessment referenced in the policy. * Staff to help shape the Child policy in more detail Timescale: April 2023 Review date: September 2023
A6: 2.4 | B6: The governing body/proprietor has ensured the safeguarding/child protection policy reflects the whole school approach to child-on-child abuse. Considerations: * Does it incorporate the different forms child-on-child abuse can take and abuse which has occurred, including online and outside of the school/college environment? * Are there procedures to minimise the risk of child-on-child abuse? * Are there systems in place which are well promoted, easily accessible and easily understood for children to confidently report their concerns/abuse? * Is it clear that all concerns/abuse must be treated seriously, regardless of how long ago the abuse may have taken place, that children must be reassured they will be supported and kept safe and not made to feel they are creating a problem or ashamed? * Does it specify reports should be made to 2 members of staff wherever possible? * Does it include how allegations of child-on-child abuse, including sexual harassment and violence will be recorded, investigated, and dealt with? *Does it include clear processes as to how victims, perpetrators and any other children affected by child-on-child abuse will be supported, including reference to intrafamilial harms and support for siblings following incidents? * Is there a recognition that abuse may still be taking place even if it is not being reported and that all staff maintain an attitude of ‘it could happen here’? * Is it clear that there is a zero tolerance approach to child-on-child abuse and a recognition that girls and some vulnerable groups such as children with SEND are more likely to be victims and boys perpetrators? * Does it reflect and reference key national guidance documents/assessment tools and local policies and procedures and the support services available to victims and perpetrators? * Does it make clear that where the report involves rape and assault by penetration, the alleged perpetrator must be removed from any classes they share with the victim and also careful consideration on how best to keep the victim and alleged perpetrator apart on school/college premises (including any before or after school activities) and on transport to and from the setting? * Is it consistent with and cross referenced with the school/college behaviour policy? | C6: Fully Met | D6: The Child Protection policy details the different forms of abuse and this lists the procedures we are taking to reduce this, and how we manage this through a restorative approach. The policy outlines the annual review of the children's complaints policy and the Child's Antibullying policy. Children individually complete an online survey about how safe thei feel in school and regarding bullying. This information is used to update the policies. For example in November 2022the choldren identiffied wanting a signal to be given to a trusted adult to tell them something is happening but they can't talk about this now. The Child Protection policy explains that we use a restorative approach and ask children what they want the outcome to be. The questions can be found in the behaviour policy which is referenced in the Child Protection policy. The school has a child on child policy which details what actions we take to support the victim and perpetractor. School has an attitude it can happen here and continue to teach this through assemblies, computing, RSE, PSHE and pastoral group or 1:1 nurture sessions. The school has a zero approach to peer on peer approach and actions taken will reflect the abuse that has taken place, which are recorded on My Concern. School has just started recording lessons learnt on My Concern so we ar reviewing the actions taken on child on child abuse incidents and how we could have delat with these better. The Child Protection policy is cross referenced with the Behaviour and Child on Child abuse policy. | E6: Lead Name: Action/s: Timescale: Review date:
C7: Not met
A8: 2.5 | B8: All staff, volunteers/supply staff/contractors (where appropriate) and governors/trustees have read and understood the safeguarding/child protection policy and signed to this effect. Considerations: * Are all staff, volunteers and governors/trustees aware of and are clear about the procedures where they identify emerging problems in or outside of the school environment and online, where a child may need support with their mental health or they are concerned about the well-being or safety of a child? * Are all staff, volunteers and governors/trustees aware of and are clear about the role they might be expected to play following a referral or in any assessment? * Do all staff know what to do if they suspect or if a child tells them he/she is being abused or neglected, including if a child reports any form of child-on-child abuse as well as sexual violence or harassment, or if a child shares, produces or receives a sexual communication, including sharing nudes/semi-nudes or if they disclose domestic abuse or so called ‘honour-based’ abuse, including forced marriage, female genital mutilation (FGM), breast ironing, virginity testing or hymenoplasty? * Are all staff able to manage appropriate level of confidentiality and work in the best interests of the child? * Are all staff are aware that safeguarding issues can manifest themselves via child-on-child abuse and are clear on the school/college policy and procedures in regard to this for both victims and alleged perpetrators? * Do staff understand that children’s behaviour is a form of communication and may be an indicator that they are suffering harm or that they have been traumatised by abuse? * Do staff understand that mental health problems can be an indicator that a child has suffered or is at risk of suffering abuse, neglect, or exploitation? | C8: Fully Met | D8: The Child Protection policy outlines what we do if we are concerned about a child and this has been read by all governors and staff. This is supported by the Child on Child Abuse, Antibullying and Behaviour policy. All staff understand that behaviour is a form of communication and understand there may be more concerns behind the behaviour and that mental health can be a sign of abuse. All staff know what to do if they have a concern about a child. | E8: Lead Name: Action/s: Timescale: Review date:
A9: 2.6 | B9: The school website contains relevant safeguarding information and the safeguarding/child protection policy is easily accessible to parents and carers. Considerations: * Is the policy available through the school/college website or via other means and upon request? * Does the school/college website have information about how parents/children/other agencies can contact the DSL and their deputy, including their availability in school holidays? * In what way does the school/college promote awareness of safeguarding issues, including domestic abuse, online safety, child-on-child abuse and child exploitation, with parents and carers? | C9: Fully Met | D9: Child Protection, Child on Child Abuse, Antibullying and Behaviour policy are all available on the school website and the Child's version of these. The website tells parents how can they access the family support worker and the DSL in school, including during the holidays. The school informs parents about safeguarding information via the monthly newsletter, messages on Class Dojo, emails, through the school website, through our community room leaflets, 1:1 support from our Early Help Offer, bespoke support where necessary and whole school parent workshops. | E9: Lead Name: Action/s: Timescale: Review date:
A10: 2.7 | B10: There are effective procedures for missing children and those who may be removed from school with a view to be electively home educated. Considerations: * Is this compliant with the departmental advice about school attendance and statutory guidance on children missing from education and /or from home or care and the local Children Missing from Education policy and Runaway and Missing from Home or Care (RMHC) protocol; including families who go missing? * Are all staff are aware of, understand and consistently follow the school/college procedures for dealing with children who go missing from education and/or home or care, particularly on repeat occasions? * Do staff understand and are alert to the signs that both boys and girls who runaway or go missing from education and /or home or care might be at risk of abuse, neglect and /or sexual and/ or criminal exploitation (CRE)? * Do children missing from school and/or home or care, particularly on repeat occasions, receive well co-ordinated responses that reduce the harm or risk of harm to them? * Are comprehensive records held and shared with relevant agencies to help and protect children? * Where parents/carers express an intention to remove a child from school to be educated at home, does the school will seek to co-ordinate a meeting with the parents/carers, Local Authority and other key professionals where possible before a final decision has been made? * Do relevant staff follow up any absences from school as per School Attendance Guidance? * Where there are any welfare or safeguarding concerns, is advice sought from the DSL or their deputy and any appropriate action taken? * Does the school/college understand that it continues to be responsible for any learner placed with an alternative provision provider and that learners in alternative provision often have complex needs and are vulnerable to additional risk of harm? *Does the setting ensure that the provider meets the needs of the learner and obtained written confirmation from the provider that appropriate safeguarding checks have been carried out on their staff and individuals working for the provider? *Are arrangements in place to ensure attendance is monitored and that there are effective safeguarding arrangements within the provision? | C10: Fully Met | D10: The school has a very detailed Attendance Policy which supports the school to help re-engage children back into school. This lists the support we offer to the child and parents, as well as the penalty fine options and the referral to DCC for court proceedings to take place. The school is aware of the responsibility to report children missing from education and those who decide to EHE and the risk of CRE that this pose. The school is aware of the need to support the missing child when they return with support from Multi-Agency professionals and offer a bespoke support plan to meet that child's needs. Records of all support and actions taken are included on My Concern. When a parent expresses an interest to educate at home a dialogue is opened with parents to discuss reasons for this and if the school can support the family and child with support from the LEA and lead professionals. Pupils who are absent from school are chased up daily for reasons why they are not in school or there is lateness. The Attendance Officer looks for patterns and follows the Attendance policy to offer support or fining where appropriate. Children that attend alternative provision continue to be monitored for attendance. The provision is checked for safeguarding and the quality of education and visits have been made to the site when the child attends. When Tailor-Made-Program has been used as an alternative provision, the school has made safeguarding checks with the agency and there is constant communication with the lead teacher on how to improve and review the educational offer to the child. | E10: Lead Name: Action/s: Timescale: Review date:
A11: 2.8 | B11: The governing body/proprietor ensures the school/college continues to be responsible for any learner placed with an alternative provision provider. Considerations: * Does the school/college recognise that learners in alternative provision often have complex needs and are vulnerable to additional risk of harm? * What steps have been taken to ensure that the provider meets the needs of the learner? * Has written confirmation been obtained from the provider that appropriate safeguarding checks have been carried out on their staff and individuals working for the provider? * Are arrangements in place to ensure attendance is monitored and that there are effective safeguarding arrangements within the provision? | C11: Fully Met | D11: Where we have used alternative provision, we have made safeguarding checks, met with the teacher beforehand on what our expectations are and we have visited the child at that provision. Tailor made program- safeguarding checks are made and there is regular communication with the lead teacher for TMP. Review meetings are offered to parents and social worker to attend. All this communication is recorded on My Concern and the outcomes of these meetings.. Alternative provision/TMP update us daily if the child has attended and we can discuss with parents where there has been no-attendance and how this can be overcome. Again, this is recorded. | E11: Lead Name: Action/s: Timescale: Review date:
A12: 2.9 | B12: A written policy for Relationships Education/Relationship and Sex Education is in place. Considerations: * Is the policy consistent with the Relationships Education, Relationships and Sex Education (RSE) and Health Education guidance? * Have parents been consulted in developing and reviewing the policy? * Does it have regard for statutory guidance and incorporate the importance of using effective quality assured resources such as those outlined in KCSIE or locally approved resources such as the Derbyshire BERT award? * Has it been reviewed and is it up-to-date? * Has it been made available to parents/carers and others? * Has the policy been published on the school website? | C12: Partly Met | D12: School has an RSE policy that has been written with support from parents’ involvement. The policy is due to reviewed summer term 2023 and is up to date. The policy is on the school website and shared with parents via emails. | E12: Lead Name: Isabel Webb Action/s: Look into the Derbyshire BERT award to be included in the RSE policy Timescale: September 2023 Review date: September 2023
A13: 2.10 | B13: Safeguarding/child protection policies are in place and other policies and procedures which come under the safeguarding 'umbrella' (for example: supporting learners with medical conditions, health and safety and well-being, including their mental health, behaviour policies which include mental health and behaviour, acceptable and non-acceptable behaviours, prevention and responding to bullying including cyber bullying, prejudiced based and discriminatory bullying, child-on-child abuse as well as screening, searching, and confiscating powers, complaints, staff behaviour policies including low-level concerns, allegations and whistleblowing, safer recruitment, online safety, physical intervention, school attendance/children missing education, Prevent action plan/risk assessment, SEND annual report and confidentiality/information sharing) are aligned. Considerations: * Is there an action plan to ensure that polices are reviewed, cross referenced appropriately and are consistent? * Are safeguarding umbrella polices reviewed in light of the outcome of the annual (as a minimum) safeguarding/child protection policy review? | C13: Fully Met | D13: School has a member of staff which tracks when policies need reviewing and taking to governors. Child Protection, Antibullying, Behaviour, data protection policies are updated annually in line with the new KCSIE. | E13: Lead Name: Action/s: Timescale: Review date:

Sheet 3. Training
A1: Section 3: Safeguarding Training
A2: Read each statement below and consider whether your setting has not met, partly or fully met the standard. It is important that you reflect on the evidence available and how you know that standards have been met or not. | C2: Status | D2: Give evidence for your current identified rating | E2: Action Planning; provide details about what plans are in place to meet or improve on the current standard. Identify who is responsible, by what date and when the progress will be reviewed.
A3: 3.1 | B3: The governing body/proprietors ensure that all staff receive appropriate safeguarding and child protection training at induction, including online safety, which is regularly updated. Considerations: * Does the schools /college refer to the DDSCP multi-agency training pathway to support decision making about appropriate training for staff? * Are there clear and effective arrangements for staff development and training? * Have the DSL, the deputy/ies and the designated governor received multi-agency training appropriate to their role in the last two years? * Have all members of the governing body/proprietors received appropriate safeguarding/child protection (including online) training at induction which is regularly updated to equip them with the knowledge to provide strategic challenge to test and provide assurance of the school/college safeguarding policies, procedures and practices ensuring a robust whole school/college approach? * Have all staff received appropriate safeguarding children training during the last three years? * Do all staff have an awareness of safeguarding issues that can impact on a child’s welfare or put them at the risk of harm including private fostering arrangements, drug taking, alcohol abuse, domestic abuse, witnessing harm to others which including witnessing domestic abuse, family members who offend or are in prison, deliberately missing education, involvement in the court system, homelessness, sharing nudes/semi-nudes, so-called 'honour based’ abuse/violence including female genital mutilation (FGM), breast ironing, virginity testing and hymenoplasty and forced marriage, sexual exploitation and/or criminal exploitation/county lines known as child at risk of exploitation (CRE), serious violent crime, child-on-child abuse (including sexual violence and harassment) and radicalisation/extremism? * Is it understood by all staff that some children are potentially at greater risk of harm? i.e. children who need a social worker, children missing from education or on part-time timetable, excluded or electively home educated, children requiring mental health support, looked after/previously looked after children, care leavers, children with special education needs and disability (SEND), neurodevelopmental conditions such as autism or health issues and children who may be or are lesbian, gay, bi, or trans (LGBTQ+)? * Do all staff understand that children can be at risk of harm inside and outside of the school/college, inside/outside of their home, in their community and online? * Are all staff aware that some children face additional barriers to telling someone or being unaware they are being harmed due to their vulnerability, disability, sex, ethnicity and or sexual orientation? *Are all staff aware of the importance of building trusting relationships with learners and the importance of being professionally curious? *Do all staff understand that an initial disclosure may only be the first incidence reported rather than representative of a single incident and that trauma can impact on memory? * Have the DSL, deputies and other relevant safeguarding staff attending early help training? * Are staff aware of the vulnerability of babies during their first year of life and understand the role they play in keeping babies safe as per the DDSCP Three Steps to Baby Safety Strategy? | C3: Partly Met | D3: Annually all staff safegurding training. PREVENT training is every three years. All new staff and governors receive safeguarding training as part of their induction and are aware of risks posed to children as they have been given training online. During training Staff are made aware that some children are more at risk than others. Staff are aware risks can be in school, at home, online or in the community. Staff are are professional curiousity and record all concerns however small. They are aware that children may not be ready to speak and the behaviour may be a demonstration of past trauma. Staff have ben trained on trauma induced behaviours from the Ed psychologist in the summer term 22. | E3: Lead Name: Isabel Webb Action/s: DDSCP multi-agency training pathway is used to support decision making about appropriate training for staff. The DSL, the deputy/ies and the designated governor received multi-agency training appropriate to their role in the last two years. DSL, deputies and other relevant safeguarding staff attending early help training. Staff to be aware of the vulnerability of babies during their first year of life and understand the role they play in keeping babies safe as per the DDSCP Three Steps to Baby Safety Strategy. School Bursar to ensure all certificates are collated and inform the Headteacher if these need completing asap. Completed Jan 23 Timescale: January 2023 Review date: January 2023
A4: 3.2 | B4: All staff receive safeguarding and child protection updates, as required. Considerations: * Do staff, including DSL's and their deputies, the chair of governors and governing body/proprietor receive safeguarding and child protection updates as required (at least annually)? * How are safeguarding updates provided, for example via email, bulletins, staff meetings? * Does the headteacher/principal and DSL, as well as other relevant safeguarding staff, receive DDSCP safeguarding updates or in Derbyshire those provided by the child protection manager for education? *Are relevant staff are provided with copies of DDSCP briefing notes and communications? | C4: Partly Met | D4: Staff and governors have annual safeguarding training. Safegurding updates are sent via the weekly briefing, discussed with staff during staff meetings and through face to face where necessary. DSL attends termly updates from DDSCP. | E4: Lead Name: Isabel Webb Action/s: Relevant staff are provided with copies of DDSCP briefing notes and communications. Ensure governors safeguarding certificates are collated so they can be accessed by the DSL and the Headteacher. Timescale: ASAP Review date: September 2023
A5: 3.3 | B5: Specific safeguarding issues training have been taken into account. Considerations: * Are staff trained to identify and reduce the risk of female genital mutilation (FGM)? * Do teachers know about and understand their mandatory duty to report to the police any known case of FGM on a girl under the age of 18? * Have staff received domestic abuse training relevant to their roles which includes children as victims and the local operation encompass arrangement Stopping Domestic Abuse Together? * Are staff aware of the need to protect children from the risk of radicalisation? * Has the DSL undertaken Prevent awareness training? * Has the DSL been supported in developing knowledge and skills to encourage a culture of listening to children and taking into account their wishes and feelings? * Has the DSL been supported to identify the impact of welfare, safeguarding and child protection issues on a child's attendance, engagement and achievement at school/college and how their education achievements could be promoted? * Are staff trained in the safe use of the internet and social media and is this integrated, aligned and considered as part of the overarching whole school/college safeguarding approach and wider staff training and curriculum planning? * Have staff had input on the importance of effective information sharing (incorporating their responsibilities in regard of the Data Protection Act 2018 and UK General Data Protection Regulation/UK GDPR) when there are concerns about a child whether this is when problems are first emerging or when a referral to another agency is required, including to local authority Children’s Social Care or where the child is already known to the local authority? * Have staff been trained to understand what child-on-child abuse is, how to identify it, address inappropriate behaviour, what to do if they believe a child might be at risk and how to how to handle reports of child-on-child abuse including sexual violence and harassment between children, both on and outside school promises in line with KCSIE? | C5: Partly Met | D5: Senior teachers have been trained in FGM and all staff understand that is their statutory duty to report known cases of FGM to the police. Staff have all had PREVENT training and understand they need to protect children from radicalisation. The DSLs have attended PREVENT and WRAP training. With all incidences the school uses a restorative approach and will call in the thoughts and opinions to educate and change thinking, to prevent radicalisation and extremism. Staff are trained on the online risks to children and the Computing lead is training staff on the Project Evolve resources in February 2023. This is cross referenced with the PSHCE and Computing curriculum. All staff are trained in GDPR and this will be updated in 23rd January 2023. As part of the annual safeguarding training staff were trained on child on child abuse and what actions should be taken. The policy that is read by all staff explains what procedures we take in school if an incident occurs. | E5: Lead Name: Action/s: * Domestic Abuse Training for all staff * Updated GDPR training * Training on the new resource Project Evolve which links to the computing curriculum. Timescale: By April 2023 Review date: September 2023
A6: 3.4 | B6: There are up to date safeguarding and online safety training (and where appropriate safer recruitment training) records for all staff. Considerations: * Does this include staff at all designated levels, including volunteers, supply staff/ contractors, DSL and their deputy/ies, designated teacher, designated governor/governors/trustee and headteacher/principal? * Is there evidence of the safeguarding/child protection training undertaken by all staff? * Who is responsible for keeping the records and ensuring they are up to date? * Where are the records located and who is able to access them? | C6: Fully Met | D6: School keeps certificates on safeguarding training that has been completed for all staff. The records are kept by the School Bursar and checked by the DSL and link safeguarding governor. Records are saved on the SharePoint and accessed by only the office and DSL. | E6: Lead Name: Action/s: Timescale: Review date:

Sheet 4. Online Safety 
A1: Section 4: Effective Approaches to Online Safety: Policy, Filtering and Monitoring and Teaching
A2: Read each statement below and consider whether your setting has not met, partly or fully met the standard. It is important that you reflect on the evidence available and how you know that standards have been met or not. | C2: Status | D2: Give evidence for your current identified rating | E2: Action Planning; provide details about what plans are in place to meet or improve on the current standard. Identify who is responsible, by what date and when the progress will be reviewed.
A3: 4.1 | B3: The governing body/proprietor has ensured there is an online safety/mobile and smart technology policy outlining a whole school/college approach to online safety to protect and educate learners (and support parents/carers awareness and understanding) and staff in their use of technology and establishes mechanisms to identify, intervene in and escalate any concerns. The school/college approach addresses the 4 areas of risk - content, contact, conduct and commerce. Considerations: * Is the online safety/mobile and smart technology policy, safeguarding/child protection policy and all other policies and procedures reflected and inter-related with the curriculum, teacher training, role and responsibilities of the designated safeguarding lead and any parental engagement? * Is this aligned with national, regional and Derby and Derbyshire Safeguarding Children Partnership safeguarding policies/procedures? * Does it include the use of mobile and smart technology and cameras in the school/college and keeping children safe when they are online at home? * Does it reference the DDSCP Briefing Note: Harmful Online Challenges and Hoaxes? * Does it incorporate whilst at school/college or outside of the school/college environment that some children will abuse, sexually harass, bully, and control their peers via mobile and smart technology or share indecent images consensually and non-consensually, and view and share pornography and other harmful content and how this will be managed? * Does it incorporate online safety resources as outline in KCSIE? * Is this cross-referenced and consistent with the school/college safeguarding/child protection policy? * Was the policy developed in consultation with a wide range of staff and learners? * Is it reviewed annually? * Are all staff aware of and understand the policy? * How are the principles of online safety across all elements of school/college life communicated to children and their parents/carers? | C3: Partly Met | D3: The school has the following policies: * Child Protection, * Online safety, * IT acceptable use policy * PSHCE policy * BYOD policy * Mobile phone use policy for children, parents and staff. Relationship and Sex education policy. School uses the model polices from DCC and adapts them to the school and these agreed by governors. These refer to KCSIE 2022 and updated statutory guidance. Policies are cross referenced with our Child Protection policy and some policies, such as the: E-safety RSE and antibullying policy, are shaped from consultation with parents and the children. The E-safety, Antibullying and IT acceptable use policy are updated annually. The other policies have a three-year cycle. Policies are shared with all staff and they are aware of these because they are shared with the children and they are discussed in staff meetings. The principles of online safety are shared through the curriculum, through special days- E-safety day/Antibullying day, through newsletters, Class Dojo, school website and opinions gain through online surveys. Workshops are offered; however, attendance is often very low. | E3: Lead Name: Isabel Webb Action/s: Include DDSCP Briefing Note: Harmful Online Challenges and Hoaxes into the school policies and How we manage abuse outside of school, and in school. Timescale: July 2023 Review date: September 2023
A4: 4.2 | B4: The governing body/proprietors are doing all they reasonably can to limit children's exposure to risks from the settings IT systems, including when children are learning online at home. Considerations: * Are appropriate filters and monitoring systems are in place which do not lead to unreasonable restrictions as to what children can be taught with regards to online teaching and safeguarding? * Are they regularly reviewed for their effectiveness? * Does the leadership team and other relevant staff have an awareness and understanding of the provisions in place, manage them effectivity, including receiving regular monitoring reports and know how to escalate concerns when identified? * Is the safe use of technology, electronic and social media by staff and learners overseen? * Are appropriate tools such as those outlined in KCSIE used to what appropriate filtering might look like and whether the filtering provider is signed up to relevant lists? * Does the school/college communicate and support parents/carers to reinforce the importance of children being safe online, the systems the school/college uses to filter and monitor online use and what children are being asked to do online, sites they will be accessing and who from the school/college their child will be interacting with online? * Are appropriate level of security protection procedures (e-security) in place, in order to safeguard the settings IT systems and everyone who uses them? Are these regularly reviewed? | C4: Fully Met | D4: School uses the RM filtering. Which is regularly updating words and phrases into its list. The school uses https://safetynet.rm.com/ Alerts are sent to the headteacher if an unsafe word has been used, and filtering is checked regularly. Staff are overseen by all staff through the Low-level concern policy and the Managing Allegations policy. Teaching staff oversee that of children as well as children overseeing each other and reporting concerns. Regular checks are made by teachers through looking at search history on iPad and laptops. Headteacher has alerts sent if any inappropriate words are searched, if this is a child or adult log on, and what time this has happened. Online safety at home is shared on the school website and through newsletters, how to set filtering in place and apps that around and age restrictions and concerns they may pose. E-safety policy which was updated with children and parents. Workshops have been led on line safety at home, but there was poor attendance at this. | E4: Lead Name: Action/s: Timescale: Review date:
A5: 4.3 | B5: The governing body/proprietors ensures that an annual review of the approach to online safety is completed, supported by an annual risk assessment that considers and reflects the risks children face and supports assessing wider online safety policy and practice. Considerations: * Does the governing body/proprietor/trustees refer to the Questions for the Governing Board Online Safety in schools and colleges to support their reflections as outlined in KCSIE? * What systems are in place to review online safety? Note: Does the school/college use the free 360 safe online safety review tool for schools and other supportive tools outlined in KCSIE? * Are these used annually as a minimum? * How have they impacted on online safety policy and practice, including remote learning? | C5: Fully Met | D5: The school completed the LGfl safeguarding audit which was written in discussions with the link governor and shared/reviewed by Full Governors in October 2022. School has written policies in discussion with pupils and parents- E-safety, IT acceptable use and Antibullying policy. | E5: Lead Name: Action/s: Timescale: Review date:
A6: 4.4 | B6: The governing body/proprietors have ensured there is a planned education programme informed by Teaching Online Safety in Schools and Education for a Connected World and Project Evolve takes place through relationship education/relationship and sex education/PHSE/ ICT/other lessons and across the curriculum and elsewhere, and is regularly revisited to ensure that it is up-to-date and effective. Considerations: * Are learners are aware of online safety issues, including sharing nudes/semi-nudes and understand and follow the online safety, use of mobile technology and acceptable use policies? * What strategies are in place to keep children safe, including when they are online at home, and to support them to develop their own understanding of these risks and in learning how to keep themselves and others safe, including offline/online bullying, including sharing nudes/semi-nudes, safe use of the internet and social media? * Is the education and protection of vulnerable children/young people who may be put at particular risk from their own and others’ actions on-line effective? * What actions are being taken to encourage and support learners that it’s safe to tell a trusted adult about any online concerns they may have? * Are parents/carers engaged in school/college activities which promote the agreed principles of online safety? *Are parents/carers informed and supported to effectively respond and protect children when they raise any online concerns without further punishing children by automatically removing access to their devices? * Is the effectiveness and impact of online safety teaching and the resources used regularly evaluated? | C6: Partly Met | D6: Pupils have their own IT acceptable use policy which they review annually during E-safety day. This encourages pupils to speak out about worries online with a trusted adult The school have i-vengers in school to keep everyone safe and share online safeguarding tips. Online safety is taught through the computing and PSHE curriculum which is supported with Education for a Connected Resource and PSHE matters supporting healthy relationships. An overview of the online safety is shared in the newsletter and through consultation on the E-safety policy. The online safety is reviewed and updated with new resources, such as for 22/23 we use Project Evolve and objectives from the Educated from the Connected World. | E6: Lead Name: Isabel Webb Action/s: Train staff on the use of calling in concerns rather than calling out so children are not scared to share their concerns. Parents informed to call things in during online safety concerns. Timescale: February 2023 Review date: April 2023
A7: 4.5 | B7: Do all staff understand the risks posed by adults/young people/children who use technology, including the internet, to bully, groom, radicalise or abuse children, young people and vulnerable adults? Considerations: * What steps have been taken to help staff understand these issues? * How are school/college staff are kept up-to-date about the safe use of internet/ social media and are aware of where they can go for expert advice? * Is action taken immediately when there are concerns about bullying, risky behaviours, sharing nudes/semi-nudes, child-on-child abuse, or children’s well-being? | C7: Partly Met | D7: DSL attends termly safeguarding meetings and staff know to speak to the DSL for support if needed. When staff become aware of online concerns, they follow the policy on dealing with child on child abuse and listen to the children and discuss with the DSL on how to support the children. Parents are informed and all actions are recorded on My Concern. | E7: Lead Name: Action/s: Training to be given on the new Education for Connected World Timescale: Review date:

Sheet 5. Safe Enviro
A1: Section 5: Section 5: Ensuring a safe environment for all children
A2: Read each statement below and consider whether your setting has not met, partly or fully met the standard. It is important that you reflect on the evidence available and how you know that standards have been met or not. | C2: Status | D2: Give evidence for your current identified rating | E2: Action Planning; provide details about what plans are in place to meet or improve on the current standard. Identify who is responsible, by what date and when the progress will be reviewed.
A3: 5.1 | B3: The governing body and proprietor ensure that children are taught about how to keep themselves and others safe, including online. Relevant topics included within relationships education/relationships and sex education and health education and reinforced throughout the whole curriculum. Considerations: * Are relevant topics included within relationships education/relationships and sex education and health education? * Does it have regard for statutory guidance and incorporate the importance of using effective quality assured resources such as those outlined in KCSIE or locally approved resources such as the Derbyshire BERT award? *How does the curriculum etc enable learners to learn and understand healthy relationships online and offline and recognise risks? * How are they supported to develop positive relationships, resilience, and virtues? * Are learners taught about physical health and mental well-being to give them the information that they need to make good decisions about their own health and wellbeing and, when issues arise, know how to seek support as early as possible from appropriate sources? * Is the programme fully inclusive and developed to be age and stage of development appropriate? * Is it tailored to the specific needs of individual children, including children who are victims of abuse and children with SEND? * How is it incorporated and form part of the whole school/college approach that prepares learners for life in Modern Britain and creates a culture of zero tolerance for sexism, misogyny/ misandry, disablism, racism, homophobia, biphobia and sexual violence and harassment? * Is it cross referenced and consistent with the behaviour policy? | C3: Partly Met | D3: The school uses the Education for a Connected World Objectives which are mapped across the computing and PSHCE curriculum. This covers online safety, relationships, online security and sending photographs to others at an age appropriate level. This resource is identified in the KCSIE 22. The curriculum looks at healthy and unhealthy relationship and what actions to take to keep themselves safe. The curriculum is also supported through whole school assemblies on the school values of: respect, fairness, trust, togetherness, aspiration and perseverance. Issues and concerns raised from the playground are dealt with in a restorative approach to listen to the children and help them to solve the difficulties that they deal with. If needed 1:1 support is given in nurture or group sessions - Lego therapy and nurture. All children take part in the curriculum but the 1:1 is bespoke to if the children are struggling and need extra support in these areas. Children learn to celebrate differences. | E3: Lead Name: Helen Taylor Action/s: * Look at our mental health offer and how we can support children more. Train a staff member on being a mental health lead. * Use the Anna Freud resources on racism to create a policy and support the PSHCE curriculum. Timescale: January 2023 Review date: April 2023
A4: 5.2 | B4: Learners are aware of safeguarding risks, recognise when they are at risk and how and where to get help and support if they need it. Considerations: * How are learners helped to understand safeguarding risks and recognise when they are at risk? * How are learners enabled to learn, understand and are supported to keep themselves safe; for example around using the internet/social media, emotional well-being and mental health, exploitation, domestic violence, so called ‘honour-based’ abuse, including female genital mutilation and forced marriage, substance misuse, serious youth violence, hate crime, radicalisation and extremism? * Do learners have an awareness of the support available to them in and outside of the school/college environment and know how and where to get help and support when they need it? * What systems are in place for learners to report their concerns? Are they well promoted, easily understood and easily accessible? * How does the school/college reduce the additional barriers which some children face such as those who may or are LGBTQ+ and children with SEND? * Are these children provided with a safe space for them to speak out or share their concerns with staff? * Do learners feel confident to report any concerns, knowing that they will be taken seriously, regardless of how long it may have taken them to come forward, kept safe and not made to feel ashamed? * Can learners identify a trusted adult with whom they can communicate about any concerns? * Where a child/children have been or are at risk, has a trusted adult has been instrumental in helping them to be safe in accordance with local procedures? * Do learners know how to complain and understand process for doing so? | C4: Fully Met | D4: Children are given scenarios to discuss and what actions should be taken. The school is support by the NSPCC resources and they lead workshops in school on this. School also has an annual E-safety day to discuss how to keep themselves safe online, and we have E-safety ambassadors- i-vengers- to promoting keeping otehrs safe online. The NSPCC number is shared with the children and is on display in the children's toilets if they want to look at the poster without anyone else looking. Children can report concerns in the following ways: * To a trusted adult in school verbally * To a trusted adult in school through the STOP signs found in their classrooms on the display boards around school and on the playground. * Through the worries box in the classroom. * Through the Antibullying survey. * To a trusted friend who will let a trusted adult know. Learners know who the trusted adults are in school as these are on display on their safeguarding boards. Actions and support given to a child to support to keep them safe is written up onto my Concern and the outcomes of this. | E4: Lead Name: Action/s: Timescale: Review date:
A5: 5.3 | B5: Children are protected and helped to keep themselves from bullying, homophobic behaviour, racism, sexism, and other forms of discrimination. Considerations: * How are discriminatory behaviours and derogatory language, including language about disabled people and homophobic, biphobic, sexist, and racist language, challenged? * Is help and support are given to children about how to treat others with respect, including those who have protected characteristics under the Equality duties? | C5: Partly Met | D5: Children are called in and educated on the derogatory and racist language used to reduce radicalisation and encourage inclusion. The school has a range of books and social stories to support inclusion and the education of this on a bespoke 1:1 level. | E5: Lead Name: Isabel Webb Action/s: Map out where respecting diversity and challenging derogatory language is in the curriculum. Use the Anna Freud resources to write a school policy and update the curriculum. Timescale: January 2023 Review date: April 2023
A6: 5.4 | B6: The school/college has clear systems and processes in place for identifying possible mental health problems. Considerations: * Is there a senior mental health lead? * Has the school/college developed their own bespoke Derby and Derbyshire Mental Health Pathway Guidance outlining the supports available within the establishment and externally? *Do staff access a range of advice to help them identify children in need of mental health support, including working with external agencies? * Are there clear routes to escalate and clear referral and accountability systems, including when mental health concerns about a child is also a safeguarding concern? * Are all staff aware that mental health problems can be an indicator that a child has suffered or is at risk of suffering abuse, neglect, or exploitation? | C6: Partly Met | D6: In school, we have some mental health first aiders in school. The school works alongside other agencies to support mental health in school including: school nurse, CAHMS, Family support worker, Early Help workers, Crossroads, Behaviour support, Educational Psychologist and social worker. Staff are aware that mental health problems are an indicator of abuse, neglect or exploitation. | E6: Lead Name: Isabel Webb Action/s: * Clear routes to escalate and clear referral and accountability systems, including when mental health concerns about a child is also a safeguarding concern written into policy and procedures. * Staff member trained as a senior mental health lead? * Develop a bespoke Derby and Derbyshire Mental Health Pathway Guidance outlining the supports available within the establishment and externally Timescale: July 2023 Review date: September 2023
A7: 5.5 | B7: There is an effective up-to-date school behaviour policy which incorporates child-on-child abuse (including sexual violence and harassment), mental health issues, learning disabilities and neurodevelopmental conditions such as autism and behaviour. Consideration: * Is the policy reviewed annually as a minimum? * Is the policy consistent with DfE guidance? * Do staff promote a positive culture and positive behaviours? * Do they respond with clear boundaries about what is inappropriate, safe and acceptable? * Do staff understand the behaviour triggers and consistently use effective de-escalation techniques and creative alternative strategies as appropriate? * Does the policy include searching, screen and confiscation which has regard to the DfE guidance? | C7: Partly Met | D7: The behaviour policy is reviewed annually as a minimum, which is consistent with DFE guidance. Staff promote positive culture and behaviours. Clear boundaries are set by staff and shared with children on what is acceptable and not acceptable. The school uses de-escalation techniques and looks for triggers in pupils’ behaviours to reduce these- such as sensory needs- offering alternative strategies and behaviour plans. School has a separate searching, screen and confiscation policy which has reviewed and agreed by governors. | E7: Lead Name: Helen Taylor Action/s: Include child-on-child abuse (including sexual violence and harassment), mental health issues, learning disabilities and neurodevelopmental conditions such as autism and behaviour in the behaviour policy. Timescale: April 2023 Review date: September 2023
A8: 5.6 | B8: The establishment has an effective anti-bullying policy either as a standalone policy or as part of another relevant policy such as the behaviour policy. Considerations: * Has the policy been reviewed in the last two years? * Is it consistent with current anti-bullying guidance, including cyber-bullying, and sexual violence and harassment in schools and colleges? * Is it known and understood by all staff and learners and their parents/carers? * Is there is a strong culture and ethos within the setting which promotes a clear understanding of what bullying is and what behaviours are acceptable and unacceptable? * Is there a clear process for dealing with incidents with all learners and their parents/carers? * Is the anti-bullying policy easily available to learners and parents and carers? | C8: Partly Met | D8: The Antibullying policy is reviewed with children and parents and we have a standalone policy for children and adults on display in classrooms, playground and on the school website. Children report in the survey that they have learnt about bullying and they know what this is. They understand what bullying is and understand what actions should be taken for the bully and the perpetrator. School uses restorative practise which is included in the policy procedures, including creating bespoke educational support to children involved. | E8: Lead Name: Helen Taylor Action/s: Include child-on-child abuse (including sexual violence and harassment), mental health issues, learning disabilities and neurodevelopmental conditions such as autism and behaviour in the behaviour policy. Timescale: April 2023 Review date: September 2023 +E8:E9
A9: 5.7 | B9: Staff work in-line with use of reasonable force in schools and refer where needed to the Reducing the need for restraint and restrictive intervention guidance. Considerations: * Is the staff team able to develop effective responses, including identification of possible mental health problems, learning disabilities or neurodevelopmental conditions such as autism, early intervention and where appropriate referral to skilled professionals? * Are these are reviewed and monitored to ensure children are protected and kept safe? * Are effective de-escalation techniques and creative alternative strategies used that are specific to the individual needs of a child i.e. those which might be the result of educational, mental health, other needs or vulnerabilities? * Do children presenting risky behaviours receive positive support from staff, who respond with clear boundaries about what is safe and acceptable and seek to understand that triggers for the child’s behaviour? * Are staff able to develop effective responses as a team and review these to assess the impact, taking into account the views and experiences of the child? * How staff are supported to make reasonable judgements in conjunction with using the legislative framework about when it might be appropriate to use physical contact with a child to protect them and those around them from injury? * Are all incidents are reviewed, recorded and monitored? * Are the views of the child are sought and understood? * Is management of behaviour monitored to ensure it is effective and the use of any restraint significantly reduces or ceases over time? | C9: Fully Met | D9: Staff have had autism training to identify what this could look like in school and how we can support their sensory needs. School has a confiscation and screening policy. School writes behaviour plans which are updated to as the needs of the child changes and these are shared with all staff. Staff respond positively to the children who struggle with their behaviour and use de-escalation strategies, explain what is safe to the children. Effective responses and reviews of steps taken are used to update the behaviour plans, which are discussed and shared with the children and parents. School understand the legislation on physical contact and are aware to ensure they keep themselves safe first before items are taken away to keep the child safe. All incidences are recorded on My Concern with actions taken, with reflection and restorative discussions afterwards to identify the triggers. Behaviour monitoring occurs through looking for patterns in days and areas of the school. | E9: Lead Name: Action/s: Timescale: Review date:
A10: 5.8 | B10: The establishment’s physical environment is safe and secure. Considerations: * Does the establishment maintain a safe and secure physical environment which protects children from harm and the risk of harm? * Is access to the school/college premises secure? * Are appropriate checks undertaken on supply staff, contractors, visiting speakers and visitors to the school/college? * Does the setting refer to the DDSCP Briefing Note: Access to Schools by Staff from Other Agencies in their roles and responsibilities in respect of providing access to children for assessment and the checks required on visitors to schools? * Does the DSL contribute to the school/colleges health and safety assessment? | C10: Fully Met | D10: The school environment is kept safe for the children which protects children from harm. Surveys are completed to ask where children do not feel safe which is shared with governors with actions taken. Access to school is secure. Safeguarding checks are completed on all visitors into school, with contractors sending over documents to confirm the checks have been completed. School has a copy of the Access to Schools by Staff from Other Agencies in their roles and responsibilities in respect of providing access to children for assessment and the checks required on visitors to schools. The DSL completed the H and S walkaround with the governor and caretaker. | E10: Lead Name: Jo Cox Action/s: Look at a fob entry system. Timescale: February 2022 Review date: April 2022

Sheet 6. Safeguarding & Welfare
A1: Section 6: Safeguarding and Promoting the Welfare of Children
A2: In order to complete this section, please consider how many concerns about individual learners welfare, including pastoral support, emerging needs, complex needs or child protection concerns the establishment recorded during the current academic year. Reflect on how many of these concerns related to learners: * With disabilities/ special educational needs? * Where there were concerns about radicalisation? * Where there were concerns about domestic abuse, including any identified via Stopping Domestic Abuse Together (SDAT) notifications? * Where there were concerns about child-on-child abuse? * Where there were concerns about a child’s mental health? This should include understanding and reflecting local authority Assessment Protocols, the DDSCPs Thresholds document, Dispute Resolution and Escalation policy, Child Protection Conference Dissent policy and appropriate information sharing as outlined in national and local guidance documents.
A3: Read each statement below and consider whether your setting has not met, partly or fully met the standard. It is important that you reflect on the evidence available and how you know that standards have been met or not. | C3: Status | D3: Give evidence for your current identified rating | E3: Action Planning; provide details about what plans are in place to meet or improve on the current standard. Identify who is responsible, by what date and when the progress will be reviewed.
A4: 6.1 | B4: As part of the school/college early help offer an early help assessment is considered and progressed for children with emerging needs to prevent child protection concerns developing. Considerations: * Are staff able to identify children who may be in need of extra help via either pastoral support or early help processes within the setting or in the family or wider community? * Does the school/college routinely consider extra pastoral support for children with special educational needs and disabilities or health issues and ensure that appropriate support for communication is in place? * Do all staff recognise the indicators and signs of child-on-child abuse (including sexual violence and harassment), know how to identify it, respond to disclosures and who to report it to? * Are children's wishes and feelings taken into account when determining what action to take and the services to provide? * How does the DSL and other relevant staff promote supportive engagement with parents/carers in safeguarding and promoting the welfare of children, including where families may be facing challenging circumstances? * Are the emerging needs discussed with parents/carer, (and/or where appropriate children and young people) and consent sought according to local procedures? * Does the DSL or deputy liaise with the senior mental health lead (and mental health support team where available) where safeguarding concerns are linked to mental health? * Following reports of concerns or abuse involving learners with SEND is there close liaison between the DSL or their deputy and the SENCO or person with oversight of SEND? * Are staff members liaising with other agencies, setting up inter-agency assessment and where appropriate undertaking lead professional role, supported by the DSL? * Do all of these have a written plan in place? * Are cases kept under constant review and is consideration given to a referral to local authority children’s services where needs escalate requiring intensive support or where specialist input is required i.e. child in need or child protection? * Where concerns involve children where there were indicators of exploitation, was a CRE risk assessment (from Derby and Derbyshire CRE Toolkit) completed for each child, to support decision making about the actions to be taken? * Are other relevant locally agreed assessment tools or guidance referred to and completed used where appropriate to support identification of need and the level of interventions required? For example Domestic Violence Risk Identification checklist (DVRIM), DASH Risk Identification checklist, Neglect and Graded Care Profile, Child Sexual Abuse within the Family Guidance for practitioners and managers, Self-harm and Suicidal Behaviour Guidance Working with children and young people in Derby City and Derbyshire or Stop it Now Sexual Behaviours Traffic Light Tool. * Are national guidance tools used to support decision making? For example contextual safeguarding tools, Sharing nudes and semi-nudes: advice for education settings working with children and young people or NPCC When to call the police; guidance for schools and colleges. * Do staff have an understanding of when to make referrals when there are issues concerning sexual and/or criminal exploitation (CRE), domestic abuse, a child’s mental health, neglect, child-on-child abuse, radicalisation and/or extremism or that they have sought additional advice/support? | C4: Fully Met | D4: Staff suggest referrals and concerns about children to the DSL, SEND or Attendance Officer. Children with SEND receive pastoral support where needed. All staff are trained on signs for child-on-child abuse, how to respond to the child and to report this to the DSL through My Concern. School takes a restorative approach which is centred around the child and their wishes and what they want. However, if a child is at risk of immediate harm we do not promise that we will not tell anyone. The school has an emphasis on improving communication. Teachers engage with parents at the school gates, through emails and Class Dojo. The pastoral manager may step in and offer support at the very early signs of a concern, to build relationships, which aims to support engagement and improved behaviour and safety for the child. Concerns and referrals are under constant review and these are updated on My Concern. CRE risk assessments are used where necessary. The school is aware of assessment tools and will use these where appropriate. | E4: Lead Name: Action/s: Timescale: Review date:
A5: 6.2 | B5: When a child has an early help assessment led by local authority children’s services, a Child in Need plan or a Child Protection Plan in place, the school/college works in partnership with external agencies, the child and their family regarding the concerns. Considerations: * Is the school/college clear about their role, the actions to be taken by the establishment as well as other agencies to protect and promote the welfare of the child? * Is there a clear action plan and review process? * Does the plan include the action to be taken if a professional has further concerns, or information to report? * Is there is regular and effective liaison with other agencies where appropriate? * Does the school/college prioritise staff attendance at relevant meetings and provide reports using the agreed report templates and within agreed timescale as required? *Staff share school/college safeguarding reports with parents/carers and where appropriate children? * If possible, are arrangements in place to provide information and attend meetings during school holidays? | C5: Fully Met | D5: The school is aware that the CiN plan or Child Protection plan, this is where the school working alongside the family and other agencies to support the safety of the child. Action plans are shared with the school when necessary. The school knows how to escalate concerns if they are unhappy with other professionals’ responses. All contact with other agencies is recorded in my Concern. School will always send a representative to the meetings regarding the safeguarding of children. Reports written for Child Protection meetings are shared with parents beforehand. | E5: Lead Name: Action/s: Timescale: Review date:
A6: 6.3 | B6: Safeguarding/child protection concerns requiring intensive, or specialist support are immediately shared with the Local Authority Children's Social Care via telephone (urgent concerns) or online system (non-urgent) or in Derby only via a locality vulnerable children’s meeting (VCM). Considerations: * Are staff able to identify children where there are complex needs or child protection concerns either within the setting or in the family or wider community, and take the appropriate and necessary action in accordance with local procedures and statutory guidance? * Are risks associated with children offending, misusing drugs or alcohol, self-harming, going missing, have experienced or are at risk of FGM/other so called ‘honour-based’ abuse or being vulnerable to radicalisation or being exploited are known and shared with local authority children’s social care or other relevant agency? * Are children supported, protected and informed about what action the adult is taking to share their concerns? * Are children's wishes and feeling taken into account when determining what action to take and the services to provide? * Are parents/carers made aware of concerns and is consent sought according to local procedures? * Where referrals are made by anyone other than the designated safeguarding lead, is the DSL is informed as soon as possible afterwards? * In all cases is a record of discussions, decisions, actions taken and referral, including referral outcome retained? * Where there are urgent concerns and a telephone referral is made, is this is followed up ‘in writing’ within 48 hours using the appropriate Derby or Derbyshire local authority children's social care referral system? * Is there a record of the outcome for all referrals to local authority children's social care, including those made via VCM (Derby only)? * Where referrals have resulted in a strategy meeting, has the school/college attended (including virtual meetings) or provided information? * What considerations and arrangements are in place during school holidays for attendance at or provision of information at strategy meetings or other key safeguarding meetings such as child protection conferences? | C6: Partly Met | D6: Staff are able to identify where there are complex needs and how to make a referral for additional support- nurture, Lego therapy, 1:1 bespoke support, attendance officer, family support worker, speech and language, school nurse, Ed psych, Behaviour support, social services etc. Risks are written up on My Concern and shared with other professionals to discuss what support can be offered. Support offered is shared with the child and they are asked their views on this, which feeds into the meetings. Concerns are shared with the parents before referrals are made unless this will pose a risk to the child. All discussions and concerns are written up on My Concerns to look for patterns later. There is a record of all referrals made and outcomes. A representative of the school attends all meetings and during holidays notes are sent to meetings if staff cannot attend. | E6: Lead Name: Isabel Webb and Kirsty Meehan Action/s: telephone referrals are followed up with a written referral to starting point within 48 hours. Timescale: ASAP when appropriate Review date: September 2023
A7: 6.4 | B7: The DSL is effective in pursuing concerns, where appropriate pressing for re-consideration and protecting children throughout all safeguarding processes and promoting their educational outcomes. Considerations: * Is the DDSCP Dispute Resolution and Escalation policy used when there is a difference of professional opinion about the seriousness of a situation or the proposed action? * When there are concerns about the outcome of a Derby or Derbyshire child protection conference, does the DSL use the relevant Child Protection Conference Dissent policy? * In what ways does the DSL promote the educational outcomes of children who have or who have had a social worker? * Are all escalations, child protection conference dissent and actions to promote education outcomes recorded in the child's safeguarding/child protection file and the outcome and actions to be taken noted? | C7: Fully Met | D7: The Escalation and the Dissent policy is used when there is a difference of opinions of the situation and proposed actions. The DSL promotes educational outcomes of the children who have a social worker by attending meetings and reporting on academic outcomes, engagement of child and parent, attendance, presentation in school, social skills, engagement in parents’ evenings and supporting homework. The school has not used any escalation and dissent, but this would be recorded on My Concern when necessary. | E7: Lead Name: Action/s: Timescale: Review date:
A8: 6.5 | B8: The governing body/proprietor has ensured that all staff have the skills, knowledge and understanding to keep looked after children and previously looked after children safe. Considerations: * Has the governing body/proprietor appointed a designated teacher for looked after children with the appropriate training, relevant qualifications and experience? * Have appropriate staff the information they need in relation to the child's looked after legal status, contact arrangements with birth parents or those with parental responsibility and their care arrangements and levels of authority delegated to the carer? * Does the DSL have the details of the child's social worker and the name of the virtual school head in the LA that looks after the child? *Is the DSL and designated teacher working in partnership to keep looked after and previously looked after children safe and promote their educational outcomes? * Are educational arrangements in place with the local authority where the child resides? * Is the designated teacher working with the staff from the virtual school to promote the educational achievements of children who are looked after or have previously been looked after? * Have there been discussions about how best to use pupil premium funding for the child? * Are personal education plans in place for every looked after child and are these regularly reviewed within agreed timescales? * Is the school/college working in partnership with the virtual school head (maintained schools and academies only), external agencies and the child; and taking prompt action when necessary? * Does the designated teacher contribute to and attend LAC meetings for children who are looked after? * Are key staff such as the governing body, headteacher/principal, DSL, SENCo and senior mental health leads working with the virtual school head to overcome the barriers and promote attendance, attainment and progress of children who have or have had a social worker? * Does the DSL have details of the personal advisor appointed to guide and support care leavers and liaise with them regarding any issues of concern? | C8: Fully Met | D8: The school has a designated teacher for LAC pupils and she has been given SENDCO training. The school works with the social worker when dealing with LAC children and we work in partnership with all the professionals. Staff discuss the best use of the pupil premium funding and a provision map shows where the support is offered. Currently the school has no LAC | E8: Lead Name: Action/s: Timescale: Review date:
A9: 6.6 | B9: Staff receive regular supervision and support if they are working directly and regularly with children where there are concerns about their safety and welfare. Considerations: *Is there a school/college supervision policy either standalone or part of another relevant policy, outlining which staff will receive supervision, who will do this (internal/external), the supervision model being used, roles/expectations of those involved and recording processes? *Is supervision linked to staff development and learning? * Do supervision support processes include local and national policies, procedures, and guidance and where to seek advice? | C9: Not met | D9: School is beginning to use peer coaching to support staff members. | E9: Lead Name: Isabel Webb Action/s: School needs to look into improving the supervision support in school Timescale: April 2023 Review date: September 2023

Sheet 7. Record Keeping
A1: Section 7: Safeguarding Record Keeping Processes
A2: Read each statement below and consider whether your setting has not met, partly or fully met the standard. It is important that you reflect on the evidence available and how you know that standards have been met or not. | C2: Status | D2: Give evidence for your current identified rating | E2: Action Planning; provide details about what plans are in place to meet or improve on the current standard. Identify who is responsible, by what date and when the progress will be reviewed.
A3: 7.1 | B3: The governing body/proprietors ensure the establishment has a defined process on safeguarding record keeping whether that be through paper files and systems or electronic systems such as CPOM’s or My Concerns, in line with the Data Protection Act (DPA) 2018 and UK General Data Protection Regulation (UK GDPR) to ensure that personal information is processed fairly and lawfully and kept safe and secure and where appropriate is shared to support the safeguarding of children and individuals at risk. Considerations: * Is there an agreed pro-forma for recording child welfare and child protection concerns? * Is the safeguarding record keeping processes outlined in safeguarding/child protection policy? * How do you ensure all staff are aware of and understand the process? * Are records kept securely away from main learner files? * Who has access to these records? * Who manages the records in the absence of DSL or deputies? | C3: Fully Met | D3: The school uses My Concern and a DPIA has been written for this and is included on the data map. My Concern opens and lists all relevant questions to be completed, so there is a clear proforma. All staff have a login and are given training on how to sue this during their induction. The expectation to report on My Concern is included in the staff handbook and Child Protection policy. Only the DSL can access all the concerns and there is a written rational when some is able to see a concern or be a team around the concern on My Concern. There are three DSL's and if they are absent there is an agreement in place for advice to be sort from the Infant school headteacher/DSL. | E3: Lead Name: Action/s: Timescale: Review date:
A4: 7.2 | B4: The governing body/proprietors ensure the school/college routinely asks parents/carers and records and maintains up-to-date records of who has parental responsibility for each learner and where reasonably possible holds more than one emergency contact number for each learner. Considerations: * Parental responsibility, emergency contact numbers and private fostering is routinely asked about, recorded and up to date records maintained? * Who has parental responsibility is known by relevant staff, and updated at least annually? * Are all staff aware of what private fostering arrangements are and how to report it within the establishment? * Is local authority social care consistently informed when a learner is in a private fostering arrangement? | C4: Partly Met | D4: Parental responsibility and emergency contact numbers are routinely asked about to keep records up dating and teaching staff have a professional curiosity to ask if a child is being cared for by someone else other that Mum and Dad. The guidelines for private fostering is shared with parents on Class Dojo, through the newsletter and on the school website. Parental responsibility is known by relevant staff and this is updated annually. The DSL/Headteacher knows to inform the local authority if a child is in a private fostering arrangement. Staff are aware of private fostering and report it to the DSL if they believe arrangement have changed on who is caring for the child. | E4: Lead Name: Isabel Webb Action/s: * Use the review of the contact details to ask questions if parents/ carer are in a a private fostering arrangement. * Revisit the private fostering guidance and remind staff what to do if they believe arrangements have changed. Completed Dec 23 Timescale: September 2023 Review date: October 2023
A5: 7.3 | B5: Governing body/proprietors ensures that child protection files, whether that be through paper files and systems or electronic systems such as CPOM’s or My Concerns, are maintained as per KCSIE 2022 to ensure the safeguarding record keeping process effective and regularly reviewed. Considerations: * Are records kept securely away from main learner files? * Do records include a clear summary of the concern, details of how the concern was followed up/resolved, decisions made, actions taken and outcome, including any dispute resolution and escalation? * Do records incorporate a chronology? * Are concerns (including Stopping Domestic Abuse Together notifications), the decisions made and reasons for them as well as the actions and outcomes are routinely and clearly recorded in a timely way? * Are records only accessed by those who need to see it? * Are records shared appropriately and where necessary, with consent? *Are safeguarding recording processes (including recording outcomes for each concern) re-viewed/quality assured as part of safeguarding/child protection policy annual (as a minimum) review? *Did the review consider if the child’s journey and their wishes and feelings were evidenced? | C5: Partly Met | D5: Safeguarding records are kept separately on My Concern. The records show what has happened, who was involved, who reported the concern, actions taken and a chronology of the events. Domestic Violence notifications have been recorded on My Concern and followed up by speaking to parents and the child involved. This is all recorded on My Concern. All users are given access depending on their role and access is carefully considered on a need to know basis. | E5: Lead Name: Isabel Webb Action/s: * Re-check safeguarding concerns for good practise and evaluate if these could recorded or actioned more effectively; ensuring the children's views are gathered. Timescale: January 2023 Review date: April 2023
A6: 7.4 | B6: The Designated Safeguarding Lead ensures safeguarding/child protection files are securely trans-ferred to the new establishment as soon as possible, separate to main file and confirmation of receipt obtained. Considerations: * Is there an agreed file transfer policy/protocol/process to ensure when a child moves school/education provision their safeguarding/child protection file is sent securely to their new education provider? * Numbers of learners with safeguarding/child protection files who have transferred to a new school or college in year or start of a new term? * Of these, are records transferred as soon as possible and within 5 days of an in-year transfer or within 5 days of the start of a new term? * Have confirmation of receipts for all transferred files been obtained? * Has the DSL also considered if it would be appropriate to share any information, or had a discussion with the new education provider in advance of the child leaving e.g. children with or who have had a social worker, victims of /or perpetrators of child-on-child abuse or those receiving support through the Channel programme or mental health services? * Did this include the information to ensure that any support and any reasonable adjustments can be put in place to ensure a seamless transition ensuring the child’s safety and enabling a positive integration experience and engagement with new staff and learning? * Were dates of any meetings, name of social worker/other key worker and their contact details given to the new provider? *Where a transferred to a new school/college, has the DSL liaised with the previous settings DSL to clarify any information, concerns, and support needs? | C6: Fully Met | D6: Safeguarding files are transferred via My Concern portal if the receiving school has My Concern. Otherwise files can be transferred via password protection or printed and sent via recorded delivery. These are kept separately from the children's information files and will be signed for if these are posted, physically transferred with a receipt obtained. Discussions with the new DSL at the receiving school will be had regarding any social care or safeguarding issues before the children start at the school. On one occasion we made a booklet of positive experiences that had been had at the school to support memories of moving on. Names of professionals involved are shared. | E6: Lead Name: Action/s: Timescale: Review date:

Sheet 8. Safer Recruitment
A1: Section 8: Safer Recruitment
A2: Read each statement below and consider whether your setting has not met, partly or fully met the standard. It is important that you reflect on the evidence available and how you know that standards have been met or not. | C2: Status | D2: Give evidence for your current identified rating | E2: Action Planning; provide details about what plans are in place to meet or improve on the current standard. Identify who is responsible, by what date and when the progress will be reviewed.
A3: 8.1 | B3: The governing body/proprietors have adopted best practice and robust recruitment and selection processes in line with national guidance ‘Keeping Children Safe in Education’, ‘Disqualification under the Childcare Act (2006) as amended 2018: statutory guidance for local authorities, maintained schools, academies and free schools’ (including further education settings) and Disclosure & Barring Service (DBS) requirements, including risk assessment and supervision of volunteers and visitors and section 128 checks. Considerations: * Is there a safer recruitment and selection policy which includes issues to do with child protection and safeguarding children at every stage of the process - adverts, application forms, shortlisting, employment history, references, selection and pre-appointment vetting checks, regulated activity and recording? * Are copies of curriculum vitae only accepted alongside an application form? * Are online searches carried out as part of due diligence on shortlisted candidates? * Is there an agreed process/procedure for online searches including liaison with HR, who will complete the search and who will review findings? * Is there a DBS policy statement for governors/ trustees, associate members, staff, supply staff, volunteers, contractors, trainee students and students on placement? * Does this include risk assessment and recording process to support decision making whether to obtain an enhanced DBS certificate for any volunteer not engaged in regulated activity? * Does this include obtaining written notification from any agency, third party organisation or initial teacher training provider that they have caried out checks on an individual that the school/college would otherwise perform? * Has the school/college obtained a copy of the DBS certificate before supply staff begin work at the school/college, where their DBS checks have disclosed any matter or information – or any information that was provided to the employment business? * Does the school/college check that the supply staff presenting themselves for work is the same person on whom the checks have been made? * Where contactors are used to provide services, are safeguarding requirements and the check needed set out in the contract? * Does the school/college check the identity of contractors on arrival at the school/college? * Is there a policy for the supervision of volunteers? | C3: Partly Met | D3: Recruitment and Selection policy updated to KCSIE 22 taken to the Resources committee Nov 22. We only accept application forms completed on a DCC format. These are stored in the personnel files. Online searches are carried out and recorded that they have been complete on the application form. The school has just started using HR's online searches paperwork which allows for questions to be asked during interview if inappropriate content is found. This includes a risk assessment on the findings to help the interview panel review and decide if this person is safe to recruit and work with children. Checks are obtained from supply agencies, taxi companies, universities to ensure all adults that are working in the school have the right to work in the UK and they have Safeguarding checks and training. These emails or letters have been saved next to the SCR on SharePoint. Before staff work in school, their id and DBS is checked and if coming into school regularly they will be added to the SCR. Nobody is allowed to be left alone with the children if we have not had checks safeguarding checks sent over beforehand. If no checks have been completed they are supervised at all times and risk assessments will be completed and checked over by Human Resources before they can work in school. Where contractors are used, just like supply staff, we will get confirmation from the contractor that safeguarding checks have been completed and they have the right to work in the UK. This again will be saved on SharePoint next to the SCR. Contractors id is checked on arrival, and they will not be allowed to be unsupervised if checks have not been completed. School has a volunteer's handbook as well as a supply teacher and music teacher's handbook which is shared with volunteers when they come into school, with inductions completes if they intend to be a regular volunteer in school. | E3: Lead Name: Isabel Webb Action/s: DBS policy statement for governors/ trustees, associate members, staff, supply staff, volunteers, contractors, trainee students and students on placement written. Procedures on the supervision of volunteers and what this looks like, and included on the Child Protection policy. Completed and checklist is in the school office. Dec 23 Timescale: March 2023 Review date: April 2023
A4: 8.2 | B4: The governing body/proprietor has ensured that a member of the senior leadership team (or other relevant staff) have completed safer recruitment training and all interview panels include at least one member who has completed safer recruitment training. Considerations: * Has a member of the governing body, or equivalent, completed safer recruitment training? * Have they completed/refreshed safer recruitment training in last 3 to 5 years? * Are training certificates available? * Has at least one governor completed safer recruitment training for headteacher/principal recruitment purposes? * Is there evidence that on last three selection and/or interview rounds that there was someone on the interview panel with appropriate safer recruitment training? * Is there evidence that on last three selection and/or interview rounds that safer recruitment procedures were used to potentially deter, reject, or identify people who might abuse children or who are otherwise unsuitable to work with children? | C4: Partly Met | D4: Headteacher, who is also a goevrnor, has attended safer recruitement training and has a three year update. Attended training on 21.06.22 with certificates saved on the sharepoint and in a paper folder in the school office. On every interview process there is at least one person who has safer recruitment training. Gaps in service history are discuss at interviewed and discussions and governors discuss reasons why candidates may or may not be suitable for the role from their personal statement. | E4: Lead Name: Isabel Webb Action/s: Governing body member to attend safer recruitment training. New SBO to attend safer recruitment training. SBA to check digital folders have the safeguarding certificates. Completed Jan 23 Timescale: March 2023 Review date: April 2023
A5: 8.3 | B5: Single Central Register (SCR) kept as per DfE regulations and outlined in KCSIE 2022, including written confirmation of relevant checks by agency/training providers/third party staff? Considerations: * Who manages and completes the SCR? * Is the SCR complete and up to date? * Is it checked and signed by the head/principal and designated governor on a termly basis? * Retention of copies of DBS certificates - is there a valid reason for doing so? Are they destroyed after 6 months, is a record kept of what vetting was carried out, the result and the recruitment decision taken? * How is the establishment ensuring that staff are aware of relevant legislation, what information will be required of them, including the relationships and associations that staff have in school and outside (including online) which may have an implication for the safeguarding of children in school, and how it will be used to make decisions about disqualification? | C5: Fully Met | D5: SCR is overseen by the SBO, headteacher and link safeguarding governor. This is completed by office staff who sign them in. SCR is up to date, awaiting DBS form for one member of staff, and risk assessment has been completed that has been agreed and seen by Human Resources. Copies of DBS certificates are not retained. Evidence of right to work check are copied and signed, along with id verifications and certificates. Separate Excel grid next to the SCR on SharePoint lists the checks and updates made to the SCR. With the DSL and link safeguarding governor checking this termly. DSL attends updated forums and information is disseminated down through briefings and staff meetings. | E5: Lead Name: Action/s: Timescale: Review date:
A6: 8.4 | B6: The school/college has clear policies and procedures for ensuring different types of visitors to the setting are suitable and checked and monitored as appropriate. Considerations: * Does it include how decisions will be made about the need to escort of supervise visitors such as children's relatives and others visiting a school activity? * Does it include visitors who are there in a professional capacity, checking ID and assurance that the visitor has had the appropriate DBS checks? * Does the school/college refer to the DDSCP Briefing Note: Access to Schools by Staff from Other Agencies? * Are arrangements set out for all visiting speakers and external organisations coming to the premises – whether invited by staff or by children themselves? Has an assessment been made of the education value, age appropriateness of what is going to be delivered, suitability, whether relevant checks and supervision will be required? | C6: Fully Met | D6: Clear instructions have been given to office staff when signing people in during COVID, this needs updating and sharing with all staff, including the caretaking and cleaning staff. External Contributors Policies are completed for all visitors into school, which is overseen by the DSL/Headteacher. | E6: Lead Name: Isabel Webb Action/s: Update of clear procedures on what to do if we have a visitor in school. This to be placed in the office on what steps will be taken by anyone signing visitors into school and added as an appendix to the Child Protection Policy. Uss the DDSCP Briefing Note: Access to Schools by Staff from Other Agencies used to support this. Completed Dec 22 Timescale: December 2022 Review date: January 2023 with safegaurding link governor.
A7: 8.5 | B7: The governing body/proprietors ensure induction for all new staff has a safeguarding element which includes KCSIE, the school/college safeguarding/child protection policy, online safety, safeguarding response to children who go missing from education, behaviour policy, staff behaviour policy/code of conduct and role and identity of the DSL and their deputy/ies, designated teacher for looked after children, senior mental health lead and designated governor. Considerations: * Are copies of polices and a copy of KCSIE appropriate to their role is provided to staff at induction? * Are all staff aware of systems in the school/college which support safeguarding? * Is a proportional risk based approach to the level of information provided to temporary/supply staff/contractors and volunteers made? * Is there on-going consideration to staff suitability in order to prevent the opportunity for harm to a child and is this outlined in the staff behaviour policy/code of conduct, including low-level concerns? | C7: Fully Met | D7: Inductions are completed for all staff and these are saved in the personnel files. Included in the induction is reading of the staff handbook, code of conduct, social media policy, behaviour policy, confidential reporting, low level concern policy, who the DSL is and what steps need to be taken if you are concerned about the wellbeing of a child and basic safeguarding training and Health and Safety. | E7: Lead Name: Action/s: Timescale: Review date:

Sheet 9. Staff Behaviour
A1: Section 9: Staff Behaviour/Professional Conduct Policy (Code of Conduct), including low-level concerns
A2: Read each statement below and consider whether your setting has not met, partly or fully met the standard. It is important that you reflect on the evidence available and how you know that standards have been met or not. | C2: Status | D2: Give evidence for your current identified rating | E2: Action Planning; provide details about what plans are in place to meet or improve on the current standard. Identify who is responsible, by what date and when the progress will be reviewed.
A3: 9.1 | B3: There is a staff behaviour policy /code of conduct, which includes low-level concerns, allegations against staff and whistle blowing, plus acceptable use of technologies (including the use of mobile devices), staff/learner relationships and communications including the use of social media? Note: some settings may have stand-alone low-level concerns, managing allegation and whistleblowing policies. If this is the case it is essential that they are cross referenced and are consistent with each other. Considerations: * Does the policy reflect DfE guidance and other relevant guidance e.g. from the Safer Recruitment Consortium and Farrer and Co? * Does it distinguish expected and appropriate behaviour from concerning, problematic or inappropriate behaviour? * Have staff and others been engaged and consulted so they can be involved in shaping the policy? * Does it include what a low-level concern is, the importance of sharing low-level concerns and an explanation of what the purpose of the policy is i.e. to create and embed a culture of openness, trust, and transparency? * Does it outline how low-concerns should be reported and to whom, how they will be responded to, recorded, and reviewed? * Where the settings process is for concerns to be initially shared with the DSL or another member of staff, is the headteacher/principal informed in a timely fashion according to the nature of the concern? * Is it clear that the headteacher/principal is the ultimate decision maker in respect of all low-level concerns? * Does the policy reference, if and the circumstances in which, the headteacher/principal may wish to consult with the DSL to take a more collaborative decision making approach? * Is the policy cross referenced/consistent with the safeguarding/child protection policy? * Are the school/college and external whistleblowing processes reflected in the policy? * Has the governing body, trust and HR team liaised to agree, approve and sign off staff behaviour policy/code of conduct? *Is the policy clear how staff can share any concerns in confidence and clear, easy to understand and implement? *Are all staff, supply staff/contractors, visitors and volunteers who come into the establishment regularly aware of the policy? * On induction all staff been given a copy of the staff behaviour policy/ code of conduct, have read and understood it and signed to this effect? * Has the policy been published on school/college website or via other means? * Is information about the school/college staff behaviour policy/code of conduct displayed in staff rooms or equivalent? | C3: Fully Met | D3: The school has the following policies: Confidential Reporting Social Media Policy Bring your own device policy. Low Level Concern policy which lists expected behaviours and concerning behaviours. This has been shared in consultation with staff during a staff meeting. It lists the reasons for having this policy to keep us all save and have an open culture of trust and transparency. Concerns are reported to the DSL who is also the Headteacher and this is included in the policy. A record of low-level concerns is kept to ensure there is not patterns or extra training needed. The policy makes links to the confidential reporting policy. Safer recruitment policy with references to KCSIE 22 school uses the Human Resources online checks which are updated with the Farrer and Co resources for online checks. These polices are shared with all staff, regular volunteers and external contributors during induction. Governing body signed off the staff code of conduct on 6.10.22 which is shared with staff annually in September and for new staff during the induction process, which they complete a Microsoft Forms to say this has been is completed. This is shared on the school website and saved on the SharePoint for all to see. | E3: Lead Name: Action/s: Timescale: Review date:
A4: 9.2 | B4: The school/college has regularly refreshed staff understanding of staff behaviour and ‘safer working practice’. Considerations: * What training or awareness raising is in place to ensure all staff understand the staff behaviour policy /code of conduct, including low-level concerns, allegations, whistleblowing, behaviour to be aware of and how organisational grooming occurs? * Is staff behaviour (including distinguishing expected and appropriate behaviour from concerning, problematic or inappropriate behaviour) and safer working practices regularly discussed in staff meetings or briefings? * How have staff been supported to understand the importance of reporting low-level concerns and feel empowered to do so? * Are all staff clear about how to report any concerns they may have and who to? * Is the staff behaviour policy/code of conduct embedded within the whole school/college safeguarding culture? * How does learning from managing allegations against staff (including supply teachers, contractors and volunteers) and low-level concerns inform the settings safer working practices? * Are staff involved in reviewing the staff behaviour policy/code of conduct? | C4: Partly Met | D4: Newly appointed staff completed online training through the Learning Pool. Acceptable and unacceptable behaviour is discussed in staff meetings and added to the briefings and extra training given if needed. The mantra of it could be happening here and probably is has been shared with all staff and those that report low level concerns are thanked for sharing and improving our safeguarding practises. Staff are aware of procedures to report incidences from the policy. After every low-level incident or managing allegations, these have been recorded to see if more training is needed or policies need reviewing. | E4: Lead Name: Isabel Webb Action/s: Staff part of the reviewing the staff code of conduct and reviewing the low-level concern policy. Timescale: 12.12.22 Review date: FGM 17.1.22
A5: 9.3 | B5: Where there have been low-level concerns about adults working in the school/college, the procedure for managing these has been properly used by the establishment. Considerations: * Have all low-level concerns been responded to as outlined in the school/college staff behaviour policy/code of conduct? * Have all low-level concerns been recorded in writing by the headteacher/principal? Including details of the concern, context and the action taken? * Have low-level concerns about supply staff and contractors been notified to their employers? * Does it include the name of the individual sharing the concern, individuals wishing to remain anonymous should be respected as far as reasonably possible? * Are all records kept confidential, held securely, and comply with legislation? * Are multiple low-level concerns regarding the same individual kept in chronological order and with a timeline? * Are records reviewed so that potential patterns of concerning, problematic or inappropriate behaviour are identified, and if needed appropriate actions taken i.e. with the individual concerned (disciplinary procedures, escalation to harms threshold), school/college policies revised, or extra training provided? | C5: Fully Met | D5: Low level concerns since September have been written up using the policy form. General overview of the concern has been recorded on a password protected table with context and actions taken. These are not shared on a reference and the school seeks advice from Human Resources before sharing this information and following legislation. Multiple concerns are recorded in chronological order in a confidential file, so patterns of behaviour can be seen and actions taken with support from Human Resources and the safeguarding LADO. Concerns about supply teachers have been reported to the agency and these have been added to the low-level concern table. | E5: Lead Name: Action/s: Timescale: Review date:
A6: 9.4 | B6: Concerns about poor or unsafe practice and potential failures in the establishments safeguarding regime are reported and taken seriously by the governing body/proprietor/trustees and senior leadership team. Considerations: * Is there evidence that all staff and volunteers know how to make a complaint and how to manage whistleblowing or other concerns about the practice of adults, poor or unsafe practice or potential failures within the establishments safeguarding regime, in regard to the safety and protection of children? *When concerns have been raised how have these been addressed, is there an action plan and review process? | C6: Fully Met | D6: All staff and governors read the confidential reporting policy annually and completed a Microsoft Forms to say they have read this. It regularly discussed in staff meetings and put on the briefings how to raise a concern and how this needs to be kept confidential at all times. Concerns are written up and saved confidentially with actions taken. | E6: Lead Name: Action/s: Timescale: Review date:

Sheet 10. Allegations 
A1: Section 10: Procedures for Managing Allegations of Abuse Made Against Staff, including Supply Staff, Contractors and Volunteers
A2: Read each statement below and consider whether your setting has not met, partly or fully met the standard. It is important that you reflect on the evidence available and how you know that standards have been met or not. | C2: Status | D2: Give evidence for your current identified rating | E2: Action Planning; provide details about what plans are in place to meet or improve on the current standard. Identify who is responsible, by what date and when the progress will be reviewed.
A3: 10.1 | B3: There are procedures in place within the school/college staff behaviour policy/code of conduct to manage safeguarding concerns or allegations against staff (including supply staff, contractors and volunteers) that may meet the harms threshold. Considerations: * Is there an up to date school/college allegations against staff policy within the staff behaviour policy/code of conduct, which includes duty to refer to DBS and/or the Secretary of State via the Teaching Regulation Agency, when the criteria have been met? * Does it include any behaviour that may have happened outside school/college (known as transferable risk)? * Is it clear about to whom allegations and concerns should be reported and that this should be done without delay? * Does it incorporate looking after the welfare of the child and who is responsible for this, as well as investigating and supporting the person subject to the allegation? * Are non-recent allegations and learning lessons to determine if improvements can be made, both covered within school/college procedures? * Is it clear that concerns/allegations about supply staff and contractors should be notified to the employment agency? * Is the policy is consistent with the school/college safeguarding/child protection and other linked polices, as well as Keeping Children Safe in Education Part 4 (sections 1 and 2) and the DDSCP multi-agency safeguarding children Managing Allegations against staff, carers and volunteers procedure? | C3: Partly Met | D3: We have the following policies which have been agreed by governors and read by all staff. Child Protection policy with the responsibility to report to the DBS or the secretary of state through the TRA if the criteria has been met. This includes transferable risks. Confidential reporting policy. Recruitment and retention policy. This includes looking at online profile and discussions at interview about transferable risks. Staff code of conduct policy. Low-level concern policy. Staff handbook. Student handbook. Music teachers/club leader’s handbook. Managing allegations against staff policy, explains the procedures and steps to raise a concern and how the DSL should report to the LADO. Concerns are written up and reviewed to update procedures and training. Policies are all cross referenced and a spreadsheet is kept with this on. | E3: Lead Name: Isabel Webb Action/s: Check our policies incorporate looking after the welfare of the child and who is responsible for this, as well as investigating and supporting the person subject to the allegation? Include what actions are taken for low level concerns regarding volunteers, contractors and supply staff. Check the policies cross referencing is completed by the School Bursar. Timescale: March 2023 Review date: April 2023
A4: 10.2 | B4: The governing body/proprietors and senior leadership team are fully aware of their roles and responsibilities relating to allegations against teachers and other staff, including supply teachers, contractors and volunteers that may meet the harms threshold. Considerations: * Are all members of the senior leadership team aware of and understand the school/college policy for managing allegations, Keeping Children Safe in Education Part 4 (sections 1 and 2) and DDSCP procedure for managing allegations against members of staff, carers and volunteers? *Is there a member of the governing body/trust (usually the chair) responsible for responding & liaising with the local authority in the event of an allegation being made against the headteacher/principal? * Have the head/principal, DSL and designated governor have attended appropriate managing allegations training? | C4: Partly Met | D4: All DSL have read the KCSIE part 1-5 and understand their role in managing allegations. The headteacher and deputy have attended the managing allegations training. The chair of governors would liaise with the LADO regarding a comaplaint or allegation which is written into the managing allegations and complaints policy. | E4: Lead Name: Steve Jenkins- clerk. Action/s: Book governor on managing allegations training. Timescale: asap Review date: April 2023
A5: 10.3 | B5: All members of staff are aware of the procedure for responding to and managing allegations against staff, including the headteacher/principal, supply staff, contractors and volunteers, and are clear about how to report any concerns they may have and to who? Considerations: * Do all staff have a copy of and understand the written procedures for managing allegations that may meet the harms threshold and allegations? * Do all staff have a copy of the staff behaviour/code of conduct policy and are able to understand and distinguish expected and appropriate behaviour from concerning, problematic or inappropriate behaviour? * Do all staff understand the procedures within the staff behaviour policy/code of conduct for managing concerns/allegations that may meet the harms threshold? * Are supply staff/contractors, visitors and volunteers who come into the establishment regularly aware of how the school/college manages concerns/allegations against staff? * Is information about the school/college staff behaviour policy/code of conduct and the process for reporting and managing concerns/allegations displayed in staff rooms or equivalent? | C5: Fully Met | D5: All DSL have read the KCSIE part 1-5 and understand their role in managing allegations. The headteacher and deputy have attended the managing allegations training. The chair of governors would liaise with the LADO regarding a complaint or allegation which is written into the managing allegations and complaints policy. | E5: Lead Name: Action/s: Timescale: Review date:
A6: 10.4 | B6: Where there have been allegations about adults working in the school/college, the procedure for managing these has been properly used by the establishment. Considerations: * Are allegations, including those against supply staff and contractors, being reported to the Local Authority Designated Officer (LADO) in a timely way using the agreed processes as outlined in the DDSCP managing allegations procedure? * Is feedback provided to the LADO on actions agreed and clear records kept as required. * Have there been any allegations about a member of staff, including volunteers, contractors or supply staff, during the current academic year? * Is there a list of referrals and are records maintained about all concerns, discussions with the LADO, including the person who reported the allegation, copy of the LADO referral form, any follow up with LADO and actions taken by the school/college, including where relevant liaison with the supply staff agency and outcomes? * 'Duty to refer' to DBS and Teaching Regulation Agency, have referrals been made when criteria met? | C6: Fully Met | D6: DSL and senior leaders know how to make a referral through to the LADO by using the DDSCP managing allegations procedures. The deputy and headteacher have attended training on this. When necessary, records and actions taken are recorded and stored away securely. The school follows actions agreed by the LADO and this has been recorded. All referrals to the LADO are saved and recorded with actions taken, and who made the referral. Headteacher is aware that it is the duty to refer to DBS and TRA if the criteria has been met. | E6: Lead Name: Action/s: Timescale: Review date:

Sheet Action Plan
A1: To refresh the action plan: * Use your cursor to select cell B4 or F5 (depending on which of the two tables you are refreshing). * A Pivot Table Tools menu appears towards the right of the green menu bar at the top of the screen * Click refresh - see highighted image on the right * Make sure the filter (cell C3) is set to only show 'not met', or 'partially met'.
B2: Summary Action Plan
A3: Reference | B3: Item | C3: Rating status | D3: Action plan | F3: Current Ratings Position
A4: 1.1 | B4: The governing body and proprietors ensure the school/ college comply with their duties under legislation, contributing to multi-agency working in line with statutory guidance. Considerations: * Are the governing body/proprietor and relevant school staff aware of and understand key legislation and statutory guidance such as Working Together to Safeguard Children and other departmental safeguarding advice documents such as Keeping Children Safe in education? *Does the governing body/proprietor have awareness of their obligations under the Human Rights Act 1989 and the Equality Act 2010 (including the Public Sector Equality Duty)? * Is there a senior board level (or equivalent) lead to take leadership responsibility for the establishments safeguarding arrangements, including those where there are allegations of abuse against staff, supply teachers, volunteers or contractors? * Does the governing body/proprietor and the senior leadership team, especially the DSL, understand the 'three' safeguarding partner arrangements and follow the local multi-agency safeguarding arrangements? * Does the governing body/proprietor understand the local Threshold document which sets out the criteria for action, child protection conferences professional dissent policy, dispute resolution and escalation policy and the local protocols for assessment? * Does the governing body/proprietor have an awareness and due regard to the obligations of the Data Protection Act 2018 and UK GDPR to ensure that personal information is processed fairly and lawfully and kept safe and secure and where appropriate is shared to support the safeguarding of children and individuals at risk? * Are arrangements in place that set out clearly the process and principles for sharing information within the school/college, with the Derby and Derbyshire Safeguarding Children Partnership and other agencies and practitioners as required? *Are the governing body/proprietors and senior school leaders including the DSL aware of and implements any local learning where appropriate, such as those as outlined in DDSCP Briefing note: safeguarding school age children and learning from case reviews and other DDSCP briefing notes located in the multi-agency safeguarding children procedures document library? * Are written safeguarding/child protection reports to governors/trustees a standing item at each full governing body/trustees meeting? * Do all part-time timetables, exclusions, internal, fixed term and permanent, meet requirements of DfE statutory guidance and local guidance, including obligations under Equality duties? * Is there a Prevent action plan/risk assessment in place to keep learners safe from the dangers of radicalisation and extremism? | C4: Partly Met | D4: Lead Name: Action/s: Governor trained on managing allegations, and GDPR training. PREVENT action plan on reducing radicalisation Timescale: Review date: | F4: Row Labels | G4: Count of Rating status
A5: 2.1 | B5: All establishment staff, governors and regular visitors, including volunteers, supply staff and contractors, are aware of the DDSCP safeguarding children procedures and know how to access them. Considerations: * Are relevant staff familiar with the DDSCP safeguarding children procedures as appropriate to their role? * Does the governing body/proprietors, DSL, their deputies and other relevant safeguarding staff understand the Threshold document (local criteria for action), Assessment protocol, Dispute Resolution and Escalation policy and Child Protection Conference Professional Dissent policy? * Are all staff aware of the local early help process and the process for making referrals to local authority children's social care and or the police? * Are all relevant staff aware of their role in the early help assessment process and any social care processes such as strategy meetings, assessments, multi-agency meetings such as team around the child (TAF) meetings, child in need (CiN) review meetings, child protection (CP) conferences and looked after children (LAC) reviews? | C5: Partly Met | D5: Lead Name: Action/s: Remind staff about the DDSCP website and how this can be used to esculate and look for advice and training. Share again the threshold document (local criteria for action), Assessment protocol, Dispute Resolution and Escalation policy and Child Protection Conference Professional Dissent policy with governors. Timescale: Review date: | F5: Not met | G5: 1
A6: 2.3 | B6: The governing body/proprietors have ensured there is an effective and up to date safeguarding/child protection policy. Considerations: * Does the policy reflect KCSIE 2022 and DDSCP local safeguarding arrangements? * Is the policy reviewed at least annually? * Is it updated to incorporate safeguarding issues as they emerge or evolve, lessons learnt and national or local changes? * Does it include references to the context of the school and the community in which it is located and serves and participation in the Stopping Domestic Abuse Together (SDAT) initiative? * Does it outline that some children are potentially at greater risk of harm? For example children with a social worker (child in need and child protection plans), children missing from education and those on part-time timetables or excluded, in alternative provision or elective home education, children requiring mental health support, looked after children, and previously looked after children, care leavers, children with special educational needs and/or disabilities and/or health issues and children who are or may be lesbian, gay, bi or trans (LGBTQ+)? * Does the policy reflect that additional barriers can exist when recognising abuse, neglect and exploitation of children with SEND, including neurodevelopmental conditions such as autism or certain medical or physical health conditions? * Does it include that children can be at risk of harm inside and outside of the school/college, inside/outside of their home, in their community and online? * Does it incorporate online safety, FGM, exploitation (sexual and criminal, including county lines, known locally as child at risk of exploitation/CRE), how children will be kept safe from the dangers of radicalisation/extremism and serious violence? * Does it include the systems by which children can confidently report their concerns/abuse and ensure the child's wishes and feelings are taken into account when determining the action to take and what services to provide? * Does the policy detail the setting’s own individual ‘safeguarding arrangements’ which are consistent with government guidance and local multi-agency safeguarding children procedures put in place by Derby and Derbyshire Safeguarding Children Partnership (DDSCP)? * Does it include that children may not feel ready or know how to tell someone they are being abused or recognise they are being harmed? And how staff should respond when concerns arise? * Is the Prevent action plan/risk assessment referenced in the policy? * Does it include a reference to an annual child protection audit (and confirmation of completion to the DDSCP as required) and an annual online safety audit? * Is the policy consistent with DDSCP procedures, including the thresholds document (local criteria for action), local protocol for assessment, information sharing guidance for practitioners, child protection conference professional dissent policy and dispute resolution and escalation policy? * Have staff contributed to and shaped safeguarding arrangements and the child protection/safeguarding policy? | C6: Partly Met | D6: Lead Name: Action/s: * Map out where we are teaching on preventing radicalisation and encourgainmg respect for differences and update the Child Protection school. * Prevent action plan/risk assessment referenced in the policy. * Staff to help shape the Child policy in more detail Timescale: Review date: | F6: Partly Met | G6: 22
A7: 2.9 | B7: A written policy for Relationships Education/Relationship and Sex Education is in place. Considerations: * Is the policy consistent with the Relationships Education, Relationships and Sex Education (RSE) and Health Education guidance? * Have parents been consulted in developing and reviewing the policy? * Does it have regard for statutory guidance and incorporate the importance of using effective quality assured resources such as those outlined in KCSIE or locally approved resources such as the Derbyshire BERT award? * Has it been reviewed and is it up-to-date? * Has it been made available to parents/carers and others? * Has the policy been published on the school website? | C7: Partly Met | D7: Lead Name: Action/s: Derbyshire BERT award to be included in the RSE policy Timescale: Review date: | F7: Fully Met | G7: 33
A8: 3.1 | B8: The governing body/proprietors ensure that all staff receive appropriate safeguarding and child protection training at induction, including online safety, which is regularly updated. Considerations: * Does the schools /college refer to the DDSCP multi-agency training pathway to support decision making about appropriate training for staff? * Are there clear and effective arrangements for staff development and training? * Have the DSL, the deputy/ies and the designated governor received multi-agency training appropriate to their role in the last two years? * Have all members of the governing body/proprietors received appropriate safeguarding/child protection (including online) training at induction which is regularly updated to equip them with the knowledge to provide strategic challenge to test and provide assurance of the school/college safeguarding policies, procedures and practices ensuring a robust whole school/college approach? * Have all staff received appropriate safeguarding children training during the last three years? * Do all staff have an awareness of safeguarding issues that can impact on a child’s welfare or put them at the risk of harm including private fostering arrangements, drug taking, alcohol abuse, domestic abuse, witnessing harm to others which including witnessing domestic abuse, family members who offend or are in prison, deliberately missing education, involvement in the court system, homelessness, sharing nudes/semi-nudes, so-called 'honour based’ abuse/violence including female genital mutilation (FGM), breast ironing, virginity testing and hymenoplasty and forced marriage, sexual exploitation and/or criminal exploitation/county lines known as child at risk of exploitation (CRE), serious violent crime, child-on-child abuse (including sexual violence and harassment) and radicalisation/extremism? * Is it understood by all staff that some children are potentially at greater risk of harm? i.e. children who need a social worker, children missing from education or on part-time timetable, excluded or electively home educated, children requiring mental health support, looked after/previously looked after children, care leavers, children with special education needs and disability (SEND), neurodevelopmental conditions such as autism or health issues and children who may be or are lesbian, gay, bi, or trans (LGBTQ+)? * Do all staff understand that children can be at risk of harm inside and outside of the school/college, inside/outside of their home, in their community and online? * Are all staff aware that some children face additional barriers to telling someone or being unaware they are being harmed due to their vulnerability, disability, sex, ethnicity and or sexual orientation? *Are all staff aware of the importance of building trusting relationships with learners and the importance of being professionally curious? *Do all staff understand that an initial disclosure may only be the first incidence reported rather than representative of a single incident and that trauma can impact on memory? * Have the DSL, deputies and other relevant safeguarding staff attending early help training? * Are staff aware of the vulnerability of babies during their first year of life and understand the role they play in keeping babies safe as per the DDSCP Three Steps to Baby Safety Strategy? | C8: Partly Met | D8: Lead Name: Isabel Webb Action/s: DDSCP multi-agency training pathwayis used to support decision making about appropriate training for staff. The DSL, the deputy/ies and the designated governor received multi-agency training appropriate to their role in the last two years. DSL, deputies and other relevant safeguarding staff attending early help training. Staff to be aware of the vulnerability of babies during their first year of life and understand the role they play in keeping babies safe as per the DDSCP Three Steps to Baby Safety Strategy. School Bursar to ensure all certificates are collated and inform the Headteacher if these need completing asap. Timescale: Review date: | F8: Grand Total | G8: 56
A9: 3.2 | B9: All staff receive safeguarding and child protection updates, as required. Considerations: * Do staff, including DSL's and their deputies, the chair of governors and governing body/proprietor receive safeguarding and child protection updates as required (at least annually)? * How are safeguarding updates provided, for example via email, bulletins, staff meetings? * Does the headteacher/principal and DSL, as well as other relevant safeguarding staff, receive DDSCP safeguarding updates or in Derbyshire those provided by the child protection manager for education? *Are relevant staff are provided with copies of DDSCP briefing notes and communications? | C9: Partly Met | D9: Lead Name: Isabel Webb Action/s: Relevant staff are provided with copies of DDSCP briefing notes and communications. Ensure governors safeguarding certificates are collated so they can be accessed by the DSL and the Headteacher. Timescale: ASAP Review date: September 2023
A10: 3.3 | B10: Specific safeguarding issues training have been taken into account. Considerations: * Are staff trained to identify and reduce the risk of female genital mutilation (FGM)? * Do teachers know about and understand their mandatory duty to report to the police any known case of FGM on a girl under the age of 18? * Have staff received domestic abuse training relevant to their roles which includes children as victims and the local operation encompass arrangement Stopping Domestic Abuse Together? * Are staff aware of the need to protect children from the risk of radicalisation? * Has the DSL undertaken Prevent awareness training? * Has the DSL been supported in developing knowledge and skills to encourage a culture of listening to children and taking into account their wishes and feelings? * Has the DSL been supported to identify the impact of welfare, safeguarding and child protection issues on a child's attendance, engagement and achievement at school/college and how their education achievements could be promoted? * Are staff trained in the safe use of the internet and social media and is this integrated, aligned and considered as part of the overarching whole school/college safeguarding approach and wider staff training and curriculum planning? * Have staff had input on the importance of effective information sharing (incorporating their responsibilities in regard of the Data Protection Act 2018 and UK General Data Protection Regulation/UK GDPR) when there are concerns about a child whether this is when problems are first emerging or when a referral to another agency is required, including to local authority Children’s Social Care or where the child is already known to the local authority? * Have staff been trained to understand what child-on-child abuse is, how to identify it, address inappropriate behaviour, what to do if they believe a child might be at risk and how to how to handle reports of child-on-child abuse including sexual violence and harassment between children, both on and outside school promises in line with KCSIE? | C10: Partly Met | D10: Lead Name: Action/s: Domestic Abuse Training for all staff Updated GDPR training Training on the new resource Project Evolve which links to the computing curriculum. Timescale: Review date:
A11: 4.1 | B11: The governing body/proprietor has ensured there is an online safety/mobile and smart technology policy outlining a whole school/college approach to online safety to protect and educate learners (and support parents/carers awareness and understanding) and staff in their use of technology and establishes mechanisms to identify, intervene in and escalate any concerns. The school/college approach addresses the 4 areas of risk - content, contact, conduct and commerce. Considerations: * Is the online safety/mobile and smart technology policy, safeguarding/child protection policy and all other policies and procedures reflected and inter-related with the curriculum, teacher training, role and responsibilities of the designated safeguarding lead and any parental engagement? * Is this aligned with national, regional and Derby and Derbyshire Safeguarding Children Partnership safeguarding policies/procedures? * Does it include the use of mobile and smart technology and cameras in the school/college and keeping children safe when they are online at home? * Does it reference the DDSCP Briefing Note: Harmful Online Challenges and Hoaxes? * Does it incorporate whilst at school/college or outside of the school/college environment that some children will abuse, sexually harass, bully, and control their peers via mobile and smart technology or share indecent images consensually and non-consensually, and view and share pornography and other harmful content and how this will be managed? * Does it incorporate online safety resources as outline in KCSIE? * Is this cross-referenced and consistent with the school/college safeguarding/child protection policy? * Was the policy developed in consultation with a wide range of staff and learners? * Is it reviewed annually? * Are all staff aware of and understand the policy? * How are the principles of online safety across all elements of school/college life communicated to children and their parents/carers? | C11: Partly Met | D11: Lead Name: Isabel Webb Action/s: Include DDSCP Briefing Note: Harmful Online Challenges and Hoaxes? How we manage abuse outside of school in school. Timescale: July 2023 Review date: September 2023
A12: 4.4 | B12: The governing body/proprietors have ensured there is a planned education programme informed by Teaching Online Safety in Schools and Education for a Connected World and Project Evolve takes place through relationship education/relationship and sex education/PHSE/ ICT/other lessons and across the curriculum and elsewhere, and is regularly revisited to ensure that it is up-to-date and effective. Considerations: * Are learners are aware of online safety issues, including sharing nudes/semi-nudes and understand and follow the online safety, use of mobile technology and acceptable use policies? * What strategies are in place to keep children safe, including when they are online at home, and to support them to develop their own understanding of these risks and in learning how to keep themselves and others safe, including offline/online bullying, including sharing nudes/semi-nudes, safe use of the internet and social media? * Is the education and protection of vulnerable children/young people who may be put at particular risk from their own and others’ actions on-line effective? * What actions are being taken to encourage and support learners that it’s safe to tell a trusted adult about any online concerns they may have? * Are parents/carers engaged in school/college activities which promote the agreed principles of online safety? *Are parents/carers informed and supported to effectively respond and protect children when they raise any online concerns without further punishing children by automatically removing access to their devices? * Is the effectiveness and impact of online safety teaching and the resources used regularly evaluated? | C12: Partly Met | D12: Lead Name: Isabel Webb Action/s: Train staff on the use of calling in concerns rather than calling out so children are not scared to share their concerns. Parents informed to call things in during online safety concerns. Timescale: Review date:
A13: 4.5 | B13: Do all staff understand the risks posed by adults/young people/children who use technology, including the internet, to bully, groom, radicalise or abuse children, young people and vulnerable adults? Considerations: * What steps have been taken to help staff understand these issues? * How are school/college staff are kept up-to-date about the safe use of internet/ social media and are aware of where they can go for expert advice? * Is action taken immediately when there are concerns about bullying, risky behaviours, sharing nudes/semi-nudes, child-on-child abuse, or children’s well-being? | C13: Partly Met | D13: Lead Name: Action/s: Training to be given on the new Education for Connected World Timescale: Review date:
A14: 5.1 | B14: The governing body and proprietor ensure that children are taught about how to keep themselves and others safe, including online. Relevant topics included within relationships education/relationships and sex education and health education and reinforced throughout the whole curriculum. Considerations: * Are relevant topics included within relationships education/relationships and sex education and health education? * Does it have regard for statutory guidance and incorporate the importance of using effective quality assured resources such as those outlined in KCSIE or locally approved resources such as the Derbyshire BERT award? *How does the curriculum etc enable learners to learn and understand healthy relationships online and offline and recognise risks? * How are they supported to develop positive relationships, resilience, and virtues? * Are learners taught about physical health and mental well-being to give them the information that they need to make good decisions about their own health and wellbeing and, when issues arise, know how to seek support as early as possible from appropriate sources? * Is the programme fully inclusive and developed to be age and stage of development appropriate? * Is it tailored to the specific needs of individual children, including children who are victims of abuse and children with SEND? * How is it incorporated and form part of the whole school/college approach that prepares learners for life in Modern Britain and creates a culture of zero tolerance for sexism, misogyny/ misandry, disablism, racism, homophobia, biphobia and sexual violence and harassment? * Is it cross referenced and consistent with the behaviour policy? | C14: Partly Met | D14: Lead Name: Action/s: Look at our mental health offer and how we can support children more. Train a staff member on this offer. Use the Anna Freud resources on racism to create a policy and support the PSHCE curriculum. Timescale: Review date:
A15: 5.4 | B15: The school/college has clear systems and processes in place for identifying possible mental health problems. Considerations: * Is there a senior mental health lead? * Has the school/college developed their own bespoke Derby and Derbyshire Mental Health Pathway Guidance outlining the supports available within the establishment and externally? *Do staff access a range of advice to help them identify children in need of mental health support, including working with external agencies? * Are there clear routes to escalate and clear referral and accountability systems, including when mental health concerns about a child is also a safeguarding concern? * Are all staff aware that mental health problems can be an indicator that a child has suffered or is at risk of suffering abuse, neglect, or exploitation? | C15: Partly Met | D15: Lead Name: Action/s: Clear routes to escalate and clear referral and accountability systems, including when mental health concerns about a child is also a safeguarding concern written into policy and procedures. Staff member trained as a senior mental health lead? * Develop a bespoke Derby and Derbyshire Mental Health Pathway Guidance outlining the supports available within the establishment and externally Timescale: Review date:
A16: 5.6 | B16: The establishment has an effective anti-bullying policy either as a standalone policy or as part of another relevant policy such as the behaviour policy. Considerations: * Has the policy been reviewed in the last two years? * Is it consistent with current anti-bullying guidance, including cyber-bullying, and sexual violence and harassment in schools and colleges? * Is it known and understood by all staff and learners and their parents/carers? * Is there is a strong culture and ethos within the setting which promotes a clear understanding of what bullying is and what behaviours are acceptable and unacceptable? * Is there a clear process for dealing with incidents with all learners and their parents/carers? * Is the anti-bullying policy easily available to learners and parents and carers? | C16: Partly Met | D16: Lead Name: Isabel Webb Action/s: update Antibullying policy to include harrassemnt and sexual violence. Timescale: April 2023 Review date: September 2023
A17: 6.3 | B17: Safeguarding/child protection concerns requiring intensive, or specialist support are immediately shared with the Local Authority Children's Social Care via telephone (urgent concerns) or online system (non-urgent) or in Derby only via a locality vulnerable children’s meeting (VCM). Considerations: * Are staff able to identify children where there are complex needs or child protection concerns either within the setting or in the family or wider community, and take the appropriate and necessary action in accordance with local procedures and statutory guidance? * Are risks associated with children offending, misusing drugs or alcohol, self-harming, going missing, have experienced or are at risk of FGM/other so called ‘honour-based’ abuse or being vulnerable to radicalisation or being exploited are known and shared with local authority children’s social care or other relevant agency? * Are children supported, protected and informed about what action the adult is taking to share their concerns? * Are children's wishes and feeling taken into account when determining what action to take and the services to provide? * Are parents/carers made aware of concerns and is consent sought according to local procedures? * Where referrals are made by anyone other than the designated safeguarding lead, is the DSL is informed as soon as possible afterwards? * In all cases is a record of discussions, decisions, actions taken and referral, including referral outcome retained? * Where there are urgent concerns and a telephone referral is made, is this is followed up ‘in writing’ within 48 hours using the appropriate Derby or Derbyshire local authority children's social care referral system? * Is there a record of the outcome for all referrals to local authority children's social care, including those made via VCM (Derby only)? * Where referrals have resulted in a strategy meeting, has the school/college attended (including virtual meetings) or provided information? * What considerations and arrangements are in place during school holidays for attendance at or provision of information at strategy meetings or other key safeguarding meetings such as child protection conferences? | C17: Partly Met | D17: Lead Name: Isabel Webb and Kirsty Meehan Action/s: telephone referrals are folowed up with a written referral to starting point within 48 hours. Timescale: ASAP when appropriate Review date: September 2023
A18: 6.6 | B18: Staff receive regular supervision and support if they are working directly and regularly with children where there are concerns about their safety and welfare. Considerations: *Is there a school/college supervision policy either standalone or part of another relevant policy, outlining which staff will receive supervision, who will do this (internal/external), the supervision model being used, roles/expectations of those involved and recording processes? *Is supervision linked to staff development and learning? * Do supervision support processes include local and national policies, procedures, and guidance and where to seek advice? | C18: Not met | D18: Lead Name: Isabel Webb Action/s: School needs to look into improving the supervision support in school Timescale: April 2023 Review date: September 2023
A19: 7.2 | B19: The governing body/proprietors ensure the school/college routinely asks parents/carers and records and maintains up-to-date records of who has parental responsibility for each learner and where reasonably possible holds more than one emergency contact number for each learner. Considerations: * Parental responsibility, emergency contact numbers and private fostering is routinely asked about, recorded and up to date records maintained? * Who has parental responsibility is known by relevant staff, and updated at least annually? * Are all staff aware of what private fostering arrangements are and how to report it within the establishment? * Is local authority social care consistently informed when a learner is in a private fostering arrangement? | C19: Partly Met | D19: Lead Name: Isabel Webb Action/s: Use the review of the contact details to ask questions if parents/ carer are in a a private fostering arrangement. Revisit the private fostering guidance and remind staff what to do if they believe arrangements have changed. Timescale: September 2023 Review date: October 2023
A20: 7.3 | B20: Governing body/proprietors ensures that child protection files, whether that be through paper files and systems or electronic systems such as CPOM’s or My Concerns, are maintained as per KCSIE 2022 to ensure the safeguarding record keeping process effective and regularly reviewed. Considerations: * Are records kept securely away from main learner files? * Do records include a clear summary of the concern, details of how the concern was followed up/resolved, decisions made, actions taken and outcome, including any dispute resolution and escalation? * Do records incorporate a chronology? * Are concerns (including Stopping Domestic Abuse Together notifications), the decisions made and reasons for them as well as the actions and outcomes are routinely and clearly recorded in a timely way? * Are records only accessed by those who need to see it? * Are records shared appropriately and where necessary, with consent? *Are safeguarding recording processes (including recording outcomes for each concern) re-viewed/quality assured as part of safeguarding/child protection policy annual (as a minimum) review? *Did the review consider if the child’s journey and their wishes and feelings were evidenced? | C20: Partly Met | D20: Lead Name: Isabel Webb Action/s: re-check safegurding concerns for good practise and if these could recorded or action better, and ensure the children's views are gathered. Timescale: Review date:
... A26: 10.2 | B26: The governing body/proprietors and senior leadership team are fully aware of their roles and responsibilities relating to allegations against teachers and other staff, including supply teachers, contractors and volunteers that may meet the harms threshold. Considerations: * Are all members of the senior leadership team aware of and understand the school/college policy for managing allegations, Keeping Children Safe in Education Part 4 (sections 1 and 2) and DDSCP procedure for managing allegations against members of staff, carers and volunteers? *Is there a member of the governing body/trust (usually the chair) responsible for responding & liaising with the local authority in the event of an allegation being made against the headteacher/principal? * Have the head/principal, DSL and designated governor have attended appropriate managing allegations training? | C26: Partly Met | D26: Lead Name: Steve Jenkins- clerk. Action/s: Book governor on managing allegations training. Timescale: asap Review date: April 2023

Sheet Confirmation
A1: Confirmation of Safeguarding Audit Completion
A5: Date safeguarding audit completed: | E5: 06.12.22
A8: Signed by:
A10: Designated Safeguarding Lead name: | E10: Isabel Webb
A12: Signature: | E12: Isabel Webb
A14: Date: | E14: 06.12.22
A17: Headteacher/Principal name: | E17: Isabel Webb
A19: Signature: | E19: Isabel Webb
A21: Date: | E21: 06.12.22
A24: Designated Governor/Trustee name: | E24: Louise White
A26: Signature: | E26: Louise White
A28: Date:
A31: Chair of Governors/Trustees name: | E31: Martin Counter
A33: Signature: | E33: Martin Counter
A35: Date: | E35: 12.1.23
A38: Full Governor’s/Trustee’s meeting date where the audit is to be an agenda item: | E38: 12.1.23
A41: Confirmation of Audit Completion To fulfil its statutory functions, the DDSCP has agreed with Derby and Derbyshire Education subgroup members that all education settings will: • Complete an annual safeguarding audit for the 2022 – 2023 academic year, and • Confirm completion of their annual audit to the DDSCP by the 30th June 2023 at the latest by completing a short survey Please note a copy of the completed audit is not required by the DDSCP
A50: If you are a Derby School, please complete the confirmation of completion survey here: https://forms.office.com/r/gyvufM5CWf
A51: If you are a Derbyshire School, please complete the confirmation of completion survey here: https://forms.office.com/r/UHrDgsD5tZ

Sheet Works
A1: Not met | B1: Please do not alter anything on this page - this is a process page that pulls information from other areas of the document.
A2: Partly Met
A3: Fully Met
A8: Reference | B8: Item | C8: Rating status | D8: Evidence | E8: Action plan
A9: 1.1 | B9: =VLOOKUP($A9,'1. Leadership & Key Roles'!$A$3:$E$8,2,FALSE) -> The governing body and proprietors ensure the school/ college comply with their duties under legislation, contributing to multi-agency working in line with statutory guidance. Considerations: * Are the governing body/proprietor and relevant school staff aware of and understand key legislation and statutory guidance such as Working Together to Safeguard Children and other departmental safeguarding advice documents such as Keeping Children Safe in education? *Does the governing body/proprietor have awareness of their obligations under the Human Rights Act 1989 and the Equality Act 2010 (including the Public Sector Equality Duty)? * Is there a senior board level (or equivalent) lead to take leadership responsibility for the establishments safeguarding arrangements, including those where there are allegations of abuse against staff, supply teachers, volunteers or contractors? * Does the governing body/proprietor and the senior leadership team, especially the DSL, understand the 'three' safeguarding partner arrangements and follow the local multi-agency safeguarding arrangements? * Does the governing body/proprietor understand the local Threshold document which sets out the criteria for action, child protection conferences professional dissent policy, dispute resolution and escalation policy and the local protocols for assessment? * Does the governing body/proprietor have an awareness and due regard to the obligations of the Data Protection Act 2018 and UK GDPR to ensure that personal information is processed fairly and lawfully and kept safe and secure and where appropriate is shared to support the safeguarding of children and individuals at risk? * Are arrangements in place that set out clearly the process and principles for sharing information within the school/college, with the Derby and Derbyshire Safeguarding Children Partnership and other agencies and practitioners as required? *Are the governing body/proprietors and senior school leaders including the DSL aware of and implements any local learning where appropriate, such as those as outlined in DDSCP Briefing note: safeguarding school age children and learning from case reviews and other DDSCP briefing notes located in the multi-agency safeguarding children procedures document library? * Are written safeguarding/child protection reports to governors/trustees a standing item at each full governing body/trustees meeting? * Do all part-time timetables, exclusions, internal, fixed term and permanent, meet requirements of DfE statutory guidance and local guidance, including obligations under Equality duties? * Is there a Prevent action plan/risk assessment in place to keep learners safe from the dangers of radicalisation and extremism? | C9: =VLOOKUP($A9,'1. Leadership & Key Roles'!$A$3:$E$8,3,FALSE) -> Fully Met | D9: =VLOOKUP($A9,'1. Leadership & Key Roles'!$A$3:$E$8,4,FALSE) -> The Governing body read and reviewed the Child Protection policy and read the statutory guidance KCSIE 22, signed to say they have read and understand part 1. Governors have agreed the Equality and objectives policy 17.2.22 The governing body have a link safeguarding governor. If an allegation has been made against anyone, governors will have committee to support this along with support from Human Resources. The school understand the three safeguarding partner arrangements https://www.childprotectioncompany.com/general/who-are-the-3-safeguarding-partners/#:~:text=The%20Safeguarding%20Partners%20will%20be,falls%20under%20the%20local%20authority. The Threshold offer is understood by the headteacher, DSL and link safeguarding governor. Governors and all staff are aware of the Data Protection 2012 Act because of regular training and changing of policies due to data breach reports. School follows the Derby and Derbyshire agreement of sharing information to protect children. DSL is aware and learns from the serious case reviews, and has asked questions about the invisible men in the household. A written Headteacher report is given to the governors four times a year on referrals made to the family support worker and social care and how many children we have in each category. The numbers are also discussed with the link governor, an additional three times. | E9: =VLOOKUP($A9,'1. Leadership & Key Roles'!$A$3:$E$8,5,FALSE) -> Lead Name: Isabel Webb Action/s: Governor trained on managing allegations, and GDPR training. PREVENT action plan on reducing radicalisation- Completed 12.1.23 Timescale: By April 2023 Review date: September 2023
A10: 1.2 | B10: =VLOOKUP($A10,'1. Leadership & Key Roles'!$A$3:$E$8,2,FALSE) -> The governing body/proprietor have ensured that there is a whole school approach and proactive culture to safeguarding. Considerations: * How do they ensure that safeguarding and child protection are at the forefront and underpin all aspects of process and policy development? * What steps have been taken to ensure that everyone is involved in the whole school/college approach to safeguarding? * Do all systems, process and policies operate with the best interests of children and learners at their core and recognise that ‘it could happen here’ inside and outside of the school and online? * In what ways is a culture of listening to children and taking into account their wishes and feelings, among staff and in any measure the setting puts in place to protect them, encouraged and supported? * Where there are safeguarding concerns does the governing body/proprietors and school/college leaders ensure the child's wishes and feelings are taken into account when determining what action to take and what services to provide? * Have they ensured that systems are in place which are well promoted, easily understood and easily accessible for children to confidently report abuse, knowing concerns will be treated seriously and that they can safety express their views and give feedback? * Is an open and transparent culture promoted to enable the school/college to identify concerning, problematic and inappropriate behaviour early, minimise the risk of abuse and ensure that all adults working in or on behalf of the school/college are clear about expected and appropriate behaviour, professional boundaries and act within these, in accordance with the ethos and values of the setting? * Are the school/colleges safeguarding policies and procedures transparent, clear, and easy to understand for staff, learners and their parents/carers? | C10: =VLOOKUP($A10,'1. Leadership & Key Roles'!$A$3:$E$8,3,FALSE) -> Fully Met | D10: =VLOOKUP($A10,'1. Leadership & Key Roles'!$A$3:$E$8,4,FALSE) -> The Governing body read and reviewed the Child Protection policy and read the statutory guidance KCSIE 22, signed to say they have read and understand part 1. Governors have agreed the Equality and objectives policy 17.2.22 Children and parents have been actively in updating their Antibullying and E-safety policy. Children have updated the Children's complaints policy. These polices are shared with governors to review and agree. All behaviour and child on child abuse incidences start with a restorative practise which asks what the child wants to resolve the issue. Our policies reflect this. All staff are trained on Restorative Practise After discussions with the children during Antibullying Week, children said they would like a sign so they can tell a trusted adult that they don't feel safe and want some help but can't talk about this at the moment. This has been included in the Anti-bullying policy. Staff are aware of the staff code of conduct and that we have the following policies to support 'calling in’ concerns such as the Low-Level Concern policy and the Managing Allegations policy. Our policies are annually reviewed and shared with staff. | E10: =VLOOKUP($A10,'1. Leadership & Key Roles'!$A$3:$E$8,5,FALSE) -> Lead Name: Action/s: Timescale: Review date:
A11: 1.3 | B11: =VLOOKUP($A11,'1. Leadership & Key Roles'!$A$3:$E$8,2,FALSE) -> The governing body/proprietor has ensured that an appropriate senior member of staff, from the school or college leadership team, is appointed to the role of Designated Safeguarding Lead (DSL) to take lead responsibility for safeguarding and child protection, including online safety. Considerations: * Are they a member of the Senior Leadership Team? * The appointed DSL is not the proprietor? * Is the role explicit in the job description? * Is the DSL given appropriate authority and time, funding, training, resources and support? * Is there cover in role? Has a Deputy or Deputies been appointed and trained to the same standard as the DSL? * While safeguarding activities can be delegated, does the lead responsibility remain with DSL? * Is the DSL or deputy/ies available during term time and during school hours for staff to discuss safeguarding concerns? * Have senior leadership team cover arrangements been made should the DSL and their deputy be unavailable? * Are adequate and appropriate DSL cover arrangements made for any out of hours/out of term activities? * Are DSL cover arrangements, including during school holidays, communicated to staff, learners, and partner agencies? | C11: =VLOOKUP($A11,'1. Leadership & Key Roles'!$A$3:$E$8,3,FALSE) -> Fully Met | D11: =VLOOKUP($A11,'1. Leadership & Key Roles'!$A$3:$E$8,4,FALSE) -> The headteacher is the DSL and the deputy DSL's are the deputy and the senior teacher. Each DSL has this included in their job description. The DSL has time to carry out the role as the headteacher in non-teaching head. The DSL attend termly updates and the deputy/senior teacher and the lead DSL have three yearly DSL training updates. All have annual safeguarding training. The DSL may delegate tasks but the DSL has lead responsibility and is available in school times to support safeguarding concerns. The DSL is available out of hours through the safeguarding email and all staff, governors and parents known they can report concerns to Call Derbyshire to make a referral to social services if they have immediate concerns about the welfare of a child, which is shared on the school website, newsletters and briefings to staff. | E11: =VLOOKUP($A11,'1. Leadership & Key Roles'!$A$3:$E$8,5,FALSE) -> Lead Name: Action/s: Timescale: Review date:
A12: 1.4 | B12: =VLOOKUP($A12,'1. Leadership & Key Roles'!$A$3:$E$8,2,FALSE) -> The governing body/proprietor/headteacher/principal has ensured that appropriate members of staff have been identified as leads for key areas of safeguarding and they have a co-ordinated approach. Considerations: * Is there an identified senior mental health lead? * Is there a lead teacher for relationships education/relationships and sex education and health education programmes? * In what ways does the designated teacher for looked after children, senior mental health lead, SENCo/named person with oversight for SEND and lead teacher for relationship /relationship and sex education and health education, work together along with the DSL, to advise and support others within the setting? * Does the DSL liaise with relevant staff such as IT technicians, designated teacher, pastoral staff, attendance officers, teachers, school nurses, SENCO's/named person with oversight for SEND and senior mental health leads on matters of safety (including online safety), safeguarding and welfare and on when deciding to make a referral by liaising with relevant agencies? | C12: =VLOOKUP($A12,'1. Leadership & Key Roles'!$A$3:$E$8,3,FALSE) -> Fully Met | D12: =VLOOKUP($A12,'1. Leadership & Key Roles'!$A$3:$E$8,4,FALSE) -> Headteacher and teacher have been trained as mental health first aiders. The headteacher is the RSE lead, PSHCE and DSL in school. She meets with the SENDCo who is also the LAC lead, to discuss referrals that can be made and support for the child and the family. In discussion with all relevant agencies and support staff referrals are made by the lead DSL. | E12: =VLOOKUP($A12,'1. Leadership & Key Roles'!$A$3:$E$8,5,FALSE) -> Lead Name: Action/s: send TA on the mental health lead training to take on the role. Timescale: Review date:
A13: 1.5 | B13: =VLOOKUP($A13,'1. Leadership & Key Roles'!$A$3:$E$8,2,FALSE) -> The DSL and deputy/ies liaise with the 'three' safeguarding partners and work with other agencies in line with Working Together to Safeguard Children, Keeping Children Safe in Education, national guidance (i.e. NSPCC - when to call the police) and local policies and procedures. Considerations: * Does the DSL and deputy/ies understand their responsibilities relating to the protection of children, young people and vulnerable adults and safeguarding of all learners, including where there has been a domestic abuse notification via SDAT? * Does the DSL provide support to other staff on child welfare/child protection matters, including child-on-child abuse and protecting children from the risk of radicalisation? * Does the DSL regularly liaise with the headteacher/principal to inform them about safeguarding issues, including children known to local authority children’s social care and or the police? * Is the DSL aware of and understand the requirement for children to have an appropriate adult when detained, searched, and questioned by the police? * Does the DSL help to promote educational outcomes by sharing relevant information about the welfare, safeguarding and child protection issues that children, including those with a social worker or who have had a social worker, are experiencing, or have experienced, and identifying the impact that these might be having on children’s attendance, engagement and achievement at school/college with teachers and school/college leadership staff? * Is the DSL and their deputy/ies aware of and follow multi-agency agreements led by the Derby and Derbyshire Safeguarding Children Partnership (DDSCP)? * In what ways does the DSL act as a main point of contact with the '3' safeguarding partners and other relevant agencies? | C13: =VLOOKUP($A13,'1. Leadership & Key Roles'!$A$3:$E$8,3,FALSE) -> Fully Met | D13: =VLOOKUP($A13,'1. Leadership & Key Roles'!$A$3:$E$8,4,FALSE) -> Yes, DSL have a job description updated each year and they understand the expectations on what to do if there is a domestic violence notification. DSL is around to support staff and they often discuss threshold and if a referral is necessary. DSL is the headteacher. The school has a Confiscation Policy and all staff are aware that an appropriate adult should be around if a child is being questioned or searched. DSL attends TAF, CiN and Child Protection meetings where she reports back on attendance, welfare and educational outcomes because of home life or experiences. DSL's are aware of the sharing of information with multi-agencies as part of the DDSCP. The DSL is available if a multi-agency needs to speak to someone in school about the immediate welfare of a child. She attends TAF, CiN and Child Protection meetings, contacts social workers for advice on if to make referrals. Speaks with DCC Early help to support the school's family support worker. Signpost parents to different agencies to support if necessary. Escalates concerns if agencies are not acting swiftly enough. | E13: =VLOOKUP($A13,'1. Leadership & Key Roles'!$A$3:$E$8,5,FALSE) -> Lead Name: Action/s: Write down what actions we take if there is a domestic violence notification and what steps we take. Timescale: Review date:
A14: 1.6 | B14: =VLOOKUP($A14,'1. Leadership & Key Roles'!$A$3:$E$8,2,FALSE) -> The governing body/trustees have put in place effective responses to child-on-child abuse, including sexual violence and sexual harassment. Considerations: In line with the DDSCP letter to schools have they considered: *Do we have a whole school approach to child-on-child abuse? *What actions are we taking to prevent and minimise the risk of child-on-child abuse? *Do we know whether our learners are able to confidently report abuse, knowing their concerns will be taken seriously, they will be supported and kept safe? *Are our reporting systems well promoted, easily understood and easily accessible? *Do all our staff recognise the indicators and signs of child-on-child abuse? Do they know how to identify it and effectively respond to a child? *Do we know if the abuse that occurs online or outside of school or college taken as seriously as that which takes places within the setting? *Do we have clear effective processes as to how allegations of child-on-child abuse will be recorded, investigated and dealt with, including how victims, alleged perpetrators and any other affected children will be supported? *Do we regularly review all scenarios and the decisions and actions taken to identify any learning so that processes and policies can be updated? *Has the governing body/proprietor, senior leaders including the DSL read, understood and are committed to the DDSCP Child-on-Child Abuse Strategy recognising that the issue requires a partnership-wide strategic response? | C14: =VLOOKUP($A14,'1. Leadership & Key Roles'!$A$3:$E$8,3,FALSE) -> Fully Met | D14: =VLOOKUP($A14,'1. Leadership & Key Roles'!$A$3:$E$8,4,FALSE) -> Yes, we have a Child on Child abuse policy, Behaviour Policy, Child's Complaints policy, IT acceptable use policy, a Child's IT acceptable use policy and an Adult and Child's Antibullying policy. Our curriculum covers healthy relationships through PSHE and looks at good and bad relationships and what you should do about this. Respect, trust, and fairness are three of our school values and these are taught through our class assemblies, and wider curriculum. We cover acceptable and unacceptable touch and what to do about this through Antibullying Week. A survey is run during this week about unwanted touch and what was done about this in an anonymous way, however they can leave their name if they wish to talk about this more. Child have the stop card if they want something to stop but can't talk about it, which was suggested by the children and added into their Antibullying policy. Each classroom has a sharing box which is promoted to the children by the teacher. NSPCC come in and share their role and teach the program- My Privates are My Privates. Online abuse is covered through the PSHCE matters and Project Evolve resources in computing lessons, which links to the DFE recommended Education for a Connected World resources, tackling bullying, unwanted content and sexting/nudes. All staff have been trained on recognising signs annually and these are written into our child protection policy which is reviewed and read annually. The school responds to online bullying at home the same as bullying in school and education is given to both children involved from assertiveness to say no this is con correct, to supporting the child who is bullying to find out why. The Child on Child Abuse policy explains the steps we will take in an incident occurs. After each incident we reflect on if actions could have been different and if policies need to change. DDSCP Child on Child Abuse Strategy is followed and read by DSL and headteacher. https://www.proceduresonline.com/derbyshire/scbs/user_controlled_lcms_area/uploaded_files/DDSCP%20Child%20on%20Child%20Abuse%20Strategy%20Final%20May%2022.pdf | E14: =VLOOKUP($A14,'1. Leadership & Key Roles'!$A$3:$E$8,5,FALSE) -> Lead Name: Action/s: Timescale: Review date:
A15: 2.1 | B15: =VLOOKUP($A15,'2. Safeguarding Policies '!$A$3:$E$13,2,FALSE) -> All establishment staff, governors and regular visitors, including volunteers, supply staff and contractors, are aware of the DDSCP safeguarding children procedures and know how to access them. Considerations: * Are relevant staff familiar with the DDSCP safeguarding children procedures as appropriate to their role? * Does the governing body/proprietors, DSL, their deputies and other relevant safeguarding staff understand the Threshold document (local criteria for action), Assessment protocol, Dispute Resolution and Escalation policy and Child Protection Conference Professional Dissent policy? * Are all staff aware of the local early help process and the process for making referrals to local authority children's social care and or the police? * Are all relevant staff aware of their role in the early help assessment process and any social care processes such as strategy meetings, assessments, multi-agency meetings such as team around the child (TAF) meetings, child in need (CiN) review meetings, child protection (CP) conferences and looked after children (LAC) reviews? | C15: =VLOOKUP($A15,'2. Safeguarding Policies '!$A$3:$E$13,3,FALSE) -> Fully Met | D15: =VLOOKUP($A15,'2. Safeguarding Policies '!$A$3:$E$13,4,FALSE) -> Staff are aware of the DDSCP website relevant to their role. DSL and deputies are aware of the threshold document (local criteria for action), Assessment protocol, Dispute Resolution and Escalation policy and Child Protection Conference Professional Dissent policy. Staff are aware referrals can be made to school's family support worker and know how to make a referral to social care. All relevant are aware that their role is Early Help and they may be asked to support in TAF, CiN, Child Protection or LAC meetings. | E15: =VLOOKUP($A15,'2. Safeguarding Policies '!$A$3:$E$13,5,FALSE) -> Lead Name: Isabel Webb Action/s: Remind staff about the DDSCP website and how this can be used to esculate and look for advice and training. Conpleted Dec 23 Share again the threshold document (local criteria for action), Assessment protocol, Dispute Resolution and Escalation policy and Child Protection Conference Professional Dissent policy with governors. Completed 12.1.23 Timescale: December 2022 Review date: September 2023
