Workbook

Sheet Instructions
A1: Introduction to the Safeguarding Children Audit Tool for Derby and Derbyshire Schools and Colleges
A6: Introduction to Derby/Derbyshire Schools and Colleges Safeguarding Children Audit Tool All schools and colleges should have in place, arrangements that reflect the importance of safeguarding and promoting the welfare of children. These arrangements are set out in Working Together to Safeguard Children (2018), chapter 2. Schools and colleges in England must also have regard to Keeping Children Safe in Education when carrying out their duties to safeguard and promote the welfare of children. Schools and colleges are required to carry out an annual review of their safeguarding practice and to demonstrate how the duties set out in the guidance have been discharged. The safeguarding children audit tool for Derby and Derbyshire schools and colleges has been developed to support establishments to effectively complete their annual safeguarding review.
A8: Ofsted will test the impact of safeguarding arrangements under the Education Inspection Framework (EIF) judgement on the quality of leadership and management. Inspectors will arrive at a judgement about whether the provider has effective safeguarding arrangements or not. This judgement will contribute towards the overall judgement on effectiveness of leadership and management. Judgements are not made solely on what is presented during the inspection. Inspectors must probe further and take into account a range of evidence to evaluate the effectiveness of safeguarding arrangements over time. Any comments received by Ofsted from parents or carers of children attending the setting are also considered. Inspectors will consider the extent to which leaders, managers and those responsible for governance ensure there is a culture of vigilance and that there are effective arrangements to protect children and learners, and these: • Meet statutory requirements • Follow the applicable guidance • Promote learners welfare, including the prevention of radicalisation and extremism Evidence about the effectiveness of safeguarding includes: • Attendance, behaviour (for example bullying) and how well children and learners are supported to keep themselves safe • Whether staff are sensitive to signs of possible safeguarding concerns • Comments about safeguarding from staff, learners, and any parental comments • The extent to which the provision is successfully promoting and supporting learners safety, including taking a proactive approach to managing the risks of sexual violence and harassment Safeguarding is not just about protecting children from deliberate harm, neglect, and failure to act, other aspects of care and education can be associated with heightened risks of harm.
A10: Aims of the safeguarding audit tool The safeguarding audit tool enables you to: • Assess your establishment’s safeguarding processes and practice, identify any gaps, and move on to develop an action plan and a review process to address these • Ensure that key people within the school/college, including the governing body/trustees, know how the school/college is working to keep children safe. This will support strategic challenge to help test and provide assurance that policies, procedures and processes are effective and support the delivery of a robust whole school/college approach to safeguarding • Demonstrate that you have taken appropriate steps to audit your safeguarding arrangements and taken action to safeguard children and young people • Assemble your evidence of impact of safeguarding processes and practice ready for any Ofsted inspection. Remember to keep copies of at least the last 3 previous years of annual safeguarding audits and action plans as this is a good way of demonstrating progression at inspection
A12: Using the safeguarding audit tool The headteacher/principal, designated safeguarding lead and designated child protection governor/trustee should work on this audit together to consider and agree for each section and the associated questions: • Evidence of your current safeguarding processes and practice. • A RAG rating (red, amber, green) not met, partly met, and fully met which best describes your establishment now. To rate your school as fully met, you should at minimum meet all the detailed requirements. If you have some of the requirements, you should rate your school as partly met. • A brief explanation of the evidence supporting your judgment against each question standard. • An action plan with details about the actions in place to meet or improve on the current situation, the timescales for this and when progress will be reviewed. The audit tool will pull together a summary of the identified RAG ratings and an action plan to support the safeguarding planning process and review cycle.
A14: Audit tool completion On completion the audit must be signed by the designated safeguarding lead, headteacher/ principal, designated governor/trustee and chair of governors/trustees to confirm that they agree the contents. The findings of the completed audit must be discussed at senior management meetings as well as a full governing body/trustee meeting; any further actions and their timescales must formally recorded in the minutes. The date of the full governing body/trustee meeting where the audit is to be discussed should also be noted on the audit tool. The governing body/trustees must ensure that audit completion is confirmed with the Derby and Derbyshire Safeguarding Children Partnership (DDSCP). Under local arrangements, Derby and Derbyshire schools and colleges are relevant agencies and have a statutory duty to co-operate and supply information as requested. See Keeping Children Safe in Education
A15: https://www.gov.uk/government/publications/keeping-children-safe-in-education--2
A17: Confirmation of Audit Completion To fulfil its statutory functions, the DDSCP has agreed with Derby and Derbyshire Education subgroup members that all education settings will: • Complete an annual safeguarding audit for the 2022 – 2023 academic year, and • Confirm completion of their annual audit by the 30th June 2023 at the latest by completing a short survey (see links below). Please note a copy of the completed audit is not required by the DDSCP
A21: If you are a Derby School, please complete the confirmation of completion survey here: https://forms.office.com/r/gyvufM5CWf
A22: If you are a Derbyshire School, please complete the confirmation of completion survey here: https://forms.office.com/r/UHrDgsD5tZ
A24: Next steps after completing the audit The audit, action plan and RAG rating should be reviewed halfway through the year as a minimum. It is recommended whenever there is a change in headteacher/principal that the safeguarding audit is reviewed.
A26: If you wish to provide feedback on the content of the Safeguarding Children Audit Tool for school and colleges, please email the Derby and Derbyshire Safeguarding Children Partnership on
A27: ddscp@derby.gov.uk

Sheet 1. Leadership & Key Roles
A1: Section 1. Leadership and Key Roles
A2: Read each statement below and consider whether your setting has not met, partly or fully met the standard. It is important that you reflect on the evidence available and how you know that standards have been met or not. | C2: Status | D2: Give evidence for your current identified rating | E2: Action Planning; provide details about what plans are in place to meet or improve on the current standard. Identify who is responsible, by what date and when the progress will be reviewed.
A3: 1.1 | B3: The governing body and proprietors ensure the school/ college comply with their duties under legislation, contributing to multi-agency working in line with statutory guidance. Considerations: * Are the governing body/proprietor and relevant school staff aware of and understand key legislation and statutory guidance such as Working Together to Safeguard Children and other departmental safeguarding advice documents such as Keeping Children Safe in education? *Does the governing body/proprietor have awareness of their obligations under the Human Rights Act 1989 and the Equality Act 2010 (including the Public Sector Equality Duty)? * Is there a senior board level (or equivalent) lead to take leadership responsibility for the establishments safeguarding arrangements, including those where there are allegations of abuse against staff, supply teachers, volunteers or contractors? * Does the governing body/proprietor and the senior leadership team, especially the DSL, understand the 'three' safeguarding partner arrangements and follow the local multi-agency safeguarding arrangements? * Does the governing body/proprietor understand the local Threshold document which sets out the criteria for action, child protection conferences professional dissent policy, dispute resolution and escalation policy and the local protocols for assessment? * Does the governing body/proprietor have an awareness and due regard to the obligations of the Data Protection Act 2018 and UK GDPR to ensure that personal information is processed fairly and lawfully and kept safe and secure and where appropriate is shared to support the safeguarding of children and individuals at risk? * Are arrangements in place that set out clearly the process and principles for sharing information within the school/college, with the Derby and Derbyshire Safeguarding Children Partnership and other agencies and practitioners as required? *Are the governing body/proprietors and senior school leaders including the DSL aware of and implements any local learning where appropriate, such as those as outlined in DDSCP Briefing note: safeguarding school age children and learning from case reviews and other DDSCP briefing notes located in the multi-agency safeguarding children procedures document library? * Are written safeguarding/child protection reports to governors/trustees a standing item at each full governing body/trustees meeting? * Do all part-time timetables, exclusions, internal, fixed term and permanent, meet requirements of DfE statutory guidance and local guidance, including obligations under Equality duties? * Is there a Prevent action plan/risk assessment in place to keep learners safe from the dangers of radicalisation and extremism? | C3: Fully Met | D3: The Governing body read and reviewed the Child Protection policy and read the statutory guidance KCSIE 22, signed to say they have read and understand part 1. Governors have agreed the Equality and objectives policy 17.2.22 The governing body have a link safeguarding governor. If an allegation has been made against anyone, governors will have committee to support this along with support from Human Resources. The school understand the three safeguarding partner arrangements https://www.childprotectioncompany.com/general/who-are-the-3-safeguarding-partners/#:~:text=The%20Safeguarding%20Partners%20will%20be,falls%20under%20the%20local%20authority. The Threshold offer is understood by the headteacher, DSL and link safeguarding governor. Governors and all staff are aware of the Data Protection 2012 Act because of regular training and changing of policies due to data breach reports. School follows the Derby and Derbyshire agreement of sharing information to protect children. DSL is aware and learns from the serious case reviews, and has asked questions about the invisible men in the household. A written Headteacher report is given to the governors four times a year on referrals made to the family support worker and social care and how many children we have in each category. The numbers are also discussed with the link governor, an additional three times. | E3: Lead Name: Isabel Webb Action/s: Governor trained on managing allegations, and GDPR training. PREVENT action plan on reducing radicalisation- Completed 12.1.23 Timescale: By April 2023 Review date: September 2023
A4: 1.2 | B4: The governing body/proprietor have ensured that there is a whole school approach and proactive culture to safeguarding. Considerations: * How do they ensure that safeguarding and child protection are at the forefront and underpin all aspects of process and policy development? * What steps have been taken to ensure that everyone is involved in the whole school/college approach to safeguarding? * Do all systems, process and policies operate with the best interests of children and learners at their core and recognise that ‘it could happen here’ inside and outside of the school and online? * In what ways is a culture of listening to children and taking into account their wishes and feelings, among staff and in any measure the setting puts in place to protect them, encouraged and supported? * Where there are safeguarding concerns does the governing body/proprietors and school/college leaders ensure the child's wishes and feelings are taken into account when determining what action to take and what services to provide? * Have they ensured that systems are in place which are well promoted, easily understood and easily accessible for children to confidently report abuse, knowing concerns will be treated seriously and that they can safety express their views and give feedback? * Is an open and transparent culture promoted to enable the school/college to identify concerning, problematic and inappropriate behaviour early, minimise the risk of abuse and ensure that all adults working in or on behalf of the school/college are clear about expected and appropriate behaviour, professional boundaries and act within these, in accordance with the ethos and values of the setting? * Are the school/colleges safeguarding policies and procedures transparent, clear, and easy to understand for staff, learners and their parents/carers? | C4: Fully Met | D4: The Governing body read and reviewed the Child Protection policy and read the statutory guidance KCSIE 22, signed to say they have read and understand part 1. Governors have agreed the Equality and objectives policy 17.2.22 Children and parents have been actively in updating their Antibullying and E-safety policy. Children have updated the Children's complaints policy. These polices are shared with governors to review and agree. All behaviour and child on child abuse incidences start with a restorative practise which asks what the child wants to resolve the issue. Our policies reflect this. All staff are trained on Restorative Practise After discussions with the children during Antibullying Week, children said they would like a sign so they can tell a trusted adult that they don't feel safe and want some help but can't talk about this at the moment. This has been included in the Anti-bullying policy. Staff are aware of the staff code of conduct and that we have the following policies to support 'calling in’ concerns such as the Low-Level Concern policy and the Managing Allegations policy. Our policies are annually reviewed and shared with staff. | E4: Lead Name: Action/s: Timescale: Review date:
A5: 1.3 | B5: The governing body/proprietor has ensured that an appropriate senior member of staff, from the school or college leadership team, is appointed to the role of Designated Safeguarding Lead (DSL) to take lead responsibility for safeguarding and child protection, including online safety. Considerations: * Are they a member of the Senior Leadership Team? * The appointed DSL is not the proprietor? * Is the role explicit in the job description? * Is the DSL given appropriate authority and time, funding, training, resources and support? * Is there cover in role? Has a Deputy or Deputies been appointed and trained to the same standard as the DSL? * While safeguarding activities can be delegated, does the lead responsibility remain with DSL? * Is the DSL or deputy/ies available during term time and during school hours for staff to discuss safeguarding concerns? * Have senior leadership team cover arrangements been made should the DSL and their deputy be unavailable? * Are adequate and appropriate DSL cover arrangements made for any out of hours/out of term activities? * Are DSL cover arrangements, including during school holidays, communicated to staff, learners, and partner agencies? | C5: Fully Met | D5: The headteacher is the DSL and the deputy DSL's are the deputy and the senior teacher. Each DSL has this included in their job description. The DSL has time to carry out the role as the headteacher in non-teaching head. The DSL attend termly updates and the deputy/senior teacher and the lead DSL have three yearly DSL training updates. All have annual safeguarding training. The DSL may delegate tasks but the DSL has lead responsibility and is available in school times to support safeguarding concerns. The DSL is available out of hours through the safeguarding email and all staff, governors and parents known they can report concerns to Call Derbyshire to make a referral to social services if they have immediate concerns about the welfare of a child, which is shared on the school website, newsletters and briefings to staff. | E5: Lead Name: Action/s: Timescale: Review date:
A6: 1.4 | B6: The governing body/proprietor/headteacher/principal has ensured that appropriate members of staff have been identified as leads for key areas of safeguarding and they have a co-ordinated approach. Considerations: * Is there an identified senior mental health lead? * Is there a lead teacher for relationships education/relationships and sex education and health education programmes? * In what ways does the designated teacher for looked after children, senior mental health lead, SENCo/named person with oversight for SEND and lead teacher for relationship /relationship and sex education and health education, work together along with the DSL, to advise and support others within the setting? * Does the DSL liaise with relevant staff such as IT technicians, designated teacher, pastoral staff, attendance officers, teachers, school nurses, SENCO's/named person with oversight for SEND and senior mental health leads on matters of safety (including online safety), safeguarding and welfare and on when deciding to make a referral by liaising with relevant agencies? | C6: Fully Met | D6: Headteacher and teacher have been trained as mental health first aiders. The headteacher is the RSE lead, PSHCE and DSL in school. She meets with the SENDCo who is also the LAC lead, to discuss referrals that can be made and support for the child and the family. In discussion with all relevant agencies and support staff referrals are made by the lead DSL. | E6: Lead Name: Action/s: send TA on the mental health lead training to take on the role. Timescale: Review date:
A7: 1.5 | B7: The DSL and deputy/ies liaise with the 'three' safeguarding partners and work with other agencies in line with Working Together to Safeguard Children, Keeping Children Safe in Education, national guidance (i.e. NSPCC - when to call the police) and local policies and procedures. Considerations: * Does the DSL and deputy/ies understand their responsibilities relating to the protection of children, young people and vulnerable adults and safeguarding of all learners, including where there has been a domestic abuse notification via SDAT? * Does the DSL provide support to other staff on child welfare/child protection matters, including child-on-child abuse and protecting children from the risk of radicalisation? * Does the DSL regularly liaise with the headteacher/principal to inform them about safeguarding issues, including children known to local authority children’s social care and or the police? * Is the DSL aware of and understand the requirement for children to have an appropriate adult when detained, searched, and questioned by the police? * Does the DSL help to promote educational outcomes by sharing relevant information about the welfare, safeguarding and child protection issues that children, including those with a social worker or who have had a social worker, are experiencing, or have experienced, and identifying the impact that these might be having on children’s attendance, engagement and achievement at school/college with teachers and school/college leadership staff? * Is the DSL and their deputy/ies aware of and follow multi-agency agreements led by the Derby and Derbyshire Safeguarding Children Partnership (DDSCP)? * In what ways does the DSL act as a main point of contact with the '3' safeguarding partners and other relevant agencies? | C7: Fully Met | D7: Yes, DSL have a job description updated each year and they understand the expectations on what to do if there is a domestic violence notification. DSL is around to support staff and they often discuss threshold and if a referral is necessary. DSL is the headteacher. The school has a Confiscation Policy and all staff are aware that an appropriate adult should be around if a child is being questioned or searched. DSL attends TAF, CiN and Child Protection meetings where she reports back on attendance, welfare and educational outcomes because of home life or experiences. DSL's are aware of the sharing of information with multi-agencies as part of the DDSCP. The DSL is available if a multi-agency needs to speak to someone in school about the immediate welfare of a child. She attends TAF, CiN and Child Protection meetings, contacts social workers for advice on if to make referrals. Speaks with DCC Early help to support the school's family support worker. Signpost parents to different agencies to support if necessary. Escalates concerns if agencies are not acting swiftly enough. | E7: Lead Name: Action/s: Write down what actions we take if there is a domestic violence notification and what steps we take. Timescale: Review date:
A8: 1.6 | B8: The governing body/trustees have put in place effective responses to child-on-child abuse, including sexual violence and sexual harassment. Considerations: In line with the DDSCP letter to schools have they considered: *Do we have a whole school approach to child-on-child abuse? *What actions are we taking to prevent and minimise the risk of child-on-child abuse? *Do we know whether our learners are able to confidently report abuse, knowing their concerns will be taken seriously, they will be supported and kept safe? *Are our reporting systems well promoted, easily understood and easily accessible? *Do all our staff recognise the indicators and signs of child-on-child abuse? Do they know how to identify it and effectively respond to a child? *Do we know if the abuse that occurs online or outside of school or college taken as seriously as that which takes places within the setting? *Do we have clear effective processes as to how allegations of child-on-child abuse will be recorded, investigated and dealt with, including how victims, alleged perpetrators and any other affected children will be supported? *Do we regularly review all scenarios and the decisions and actions taken to identify any learning so that processes and policies can be updated? *Has the governing body/proprietor, senior leaders including the DSL read, understood and are committed to the DDSCP Child-on-Child Abuse Strategy recognising that the issue requires a partnership-wide strategic response? | C8: Fully Met | D8: Yes, we have a Child on Child abuse policy, Behaviour Policy, Child's Complaints policy, IT acceptable use policy, a Child's IT acceptable use policy and an Adult and Child's Antibullying policy. Our curriculum covers healthy relationships through PSHE and looks at good and bad relationships and what you should do about this. Respect, trust, and fairness are three of our school values and these are taught through our class assemblies, and wider curriculum. We cover acceptable and unacceptable touch and what to do about this through Antibullying Week. A survey is run during this week about unwanted touch and what was done about this in an anonymous way, however they can leave their name if they wish to talk about this more. Child have the stop card if they want something to stop but can't talk about it, which was suggested by the children and added into their Antibullying policy. Each classroom has a sharing box which is promoted to the children by the teacher. NSPCC come in and share their role and teach the program- My Privates are My Privates. Online abuse is covered through the PSHCE matters and Project Evolve resources in computing lessons, which links to the DFE recommended Education for a Connected World resources, tackling bullying, unwanted content and sexting/nudes. All staff have been trained on recognising signs annually and these are written into our child protection policy which is reviewed and read annually. The school responds to online bullying at home the same as bullying in school and education is given to both children involved from assertiveness to say no this is con correct, to supporting the child who is bullying to find out why. The Child on Child Abuse policy explains the steps we will take in an incident occurs. After each incident we reflect on if actions could have been different and if policies need to change. DDSCP Child on Child Abuse Strategy is followed and read by DSL and headteacher. https://www.proceduresonline.com/derbyshire/scbs/user_controlled_lcms_area/uploaded_files/DDSCP%20Child%20on%20Child%20Abuse%20Strategy%20Final%20May%2022.pdf | E8: Lead Name: Action/s: Timescale: Review date:

Sheet 2. Safeguarding Policies 
A1: Section 2: Safeguarding Policies and Procedures
A2: Read each statement below and consider whether your setting has not met, partly or fully met the standard. It is important that you reflect on the evidence available and how you know that standards have been met or not. | C2: Status | D2: Give evidence for your current identified rating | E2: Action Planning; provide details about what plans are in place to meet or improve on the current standard. Identify who is responsible, by what date and when the progress will be reviewed.
A3: 2.1 | B3: All establishment staff, governors and regular visitors, including volunteers, supply staff and contractors, are aware of the DDSCP safeguarding children procedures and know how to access them. Considerations: * Are relevant staff familiar with the DDSCP safeguarding children procedures as appropriate to their role? * Does the governing body/proprietors, DSL, their deputies and other relevant safeguarding staff understand the Threshold document (local criteria for action), Assessment protocol, Dispute Resolution and Escalation policy and Child Protection Conference Professional Dissent policy? * Are all staff aware of the local early help process and the process for making referrals to local authority children's social care and or the police? * Are all relevant staff aware of their role in the early help assessment process and any social care processes such as strategy meetings, assessments, multi-agency meetings such as team around the child (TAF) meetings, child in need (CiN) review meetings, child protection (CP) conferences and looked after children (LAC) reviews? | C3: Fully Met | D3: Staff are aware of the DDSCP website relevant to their role. DSL and deputies are aware of the threshold document (local criteria for action), Assessment protocol, Dispute Resolution and Escalation policy and Child Protection Conference Professional Dissent policy. Staff are aware referrals can be made to school's family support worker and know how to make a referral to social care. All relevant are aware that their role is Early Help and they may be asked to support in TAF, CiN, Child Protection or LAC meetings. | E3: Lead Name: Isabel Webb Action/s: Remind staff about the DDSCP website and how this can be used to esculate and look for advice and training. Conpleted Dec 23 Share again the threshold document (local criteria for action), Assessment protocol, Dispute Resolution and Escalation policy and Child Protection Conference Professional Dissent policy with governors. Completed 12.1.23 Timescale: December 2022 Review date: September 2023
A4: 2.2 | B4: All staff, volunteers and governors/proprietors/trustees have read and understood KCSIE Sept 2022 relevant to their role. Considerations: * Have all staff read and understood KCSIE according to their roles and responsibilities? - all staff who work directly with children, at least Keeping Children Safe in Education: for school and college staff (part 1) and Annex B? - all school/college leaders/SLT, including governors/trustees/proprietors and designated safeguarding leads/deputies, all of KCSIE? - all staff who do not work with children directly, at least Keeping Children Safe in Education: for school and college staff (part 1) or Annex A Safeguarding information for school and college staff (a condensed version of part 1). * Where Annex A (the condensed version) is used, has there been an assessment by the governing body or proprietor that they think it would provide a better basis for those staff to promote the welfare and safeguarding children? * Have all staff signed to say they have read and understood KCSIE relevant to their role? * What mechanisms are in place to assist staff to understand, respond to any questions which arise, clarify links to school/college policies and local arrangements and discharge their roles as set out in KCSIE 2022? | C4: Fully Met | D4: All staff and governors have signed to say they have read and understood the KCSIE 2022, relevant to their role in school. A record of this is kept int eh folder in the school office and a digital record in the office SCR folder. Staff write up concerns which are directed to the DSL and actions can be reviewed and fed back to the staff member. Staff are given time in September to ask questions about the new KCSIE and this is also asked on the survey that is completed after they have read this. | E4: Lead Name: Action/s: Timescale: Review date:
A5: 2.3 | B5: The governing body/proprietors have ensured there is an effective and up to date safeguarding/child protection policy. Considerations: * Does the policy reflect KCSIE 2022 and DDSCP local safeguarding arrangements? * Is the policy reviewed at least annually? * Is it updated to incorporate safeguarding issues as they emerge or evolve, lessons learnt and national or local changes? * Does it include references to the context of the school and the community in which it is located and serves and participation in the Stopping Domestic Abuse Together (SDAT) initiative? * Does it outline that some children are potentially at greater risk of harm? For example children with a social worker (child in need and child protection plans), children missing from education and those on part-time timetables or excluded, in alternative provision or elective home education, children requiring mental health support, looked after children, and previously looked after children, care leavers, children with special educational needs and/or disabilities and/or health issues and children who are or may be lesbian, gay, bi or trans (LGBTQ+)? * Does the policy reflect that additional barriers can exist when recognising abuse, neglect and exploitation of children with SEND, including neurodevelopmental conditions such as autism or certain medical or physical health conditions? * Does it include that children can be at risk of harm inside and outside of the school/college, inside/outside of their home, in their community and online? * Does it incorporate online safety, FGM, exploitation (sexual and criminal, including county lines, known locally as child at risk of exploitation/CRE), how children will be kept safe from the dangers of radicalisation/extremism and serious violence? * Does it include the systems by which children can confidently report their concerns/abuse and ensure the child's wishes and feelings are taken into account when determining the action to take and what services to provide? * Does the policy detail the setting’s own individual ‘safeguarding arrangements’ which are consistent with government guidance and local multi-agency safeguarding children procedures put in place by Derby and Derbyshire Safeguarding Children Partnership (DDSCP)? * Does it include that children may not feel ready or know how to tell someone they are being abused or recognise they are being harmed? And how staff should respond when concerns arise? * Is the Prevent action plan/risk assessment referenced in the policy? * Does it include a reference to an annual child protection audit (and confirmation of completion to the DDSCP as required) and an annual online safety audit? * Is the policy consistent with DDSCP procedures, including the thresholds document (local criteria for action), local protocol for assessment, information sharing guidance for practitioners, child protection conference professional dissent policy and dispute resolution and escalation policy? * Have staff contributed to and shaped safeguarding arrangements and the child protection/safeguarding policy? | C5: Partly Met | D5: Our Child Protection policy reflects the KCSIE 22 and the DDSCP local safeguarding offer, which is reviewed annually, agreed by governors and shared with parents and staff. Staff sign to say they have read this and ask if there any questions about the policy which are discussed one to one to support the staff member. The policy includes SDAT and how some children are more at harm than others to abuse and harm. It details that abuse can be at school, home and online. This is also included in the E-safety policy. The policy includes the offer that the school gives including the education to reduce abuse in school and decreasing risk of radicalisation. The policy includes online safety, FGM, exploitation (sexual and criminal, including county lines, known locally as child at risk of exploitation/CRE), how children will be kept safe from the dangers of radicalisation/extremism and serious violence. Children are able to report their concerns through their child complaints policy which is updated annually with them. They know who they can support concerns to, they have three safeguarding boards around school, including on the playground. Children complete an annual antibullying survey where they can share concerns anonymous or named if they want to. They have cards to signal they have a concern if they can't talk about it at that stage and boxes in their classroom to write down their feelings. | E5: Lead Name: Isabel Webb Action/s: * Map out where we are teaching and preventing radicalisation, encourging respect for differences and update the Child Protection policy with this information. * Prevent action plan/risk assessment referenced in the policy. * Staff to help shape the Child policy in more detail Timescale: April 2023 Review date: September 2023
A6: 2.4 | B6: The governing body/proprietor has ensured the safeguarding/child protection policy reflects the whole school approach to child-on-child abuse. Considerations: * Does it incorporate the different forms child-on-child abuse can take and abuse which has occurred, including online and outside of the school/college environment? * Are there procedures to minimise the risk of child-on-child abuse? * Are there systems in place which are well promoted, easily accessible and easily understood for children to confidently report their concerns/abuse? * Is it clear that all concerns/abuse must be treated seriously, regardless of how long ago the abuse may have taken place, that children must be reassured they will be supported and kept safe and not made to feel they are creating a problem or ashamed? * Does it specify reports should be made to 2 members of staff wherever possible? * Does it include how allegations of child-on-child abuse, including sexual harassment and violence will be recorded, investigated, and dealt with? *Does it include clear processes as to how victims, perpetrators and any other children affected by child-on-child abuse will be supported, including reference to intrafamilial harms and support for siblings following incidents? * Is there a recognition that abuse may still be taking place even if it is not being reported and that all staff maintain an attitude of ‘it could happen here’? * Is it clear that there is a zero tolerance approach to child-on-child abuse and a recognition that girls and some vulnerable groups such as children with SEND are more likely to be victims and boys perpetrators? * Does it reflect and reference key national guidance documents/assessment tools and local policies and procedures and the support services available to victims and perpetrators? * Does it make clear that where the report involves rape and assault by penetration, the alleged perpetrator must be removed from any classes they share with the victim and also careful consideration on how best to keep the victim and alleged perpetrator apart on school/college premises (including any before or after school activities) and on transport to and from the setting? * Is it consistent with and cross referenced with the school/college behaviour policy? | C6: Fully Met | D6: The Child Protection policy details the different forms of abuse and this lists the procedures we are taking to reduce this, and how we manage this through a restorative approach. The policy outlines the annual review of the children's complaints policy and the Child's Antibullying policy. Children individually complete an online survey about how safe thei feel in school and regarding bullying. This information is used to update the policies. For example in November 2022the choldren identiffied wanting a signal to be given to a trusted adult to tell them something is happening but they can't talk about this now. The Child Protection policy explains that we use a restorative approach and ask children what they want the outcome to be. The questions can be found in the behaviour policy which is referenced in the Child Protection policy. The school has a child on child policy which details what actions we take to support the victim and perpetractor. School has an attitude it can happen here and continue to teach this through assemblies, computing, RSE, PSHE and pastoral group or 1:1 nurture sessions. The school has a zero approach to peer on peer approach and actions taken will reflect the abuse that has taken place, which are recorded on My Concern. School has just started recording lessons learnt on My Concern so we ar reviewing the actions taken on child on child abuse incidents and how we could have delat with these better. The Child Protection policy is cross referenced with the Behaviour and Child on Child abuse policy. | E6: Lead Name: Action/s: Timescale: Review date:
C7: Not met
A8: 2.5 | B8: All staff, volunteers/supply staff/contractors (where appropriate) and governors/trustees have read and understood the safeguarding/child protection policy and signed to this effect. Considerations: * Are all staff, volunteers and governors/trustees aware of and are clear about the procedures where they identify emerging problems in or outside of the school environment and online, where a child may need support with their mental health or they are concerned about the well-being or safety of a child? * Are all staff, volunteers and governors/trustees aware of and are clear about the role they might be expected to play following a referral or in any assessment? * Do all staff know what to do if they suspect or if a child tells them he/she is being abused or neglected, including if a child reports any form of child-on-child abuse as well as sexual violence or harassment, or if a child shares, produces or receives a sexual communication, including sharing nudes/semi-nudes or if they disclose domestic abuse or so called ‘honour-based’ abuse, including forced marriage, female genital mutilation (FGM), breast ironing, virginity testing or hymenoplasty? * Are all staff able to manage appropriate level of confidentiality and work in the best interests of the child? * Are all staff are aware that safeguarding issues can manifest themselves via child-on-child abuse and are clear on the school/college policy and procedures in regard to this for both victims and alleged perpetrators? * Do staff understand that children’s behaviour is a form of communication and may be an indicator that they are suffering harm or that they have been traumatised by abuse? * Do staff understand that mental health problems can be an indicator that a child has suffered or is at risk of suffering abuse, neglect, or exploitation? | C8: Fully Met | D8: The Child Protection policy outlines what we do if we are concerned about a child and this has been read by all governors and staff. This is supported by the Child on Child Abuse, Antibullying and Behaviour policy. All staff understand that behaviour is a form of communication and understand there may be more concerns behind the behaviour and that mental health can be a sign of abuse. All staff know what to do if they have a concern about a child. | E8: Lead Name: Action/s: Timescale: Review date:
A9: 2.6 | B9: The school website contains relevant safeguarding information and the safeguarding/child protection policy is easily accessible to parents and carers. Considerations: * Is the policy available through the school/college website or via other means and upon request? * Does the school/college website have information about how parents/children/other agencies can contact the DSL and their deputy, including their availability in school holidays? * In what way does the school/college promote awareness of safeguarding issues, including domestic abuse, online safety, child-on-child abuse and child exploitation, with parents and carers? | C9: Fully Met | D9: Child Protection, Child on Child Abuse, Antibullying and Behaviour policy are all available on the school website and the Child's version of these. The website tells parents how can they access the family support worker and the DSL in school, including during the holidays. The school informs parents about safeguarding information via the monthly newsletter, messages on Class Dojo, emails, through the school website, through our community room leaflets, 1:1 support from our Early Help Offer, bespoke support where necessary and whole school parent workshops. | E9: Lead Name: Action/s: Timescale: Review date:
A10: 2.7 | B10: There are effective procedures for missing children and those who may be removed from school with a view to be electively home educated. Considerations: * Is this compliant with the departmental advice about school attendance and statutory guidance on children missing from education and /or from home or care and the local Children Missing from Education policy and Runaway and Missing from Home or Care (RMHC) protocol; including families who go missing? * Are all staff are aware of, understand and consistently follow the school/college procedures for dealing with children who go missing from education and/or home or care, particularly on repeat occasions? * Do staff understand and are alert to the signs that both boys and girls who runaway or go missing from education and /or home or care might be at risk of abuse, neglect and /or sexual and/ or criminal exploitation (CRE)? * Do children missing from school and/or home or care, particularly on repeat occasions, receive well co-ordinated responses that reduce the harm or risk of harm to them? * Are comprehensive records held and shared with relevant agencies to help and protect children? * Where parents/carers express an intention to remove a child from school to be educated at home, does the school will seek to co-ordinate a meeting with the parents/carers, Local Authority and other key professionals where possible before a final decision has been made? * Do relevant staff follow up any absences from school as per School Attendance Guidance? * Where there are any welfare or safeguarding concerns, is advice sought from the DSL or their deputy and any appropriate action taken? * Does the school/college understand that it continues to be responsible for any learner placed with an alternative provision provider and that learners in alternative provision often have complex needs and are vulnerable to additional risk of harm? *Does the setting ensure that the provider meets the needs of the learner and obtained written confirmation from the provider that appropriate safeguarding checks have been carried out on their staff and individuals working for the provider? *Are arrangements in place to ensure attendance is monitored and that there are effective safeguarding arrangements within the provision? | C10: Fully Met | D10: The school has a very detailed Attendance Policy which supports the school to help re-engage children back into school. This lists the support we offer to the child and parents, as well as the penalty fine options and the referral to DCC for court proceedings to take place. The school is aware of the responsibility to report children missing from education and those who decide to EHE and the risk of CRE that this pose. The school is aware of the need to support the missing child when they return with support from Multi-Agency professionals and offer a bespoke support plan to meet that child's needs. Records of all support and actions taken are included on My Concern. When a parent expresses an interest to educate at home a dialogue is opened with parents to discuss reasons for this and if the school can support the family and child with support from the LEA and lead professionals. Pupils who are absent from school are chased up daily for reasons why they are not in school or there is lateness. The Attendance Officer looks for patterns and follows the Attendance policy to offer support or fining where appropriate. Children that attend alternative provision continue to be monitored for attendance. The provision is checked for safeguarding and the quality of education and visits have been made to the site when the child attends. When Tailor-Made-Program has been used as an alternative provision, the school has made safeguarding checks with the agency and there is constant communication with the lead teacher on how to improve and review the educational offer to the child. | E10: Lead Name: Action/s: Timescale: Review date:
A11: 2.8 | B11: The governing body/proprietor ensures the school/college continues to be responsible for any learner placed with an alternative provision provider. Considerations: * Does the school/college recognise that learners in alternative provision often have complex needs and are vulnerable to additional risk of harm? * What steps have been taken to ensure that the provider meets the needs of the learner? * Has written confirmation been obtained from the provider that appropriate safeguarding checks have been carried out on their staff and individuals working for the provider? * Are arrangements in place to ensure attendance is monitored and that there are effective safeguarding arrangements within the provision? | C11: Fully Met | D11: Where we have used alternative provision, we have made safeguarding checks, met with the teacher beforehand on what our expectations are and we have visited the child at that provision. Tailor made program- safeguarding checks are made and there is regular communication with the lead teacher for TMP. Review meetings are offered to parents and social worker to attend. All this communication is recorded on My Concern and the outcomes of these meetings.. Alternative provision/TMP update us daily if the child has attended and we can discuss with parents where there has been no-attendance and how this can be overcome. Again, this is recorded. | E11: Lead Name: Action/s: Timescale: Review date:
A12: 2.9 | B12: A written policy for Relationships Education/Relationship and Sex Education is in place. Considerations: * Is the policy consistent with the Relationships Education, Relationships and Sex Education (RSE) and Health Education guidance? * Have parents been consulted in developing and reviewing the policy? * Does it have regard for statutory guidance and incorporate the importance of using effective quality assured resources such as those outlined in KCSIE or locally approved resources such as the Derbyshire BERT award? * Has it been reviewed and is it up-to-date? * Has it been made available to parents/carers and others? * Has the policy been published on the school website? | C12: Partly Met | D12: School has an RSE policy that has been written with support from parents’ involvement. The policy is due to reviewed summer term 2023 and is up to date. The policy is on the school website and shared with parents via emails. | E12: Lead Name: Isabel Webb Action/s: Look into the Derbyshire BERT award to be included in the RSE policy Timescale: September 2023 Review date: September 2023
A13: 2.10 | B13: Safeguarding/child protection policies are in place and other policies and procedures which come under the safeguarding 'umbrella' (for example: supporting learners with medical conditions, health and safety and well-being, including their mental health, behaviour policies which include mental health and behaviour, acceptable and non-acceptable behaviours, prevention and responding to bullying including cyber bullying, prejudiced based and discriminatory bullying, child-on-child abuse as well as screening, searching, and confiscating powers, complaints, staff behaviour policies including low-level concerns, allegations and whistleblowing, safer recruitment, online safety, physical intervention, school attendance/children missing education, Prevent action plan/risk assessment, SEND annual report and confidentiality/information sharing) are aligned. Considerations: * Is there an action plan to ensure that polices are reviewed, cross referenced appropriately and are consistent? * Are safeguarding umbrella polices reviewed in light of the outcome of the annual (as a minimum) safeguarding/child protection policy review? | C13: Fully Met | D13: School has a member of staff which tracks when policies need reviewing and taking to governors. Child Protection, Antibullying, Behaviour, data protection policies are updated annually in line with the new KCSIE. | E13: Lead Name: Action/s: Timescale: Review date:

Sheet 3. Training
A1: Section 3: Safeguarding Training
A2: Read each statement below and consider whether your setting has not met, partly or fully met the standard. It is important that you reflect on the evidence available and how you know that standards have been met or not. | C2: Status | D2: Give evidence for your current identified rating | E2: Action Planning; provide details about what plans are in place to meet or improve on the current standard. Identify who is responsible, by what date and when the progress will be reviewed.
A3: 3.1 | B3: The governing body/proprietors ensure that all staff receive appropriate safeguarding and child protection training at induction, including online safety, which is regularly updated. Considerations: * Does the schools /college refer to the DDSCP multi-agency training pathway to support decision making about appropriate training for staff? * Are there clear and effective arrangements for staff development and training? * Have the DSL, the deputy/ies and the designated governor received multi-agency training appropriate to their role in the last two years? * Have all members of the governing body/proprietors received appropriate safeguarding/child protection (including online) training at induction which is regularly updated to equip them with the knowledge to provide strategic challenge to test and provide assurance of the school/college safeguarding policies, procedures and practices ensuring a robust whole school/college approach? * Have all staff received appropriate safeguarding children training during the last three years? * Do all staff have an awareness of safeguarding issues that can impact on a child’s welfare or put them at the risk of harm including private fostering arrangements, drug taking, alcohol abuse, domestic abuse, witnessing harm to others which including witnessing domestic abuse, family members who offend or are in prison, deliberately missing education, involvement in the court system, homelessness, sharing nudes/semi-nudes, so-called 'honour based’ abuse/violence including female genital mutilation (FGM), breast ironing, virginity testing and hymenoplasty and forced marriage, sexual exploitation and/or criminal exploitation/county lines known as child at risk of exploitation (CRE), serious violent crime, child-on-child abuse (including sexual violence and harassment) and radicalisation/extremism? * Is it understood by all staff that some children are potentially at greater risk of harm? i.e. children who need a social worker, children missing from education or on part-time timetable, excluded or electively home educated, children requiring mental health support, looked after/previously looked after children, care leavers, children with special education needs and disability (SEND), neurodevelopmental conditions such as autism or health issues and children who may be or are lesbian, gay, bi, or trans (LGBTQ+)? * Do all staff understand that children can be at risk of harm inside and outside of the school/college, inside/outside of their home, in their community and online? * Are all staff aware that some children face additional barriers to telling someone or being unaware they are being harmed due to their vulnerability, disability, sex, ethnicity and or sexual orientation? *Are all staff aware of the importance of building trusting relationships with learners and the importance of being professionally curious? *Do all staff understand that an initial disclosure may only be the first incidence reported rather than representative of a single incident and that trauma can impact on memory? * Have the DSL, deputies and other relevant safeguarding staff attending early help training? * Are staff aware of the vulnerability of babies during their first year of life and understand the role they play in keeping babies safe as per the DDSCP Three Steps to Baby Safety Strategy? | C3: Partly Met | D3: Annually all staff safegurding training. PREVENT training is every three years. All new staff and governors receive safeguarding training as part of their induction and are aware of risks posed to children as they have been given training online. During training Staff are made aware that some children are more at risk than others. Staff are aware risks can be in school, at home, online or in the community. Staff are are professional curiousity and record all concerns however small. They are aware that children may not be ready to speak and the behaviour may be a demonstration of past trauma. Staff have ben trained on trauma induced behaviours from the Ed psychologist in the summer term 22. | E3: Lead Name: Isabel Webb Action/s: DDSCP multi-agency training pathway is used to support decision making about appropriate training for staff. The DSL, the deputy/ies and the designated governor received multi-agency training appropriate to their role in the last two years. DSL, deputies and other relevant safeguarding staff attending early help training. Staff to be aware of the vulnerability of babies during their first year of life and understand the role they play in keeping babies safe as per the DDSCP Three Steps to Baby Safety Strategy. School Bursar to ensure all certificates are collated and inform the Headteacher if these need completing asap. Completed Jan 23 Timescale: January 2023 Review date: January 2023
A4: 3.2 | B4: All staff receive safeguarding and child protection updates, as required. Considerations: * Do staff, including DSL's and their deputies, the chair of governors and governing body/proprietor receive safeguarding and child protection updates as required (at least annually)? * How are safeguarding updates provided, for example via email, bulletins, staff meetings? * Does the headteacher/principal and DSL, as well as other relevant safeguarding staff, receive DDSCP safeguarding updates or in Derbyshire those provided by the child protection manager for education? *Are relevant staff are provided with copies of DDSCP briefing notes and communications? | C4: Partly Met | D4: Staff and governors have annual safeguarding training. Safegurding updates are sent via the weekly briefing, discussed with staff during staff meetings and through face to face where necessary. DSL attends termly updates from DDSCP. | E4: Lead Name: Isabel Webb Action/s: Relevant staff are provided with copies of DDSCP briefing notes and communications. Ensure governors safeguarding certificates are collated so they can be accessed by the DSL and the Headteacher. Timescale: ASAP Review date: September 2023
