Workbook

Sheet Instructions
B1: Introduction to the Derby and Derbyshire Safeguarding Audit Tool for Schools
B6: All schools should have in place, arrangements that reflect the importance of safeguarding and promoting the welfare of children. These arrangements are set out in Working Together to Safeguard Children (2018). Schools in England must also have regard to Keeping Children Safe in Education when carrying out their duties to safeguard and promote the welfare of children. Schools are required to carry out an annual review of their safeguarding practice and to demonstrate how the duties set out in the guidance have been discharged. The safeguarding children audit tool for Derby and Derbyshire schools has been developed to support establishments to effectively complete their annual safeguarding review. It has been developed in line with statutory guidance Keeping Children Safe in Education, other statutory and non-statutory guidance, as well as the local Derby and Derbyshire multi-agency safeguarding children policies and procedures.
B8: Inspecting safeguarding
B10: The Ofsted Education Inspection Framework (EIF) will always take into account how well learners are helped and protected so that they are kept safe. While safeguarding does not have a separate grade, there will always be a written judgement under ‘leadership and management’ about whether the arrangements for safeguarding learners are effective. When safeguarding is ineffective, this is likely to lead to a judgement of inadequate for leadership and management. All schools should have an open and positive culture around safeguarding that puts learners’ interests first. Evidence gathered during the inspection will be triangulated to evaluate the effectiveness of the safeguarding culture that has been established in the school. The extent to which there is an effective whole-school approach to safeguarding will be evaluated to find out how well staff exercise their professional judgement in keeping pupils safe. Judgements are not made solely on what is presented during the inspection, Inspectors will probe further and take into account a range of evidence to evaluate the effectiveness of safeguarding arrangements over time. This includes: • Evidence of effective safeguarding practice and the impact of this practice on all pupils. • How a school is implementing its safeguarding policies and processes effectively and how it keeps them under review. • If there are proper arrangements in place for sharing information appropriately with relevant parties, including forwarding information to schools and post-16 or post-18 providers (such as at the point of transition) and other agencies, such as the Teaching Regulation Agency, for example, around teacher misconduct. • Whether there have been any safeguarding incidents or allegations since the last inspection, and whether the school has taken appropriate action to safeguard the pupils affected and/or to deal with allegations. • Comments about safeguarding from staff, pupils and parents of pupils who attend the school.
B12: Aims of the safeguarding audit tool
B14: The safeguarding audit tool enables you to: • Assess your establishment’s safeguarding processes and practice, identify any gaps, and move on to develop an action plan and a review process to address these. • Ensure that key people within the school, including the governing body/trustees, know how the school is working to keep children safe. This will support strategic challenge to help test and provide assurance that policies, procedures and processes are effective and support the delivery of a robust whole school approach to safeguarding. • Demonstrate that you have taken appropriate steps to audit your safeguarding arrangements and taken action to safeguard children and young people. • Assemble your evidence of impact of safeguarding processes and practice ready for any Ofsted inspection. Remember to keep copies of at least the last 3 previous years of annual safeguarding audits and action plans as this is a good way of demonstrating progression at inspection.
B16: Using the safeguarding audit tool
B18: When using the tool please note that unless specified: • 'School' refers to maintained, non-maintained, independent, pupil referral units, maintained nurseries and colleges. • 'Parents' refers to parents and carers. • 'All staff' refers to anyone working in or on behalf of the school. • 'Safeguarding staff' refers to the designated safeguarding lead, their deputies and other school safeguarding staff.
B20: All policies and guidance documents referenced within the audit tool, can be found in Keeping Children Safe in Education, other statutory and non-statutory guidance, as well as the local Derby and Derbyshire multi-agency safeguarding children policies and procedures.
B22: * Keeping Children Safe in Education | F22: https://www.gov.uk/government/publications/keeping-children-safe-in-education--2
B23: * Schools: statutory guidance | E23: https://www.gov.uk/government/collections/statutory-guidance-schools
B24: * Derby and Derbyshire multi-agency safeguarding children policies and procedures | J24: https://derbyshirescbs.proceduresonline.com/index.htm
B26: The headteacher, designated safeguarding lead and designated child protection governor/trustee should work on this audit together to consider and agree for each section and the associated questions: • Evidence of your current safeguarding processes and practice. • A RAG rating (red, amber, green) not met, partly met, and fully met which best describes your establishment now. To rate your school as fully met, you should at minimum meet all the detailed requirements. If you have some of the requirements, you should rate your school as partly met. • A brief explanation of the evidence supporting your judgment against each question standard. • An action plan with details about the actions in place to meet or improve on the current situation, the timescales for this and when progress will be reviewed.
B28: The audit tool will pull together a summary of the identified RAG ratings and an action plan to support the safeguarding planning process and review cycle.
B30: Audit tool completion
B32: On completion the audit must be signed by the designated safeguarding lead, headteacher, designated governor/trustee and chair of governors/trustees to confirm that they agree the contents. The findings of the completed audit must be discussed at senior management meetings as well as a full governing body/trustee meeting; any further actions and their timescales must be formally recorded in the minutes. The date of the full governing body/trustee meeting where the audit is to be discussed should also be noted on the audit tool.
B34: Please Note: For the academic year 2023-2024, the Derby and Derbyshire Safeguarding Children Partnership (DDSCP) and Local Authority do not require schools to confirm audit completion or provide a copy of their completed audit.
B36: Next steps after completing the audit
B38: The audit, action plan and RAG rating should be reviewed halfway through the year as a minimum. It is recommended whenever there is a change in headteacher that the safeguarding audit is reviewed.
B41: If you wish to provide feedback on the content of the Safeguarding Children Audit Tool for school and colleges, please email the Derby and Derbyshire Safeguarding Children Partnership on
B42: ddscp@derby.gov.uk

Sheet 1. Leadership & Key Roles
A1: Section 1. Leadership and Key Roles | F1: Action Planning: provide details about what plans are in place to meet or improve on the current standard. Identify who is responsible, by what date and when the progress will be reviewed.
A2: Read each statement below and consider whether your setting has not met, partly or fully met the standard. It is important that you reflect on the evidence available and how you know that standards have been met or not. | C2: Key considerations | D2: Status | E2: Give evidence for your current identified rating | F2: Actions | G2: Lead Name | H2: Timescale | I2: Review date
A3: 1.1 | B3: The governing body and proprietors ensure the school complies with their duties under legislation, contributing to multi-agency working in line with statutory guidance. | C3: * Are the governing body/proprietor and relevant school staff aware of, understand and have due regard to key legislation and statutory guidance such as Working Together to Safeguard Children, Human Rights Act 1989 and the Equality Act 2010 (including the Public Sector Equality Duty), Data Protection Act 2018, UK GDPR and other departmental safeguarding advice documents such as Keeping Children Safe in Education (KCSIE)? * Is there a senior board level (or equivalent) lead to take leadership responsibility for the schools safeguarding arrangements, including those where there are allegations of abuse against staff, supply teachers, volunteers or contractors? * Does the governing body/proprietor and the senior leadership team, especially the DSL, understand the 'three' safeguarding partner arrangements and follow the local multi-agency safeguarding arrangements? * Are arrangements in place that set out clearly the process and principles for sharing information within the school, with the Derby and Derbyshire Safeguarding Children Partnership (DDSCP) and other agencies and practitioners as required? *Are the governing body/proprietors and senior school leaders, including the DSL, aware of and implement any local learning where appropriate? * Are written safeguarding/child protection reports to governors/trustees a standing item at each full governing body/trustees meeting? * Do all part-time timetables, exclusions, internal, fixed term and permanent, meet requirements of DfE statutory guidance and local guidance, including obligations under Equality duties? * Is there a Prevent action plan/risk assessment in place to keep learners safe from the dangers of radicalisation and extremism? | D3: Partly met | E3: The Governing body read and reviewed the Child Protection policy and read the statutory guidance KCSIE 23, minutes to say they have read and understand part 1. Governors have agreed the Equality and objectives policy 17.2.22 The governing body have a link safeguarding governor. If an allegation has been made against anyone, governors will have committee to support this along with support from Human Resources. The school understand the three safeguarding partner arrangements https://www.childprotectioncompany.com/general/who-are-the-3-safeguarding-partners/#:~:text=The%20Safeguarding%20Partners%20will%20be,falls%20under%20the%20local%20authority. The Threshold offer is understood by the headteacher, DSL and link safeguarding governor. Governors and all staff are aware of the Data Protection 2012 Act because of regular training and changing of policies due to data breach reports. School follows the Derby and Derbyshire agreement of sharing information to protect children. DSL is aware and learns from the serious case reviews, and has asked questions about the invisible men in the household. A written Headteacher report is given to the governors three times a year on referrals made to the family support worker and social care and how many children we have in each category. The numbers are also discussed with the link governor, an additional three times. | F3: * Governor trained on managing allegations, and GDPR training. * PREVENT action plan on reducing radicalisation | G3: Isabel Webb | H3: By the end of Jan 24 | I3: By September 24
A4: 1.2 | B4: The governing body/proprietor have ensured there is a whole school approach and proactive culture to safeguarding. | C4: * How do they ensure that safeguarding and child protection are at the forefront and underpin all aspects of process and policy development? * What steps have been taken to ensure that everyone is involved in the whole school approach to safeguarding? * Do all systems, process and policies operate with the best interests of children and learners at their core and recognise that ‘it could happen here’ inside and outside of the school and online? * In what ways is a culture of listening to children and taking into account their wishes and feelings, among staff and in any measure the school puts in place to protect them, encouraged and supported? * Are systems are in place which are well promoted, easily understood and easily accessible for children to confidently report abuse, knowing concerns will be treated seriously and that they can safety express their views and give feedback? * Is an open and transparent culture promoted to enable the school to identify concerning, problematic and inappropriate behaviour early, minimise the risk of abuse and ensure that all adults working in or on behalf of the school are clear about expected and appropriate behaviour, professional boundaries and act within these, in accordance with the ethos and values of the school? * Are the school safeguarding policies and procedures transparent, clear, and easy to understand for staff, learners and their parents? | D4: Fully met | E4: The Governing body read and reviewed the Child Protection policy and read the statutory guidance KCSIE 23, minuted to say they have read and understand part 1. Governors have agreed the Equality and objectives policy 17.2.22 Children and parents have been actively in updating their Antibullying and E-safety policy. Children have updated the Children's complaints policy. These polices are shared with governors to review and agree. All behaviour and child on child abuse incidences start with a restorative practise which asks what the child wants to resolve the issue. Our policies reflect this. All staff are trained on Restorative Practise After discussions with the children during Antibullying Week, children said they would like a sign so they can tell a trusted adult that they don't feel safe and want some help but can't talk about this at the moment. This has been included in the Anti-bullying policy. Staff are aware of the staff code of conduct and that we have the following policies to support 'calling in’ concerns such as the Low-Level Concern policy and the Managing Allegations policy. Our policies are annually reviewed and shared with staff.
A5: 1.3 | B5: The governing body/proprietor has ensured that an appropriate senior member of staff, from the school leadership team, is appointed to the role of Designated Safeguarding Lead (DSL) to take lead responsibility for safeguarding and child protection, including online safety and understanding the filtering and monitoring systems, and processes in place. | C5: * Are they a member of the Senior Leadership Team? * The appointed DSL is not the proprietor? * Is the role explicit in the job description? * Is the DSL given appropriate authority and time, funding, training, resources and support? * Is there cover in role? Has a Deputy or Deputies been appointed and trained to the same standard as the DSL? * While safeguarding activities can be delegated, does the lead responsibility remain with DSL? * Is the DSL or their deputy available during term time and during school hours for staff to discuss safeguarding concerns? * Have senior leadership team cover arrangements been made should the DSL and their deputy be unavailable? * Are adequate and appropriate DSL cover arrangements made for any out of hours/out of term activities? * Are safeguarding staff cover arrangements, including during school holidays, communicated to staff, learners, and partner agencies? | D5: Fully met | E5: The headteacher is the DSL and the deputy DSL's are the deputy and the senior teacher. Each DSL has this included in their job description. The DSL has time to carry out the role as the headteacher is a non-teaching head. The DSL receives monthly updates and the deputy/senior teacher and the lead DSL have three yearly DSL training updates. All have annual safeguarding training. The DSL may delegate tasks but the DSL has lead responsibility and is available in school times to support safeguarding concerns. The DSL is available out of hours through the safeguarding email and all staff, governors and parents known they can report concerns to Call Derbyshire to make a referral to social services if they have immediate concerns about the welfare of a child, which is shared on the school website, newsletters and briefings to staff. The school family support worker is available over school holidays.
A6: 1.4 | B6: The governing body/proprietor/headteacher has ensured that appropriate members of staff have been identified as leads for key areas of safeguarding and they have a co-ordinated approach. | C6: * Is there an identified senior mental health lead? * Is there a lead teacher for relationships education/relationships and sex education and health education/PSHE programmes? * In what ways does the designated teacher for looked after children, senior mental health lead, SENCo/named person with oversight for SEND and lead teacher for relationship /relationship and sex education and health education, work together along with the DSL, to advise and support others within the school? * Does the DSL liaise with relevant staff such as IT technicians, designated teacher, pastoral staff, attendance officers, teachers, school nurses, SENCO's/named person with oversight for SEND and senior mental health leads on matters of safety (including online safety/filtering and monitoring), safeguarding and welfare and on when deciding to make a referral by liaising with relevant agencies? | D6: Fully met | E6: Headteacher and teacher have been trained as mental health first aiders. The headteacher is the RSE lead, PSHCE and DSL in school. She meets with the SENDCo who is also the LAC lead, to discuss referrals that can be made and support for the child and the family. In discussion with all relevant agencies and support staff referrals are made by the lead DSL.
A7: 1.5 | B7: The governing body/trustees ensure the DSL and deputy liaise with the 'three' safeguarding partners and work with other agencies in line with Working Together to Safeguard Children, Keeping Children Safe in Education (KCSIE), national guidance (i.e. NSPCC - when to call the police) and local policies and procedures. | C7: * Do safeguarding staff understand their responsibilities relating to the protection of children, young people and vulnerable adults and safeguarding of all learners, including where there has been a domestic abuse notification via SDAT? * Does the DSL provide support to other staff on child welfare/child protection matters, including child-on-child abuse and protecting children from the risk of radicalisation? * Does the DSL regularly liaise with the headteacher to inform them about safeguarding issues, including children known to local authority children’s social care and or the police? * Is the DSL aware of and understand the requirement for children to have an appropriate adult when detained, searched, and questioned by the police? * Does the DSL help to promote educational outcomes by sharing relevant information about the welfare, safeguarding and child protection issues that children, including those with a social worker or who have had a social worker, are experiencing, or have experienced, and identifying the impact that these might be having on children’s attendance, engagement and achievement at school with teachers and school leadership staff? * Has a dedicated secure safeguarding email address, accessible by at least two members of safeguarding staff been set up? Is this checked daily during school term? In school hours and during other times, including school holidays is there an ‘out of office’ message advising if and how often messages will be checked/responded to and when the school will reopen? * Are safeguarding staff aware of and follow multi-agency agreements led by the Derby and Derbyshire Safeguarding Children Partnership (DDSCP)? * In what ways does the DSL act as a main point of contact with the '3' safeguarding partners and other relevant agencies? | D7: Fully met | E7: Yes, DSL have a job description updated each year and they understand the expectations on what to do if there is a domestic violence notification. DSL is around to support staff and they often discuss threshold and if a referral is necessary. DSL is the headteacher. The school has a Confiscation Policy and all staff are aware that an appropriate adult should be around if a child is being questioned or searched. DSL attends TAF, CiN and Child Protection meetings where she reports back on attendance, welfare and educational outcomes because of home life or experiences. DSL's are aware of the sharing of information with multi-agencies as part of the DDSCP. The DSL is available if a multi-agency needs to speak to someone in school about the immediate welfare of a child. She attends TAF, CiN and Child Protection meetings, contacts social workers for advice on if to make referrals. Speaks with DCC Early help to support the school's family support worker. Signpost parents to different agencies to support if necessary. Escalates concerns if agencies are not acting swiftly enough. Write down what actions we take if there is a domestic violence notification and what steps we take. Completed from December 2022
A8: 1.6 | B8: All staff have read and understood KCSIE Sept 2023 relevant to their role. | C8: * Have all staff read and understood KCSIE according to their roles and responsibilities? - all staff who work directly with children, at least part 1 and Annex B? - all school leaders/SLT, including governors/trustees/proprietors and safeguarding staff, all of KCSIE? - all staff who do not work with children directly, at least part 1 or Annex A (condensed version of part 1)? * Where Annex A is used, has there been an assessment by the governing body or proprietor that they think it would provide a better basis for those staff to promote the welfare and safeguarding children? * Have all staff signed to say they have read and understood KCSIE relevant to their role? * What mechanisms are in place to assist staff to understand, respond to any questions which arise, clarify links to school policies and local arrangements and discharge their roles as set out in KCSIE 2023? | D8: Fully met | E8: Staff have read this at the INSET on 04.09.23, when not present they have read and signed to say they have understood this when they were in- MDS, cleaners and caretakers. Govenors have minuted they have read and understood the KCSIE 23. Staff have completed the LGFL qustionnaire and these surveys are used regualrly throughout the year to ensure staff still understand what this means. Regular visitors sign to say they ahve read and understood the KCSIE 23. Documentation from DCC and AGS says staff have all been vetted and completed Safeguarding training.
A9: 1.7 | B9: All staff are aware of the DDSCP safeguarding children procedures and know how to access them. | C9: * Are relevant staff familiar with the DDSCP safeguarding children procedures as appropriate to their role? * Does the governing body/proprietors and all safeguarding staff understand the Threshold document (local criteria for action), Assessment protocol, Dispute Resolution and Escalation policy and Child Protection Conference Professional Dissent policy? * Are all staff aware of the local early help process and the process for making referrals to local authority children's social care and or the police? * Are all relevant staff aware of their role in the early help assessment process and any social care processes such as strategy meetings, assessments, multi-agency meetings such as team around the child (TAF) meetings, child in need (CiN) review meetings, child protection (CP) conferences and looked after children (LAC) reviews? | D9: Fully met | E9: All staff know to Call Derbyshire if they have concerns about the immediate welfare of a child, which is identified in the Child Protection polciy which all staff have read. Safeguarding governor meets reguarly with DSL to review the safegurding audit and understand threshold levels. Monitoring reports taken to FGM to be minuted.

Sheet 2. Safeguarding Policies 
A1: Section 2: Safeguarding Policies and Procedures | F1: Action Planning: provide details about what plans are in place to meet or improve on the current standard. Identify who is responsible, by what date and when the progress will be reviewed.
A2: Read each statement below and consider whether your setting has not met, partly or fully met the standard. It is important that you reflect on the evidence available and how you know that standards have been met or not. | C2: Key considerations | D2: Status | E2: Give evidence for your current identified rating | F2: Actions | G2: Lead Name | H2: Timescale | I2: Review date
A3: 2.1 | B3: The governing body/proprietors have ensured there is an effective and up to date safeguarding/child protection policy. | C3: * Does the policy reflect KCSIE 2023 and DDSCP local safeguarding arrangements? * Is the policy reviewed at least annually? * Is it updated to incorporate safeguarding issues as they emerge or evolve, lessons learnt and national or local changes? * Does it include references to the context of the school and the community in which it is located and serves and participation in the Stopping Domestic Abuse Together (SDAT) initiative? * Does the policy detail the schools own individual ‘safeguarding arrangements’ which are consistent with government guidance and local multi-agency safeguarding children procedures put in place by the DDSCP? * Is the Prevent action plan/risk assessment referenced in the policy? * Does it include a reference to an annual child protection audit (and confirmation of completion to the DDSCP as required) and an annual online safety audit? * Have staff contributed to and shaped safeguarding arrangements and the child protection/safeguarding policy? | D3: Partly met | E3: Child Protection poicy reflcts KCSIE23 and local offer, and this is reviewed annually. The polciy is renewed to reflect local, national and school issues. The sgafuardinga dn LGFL aiudit is referred to and staff can an opportunity to adapt the policy. | F3: Prevent action plan/risk assessment written and referenced in the policy. | G3: Isabel Webb | H3: End of December 23 | I3: By the end of Jan 24
A4: 2.2 | B4: The governing body/proprietor has ensured the safeguarding/child protection policy reflects the whole school approach to child-on-child abuse. | C4: * Does it incorporate the different forms child-on-child abuse can take and abuse which has occurred, including online and outside of the school environment? * Are there procedures to minimise the risk of child-on-child abuse? * Are there systems in place which are well promoted, easily accessible and easily understood for children to confidently report their concerns/abuse? * Is it clear that all concerns/abuse must be treated seriously, regardless of how long ago the abuse may have taken place, that children must be reassured they will be supported and kept safe and not made to feel they are creating a problem or ashamed? * Does it specify reports should be made to 2 members of staff wherever possible? * Does it include how allegations of child-on-child abuse, including sexual harassment and violence will be recorded, investigated, and dealt with? * Does it include clear processes as to how victims, perpetrators and any other children affected by child-on-child abuse will be supported, including reference to intrafamilial harms and support for siblings following incidents? * Is there a recognition that abuse may still be taking place even if it is not being reported and that all staff maintain an attitude of ‘it could happen here’? * Is it clear that there is a zero tolerance approach to child-on-child abuse and a recognition that girls and some vulnerable groups such as children with SEND are more likely to be victims and boys perpetrators? * Does it reflect and reference key national guidance documents/assessment tools and local policies and procedures and the support services available to victims and perpetrators? * Does it make clear that where the report involves rape and assault by penetration, the alleged perpetrator must be removed from any classes they share with the victim and also careful consideration on how best to keep the victim and alleged perpetrator apart on school premises (including any before or after school activities) and on transport to and from the school? * Is it consistent with and cross referenced with the school behaviour policy? | D4: Fully met | E4: School has a separate Child on Child abuse policy and this is referred to in the Child Protection policy. Child have their own policies which are annually reviewed with the children. There are lots of mechanisms for children and adults to reeport and these are reviewed annually. The policies identify how to support perpetartors and victims. Staff areaware even they do not know about it, it could happen here in our school. The Child on Child anuse is cross referenced to the Child Protection/ behaviour and antibullying poicy. | F4: * Does it specify reports should be made to 2 members of staff wherever possible? Completed 03.11.23 | G4: Isabel Webb | H4: 03.11.23 | I4: End of Jan 24
A5: 2.3 | B5: All staff have read and understood the school safeguarding/child protection policy and signed to this effect. | C5: * Are all staff aware of and clear about the procedures where they identify emerging problems in or outside of the school environment and online, where a child may need support with their mental health or they are concerned about the well-being or safety of a child? * Are all staff aware of and are clear about the role they might be expected to play following a referral or in any assessment? * Do all staff know what to do if they suspect or if a child tells them they are being abused or neglected, including if a child reports any form of child-on-child abuse, or if a child shares, produces or receives a sexual communication, including sharing nudes/semi-nudes or if they disclose domestic abuse or so-called ‘honour-based’ abuse, including forced marriage, female genital mutilation (FGM), breast ironing, virginity testing or hymenoplasty? * Are all staff able to manage appropriate level of confidentiality and work in the best interests of the child? * Are all staff are aware that safeguarding issues can manifest themselves via child-on-child abuse and are clear on the policy and procedures in regard to this for both victims and alleged perpetrators? | D5: Fully met | E5: Regaular safeguarding training is completed by staff and they have signed to say they have read and understood the Child Protection and Confidential Reporting policy. All staff know how to report concerns and how to esculate them if they feel no action has been taken. Staff complete regular LGFL safeguarding surveys to reflect on their understanding on safegurding polices and procedures. Polices include how to support victims and perpetartors and actions are recorded on My Concern.
A6: 2.4 | B6: The school website contains relevant safeguarding information, and the safeguarding/child protection policy is easily accessible to parents. | C6: * Is the policy available through the school website or via other means and upon request? * Does the school website have information about how parents/children/other agencies can contact school safeguarding staff, including their availability during out of school hours and in school holidays? * In what way does the school promote awareness of safeguarding issues, including domestic abuse, online safety, child-on-child abuse and child exploitation, with parents? | D6: Fully met | E6: Polices are put onto the school website and they inform parents what to do if they have concerns about a child outside of normal school working hours. Information is shared with parents via Class Dojo, website and the monthly newsletter. We also have documents available outside the school office and in the community room.
D7: Not met
A8: 2.5 | B8: The governing body/proprietor has ensured there are effective safeguarding arrangements to respond to children who are absent from education, particularly on repeat occasions and or for prolonged periods or go missing and those who may be removed from school with a view to be electively home educated. | C8: * Is this compliant with the DfE advice on Working Together to improve school attendance and DfE statutory Children missing from education and /or from home or care guidance and the all local guidance such Vulnerability of children not in school and Children missing from home or care protocol? * Are all staff are aware of, understand and consistently follow the school procedures for dealing with children who are absent from education for prolonged periods and/or on repeat occasions or who go missing from education and/or home or care, particularly on repeat occasions? * Do all staff understand and are alert to the signs that both boys and girls who runaway or are absent or go missing from education and /or home or care might be at risk of abuse, neglect and /or sexual and/ or criminal exploitation? * Do children absent from school and/or missing from home or care, particularly on repeat occasions, receive well co-ordinated responses that reduce the harm or risk of harm to them? * Are comprehensive records held and shared with relevant agencies to help and protect children? * Where parents express an intention to remove a child from school to be educated at home, does the school will seek to co-ordinate a meeting with the parents, local authority and other key professionals where possible, before a final decision has been made? * Do relevant staff follow up any absences from school as per School Attendance Guidance? * Where there are any welfare or safeguarding concerns, is advice sought from safeguarding staff and any appropriate action taken? | D8: Fully met | E8: Attendance policy clearly states the support school takes regarding poor attendance and hw we also challenge through the use of penalty fines. Staff are aware of the increased risks of exploitation from not being in school and will ensure well being checks are made and these are recorded on My Concern. School works alongside differencet agencies to support pupils in school- family support workers, social workers, nurses, CAHMS, CGL workers, tutoring support, Ed psych, Autism Outreach, etc. Office staff follow up concerns of absentissm with the Attendance Officer and the DSL
A9: 2.6 | B9: Safeguarding/child protection policies are in place and other policies and procedures which come un-der the safeguarding 'umbrella' are aligned. For example: supporting learners with medical conditions, health and safety and well-being, including their mental health, behaviour policies which include mental health and behaviour, acceptable and non-acceptable behaviours, prevention and responding to bullying including cyber bullying, prejudiced based and discriminatory bullying, child-on-child abuse as well as screening, searching, and confiscating powers, complaints, staff behaviour policies including low-level concerns, allegations and whistleblowing, safer recruitment, online safety, physical intervention, school attendance/children missing education, Prevent action plan/risk assessment, SEND annual report and confidentiality/information sharing. | C9: * Is there an action plan to ensure that polices are reviewed, cross referenced appropriately and are consistent? * Are safeguarding umbrella polices reviewed in light of the outcome of the annual (as a minimum) safeguarding/child protection policy review? | D9: Fully met | E9: Clerk to governors and offcie staff lisise to ensure policies are cross referenced and rveiewed n a regular time frame.

Sheet 3. Training
A1: Section 3: Safeguarding Training | F1: Action Planning: provide details about what plans are in place to meet or improve on the current standard. Identify who is responsible, by what date and when the progress will be reviewed.
A2: Read each statement below and consider whether your setting has not met, partly or fully met the standard. It is important that you reflect on the evidence available and how you know that standards have been met or not. | C2: Key Considerations | D2: Status | E2: Give evidence for your current identified rating | F2: Actions | G2: Lead Name | H2: Timescale | I2: Review date
A3: 3.1 | B3: The governing body/proprietors ensure that all staff receive appropriate safeguarding and child protection training at induction, including online safety, which is regularly updated. | C3: * Are there clear and effective arrangements for staff development and training? * Have all members of the governing body/proprietors received appropriate safeguarding/child protection (including online) training at induction which is regularly updated to equip them with the knowledge to provide strategic challenge to test and provide assurance of the school safeguarding policies, procedures and practices ensuring a robust whole school approach? * Does the school refer to the training provided by the local authority, Safer Community Partnerships or other partner agencies to support decision making about appropriate safeguarding training for staff? * Have all staff received appropriate safeguarding children training during the last three years? * Have all safeguarding staff attended early help training provided by the local authority? * Does the school refer to the DDSCP multi-agency training pathway to support decision making about appropriate training for staff? | D3: Fully met | E3: Annually all staff safegurding training. PREVENT training is every three years. All new staff and governors receive safeguarding training as part of their induction and are aware of risks posed to children as they have been given training online. During training Staff are made aware that some children are more at risk than others. Staff are aware risks can be in school, at home, online or in the community. Staff are are professional curiousity and record all concerns however small. They are aware that children may not be ready to speak and the behaviour may be a demonstration of past trauma. Staff have ben trained on trauma induced behaviours from the Ed psychologist in the summer term 22. Safeguarding certificates are collated on sharepoint
A4: 3.2 | B4: All staff including the governing board/ proprietors have an understanding of wider safeguarding issues that can impact on a child's welfare or put them at risk of harm. | C4: * Do all staff recognise the indicators and signs of child-on-child abuse (including sexual violence and harassment), know how to identify it, respond to disclosures and who to report it to? * Is it understood by all staff that: - some children are potentially at greater risk of harm - children can be at risk of harm inside and outside of the school, inside/outside of their home, in their community and online - additional barriers can exist when recognising abuse, neglect and exploitation of children with SEND, including neurodevelopmental conditions such as autism or certain medical or physical health conditions - some children face additional barriers to telling someone or being unaware they are being harmed due to their vulnerability, disability, sex, ethnicity and or sexual orientation - children may not feel ready or know how to tell someone they are being abused or recognise they are being harmed - an initial disclosure may only be the first incidence reported rather than representative of a single incident and that trauma can impact on memory - children’s behaviour is a form of communication and may be an indicator that they are suffering harm or that they have been traumatised by abuse *Are all staff aware of the importance of building trusting relationships with learners and the importance of being professionally curious? | D4: Fully met | E4: Staff and governors have annual safeguarding training. Safegurding updates are sent via the weekly briefing, discussed with staff during staff meetings and through face to face where necessary. DSL has monthly updates from DDSCP via email, with relevant parts dessimentated down to staff where appropariate. All staff are aware of the need for every child to have a trusted adult in school.
A5: 3.3 | B5: All staff receive safeguarding and child protection updates, as required. | C5: * Do all staff receive safeguarding and child protection updates as required (at least annually)? * How are safeguarding updates provided, for example via email, bulletins, staff meetings? * Does the headteacher and all safeguarding staff, receive DDSCP safeguarding updates? * Are relevant staff are provided with copies of DDSCP briefing notes and communications? | D5: Fully met | E5: Safegurding updates are sent via the weekly briefing, discussed with staff during staff meetings and through face to face where necessary. DSL has monthly updates from DDSCP via email, with relevant parts dessimentated down to staff where appropariate.
A6: 3.4 | B6: Specific safeguarding issues training have been taken into account. | C6: * Are staff trained to identify and reduce the risk of female genital mutilation (FGM)? * Do teachers know about and understand their mandatory duty to report to the police any known case of FGM on a girl under the age of 18? * Have staff received domestic abuse training relevant to their roles which includes children as victims and the local Operation Encompass arrangement Stopping Domestic Abuse Together? * Are staff aware of the need to protect children from the risk of radicalisation? * Has the DSL undertaken Prevent awareness training? * Has the DSL been supported in developing knowledge and skills to encourage a culture of listening to children and taking into account their wishes and feelings? * Has the DSL been supported to identify the impact of welfare, safeguarding and child protection issues on a child's attendance, engagement and achievement at school and how their education achievements could be promoted? * Are staff trained in the safe use of the internet and social media, including an understanding of filtering and monitoring expectations, applicable roles and responsibilities which is this integrated, aligned and considered as part of the overarching whole school safeguarding approach and wider staff training and curriculum planning? * Have staff had input on the importance of effective information sharing (incorporating their responsibilities in regard of the Data Protection Act 2018 and UK General Data Protection Regulation/UK GDPR)? * Have staff been trained to understand what child-on-child abuse is, how to identify it, address inappropriate behaviour, what to do if they believe a child might be at risk and how to how to handle reports of child-on-child abuse including sexual violence and harassment between children, both on and outside school promises in line with KCSIE? | D6: Fully met | E6: All staff are trained on Child Protection, GDPR, FGM, PREVENT and first aid. Staff have been trained to understand what child-on-child abuse is, how to identify it, address inappropriate behaviour, what to do if they believe a child might be at risk and how to how to handle reports of child-on-child abuse including sexual violence and harassment between children, both on and outside school promises in line with KCSIEStaff are aware of the filtering systems used in school and the need to monitor these. The DSL completes monitoring checks with support from the IT technician regarding the filtering in place. Records are kept on updates to the filtering system. DSL completes 3 year updated training for the role.
A7: 3.5 | B7: There are up-to-date safeguarding and online safety training (and where appropriate safer recruitment training) records for all staff. | C7: * Does this include all staff working in or on behalf of the school? * Is there evidence of the safeguarding/child protection training undertaken by all staff? * Who is responsible for keeping the records and ensuring they are up-to-date? * Where are the records located and who is able to access them? | D7: Fully met | E7: DSL collates the training alongside the SBO. All staff and governors training is collated and is up to date.

Sheet 4. Online Safety 
A1: Section 4: Effective Approaches to Online Safety: Policy, Filtering and Monitoring and Teaching | F1: Action Planning: provide details about what plans are in place to meet or improve on the current standard. Identify who is responsible, by what date and when the progress will be reviewed.
A2: Read each statement below and consider whether your setting has not met, partly or fully met the standard. It is important that you reflect on the evidence available and how you know that standards have been met or not. | C2: Key Considerations | D2: Status | E2: Give evidence for your current identified rating | F2: Actions | G2: Lead Name | H2: Timescale | I2: Review date
A3: 4.1 | B3: The governing body/proprietor has ensured there is an online safety/mobile and smart technology policy outlining a whole school approach to online safety to protect and educate learners (and support parents awareness and understanding) and staff in their use of technology and establishes mechanisms to identify, intervene in and escalate any concerns. The school approach addresses the 4 areas of risk - content, contact, conduct and commerce. | C3: * Is the online safety/mobile and smart technology policy, safeguarding/child protection policy and all other policies and procedures reflected and inter-related with the curriculum, teacher training, role and responsibilities of the DSL and any parental engagement? * Is this aligned with national, regional and DDSCP safeguarding policies/procedures? * Does it include the use of mobile and smart technology and cameras in the school and keeping children safe when they are online at home? * Does it reference the DDSCP Briefing Note: Harmful Online Challenges and Hoaxes? * Does it incorporate whilst at school or outside of the school environment that some children will abuse, sexually harass, bully, and control their peers via mobile and smart technology or share indecent images consensually and non-consensually, and view and share pornography and other harmful content, and how this will be managed? * Does it incorporate online safety resources as outlined in KCSIE? * Is this cross-referenced and consistent with the school safeguarding/child protection policy and appropriate filtering and monitoring on school devices and networks? * Was the policy developed in consultation with a wide range of staff and learners? * Is it reviewed annually? * Are all staff aware of and understand the policy? * How are the principles of online safety across all elements of school life communicated to children and their parents? | D3: Partly met | E3: The school has the following policies: * Child Protection, * Online safety, * IT acceptable use policy * PSHCE policy * BYOD policy * Mobile phone use policy for children, parents and staff. * Relationship and Sex education policy. School uses the model polices from DCC and adapts them to the school and these agreed by governors. These refer to KCSIE 2023 and updated statutory guidance. Policies are cross referenced with our Child Protection policy and some policies, such as the: E-safety, RSE and antibullying policy, are shaped from consultation with parents and the children. The E-safety, Antibullying and IT acceptable use policy are updated annually. The other policies have a three-year cycle. Policies are shared with all staff and they are aware of these because they are shared with the children and they are discussed in staff meetings. The principles of online safety are shared through the curriculum, through special days- E-safety day/Antibullying day, through newsletters, Class Dojo, school website and opinions gain through online surveys. Workshops are offered; however, attendance is often very low. | F3: Check E-safety policy hasd reference the DDSCP Briefing Note: Harmful Online Challenges and Hoaxes. | G3: Isabel Webb | H3: End of March 24 | I3: End of July 24
A4: 4.2 | B4: The governing body/proprietors are doing all they reasonably can to limit children's exposure to risks from the schools IT systems, including when children are learning online at home. | C4: * Is the school working to DfE filtering and monitoring standards? * Has the governing body/proprietor reviewed the standards and discussed what more needs to be done to meet the standards with IT staff and service providers? * Does the number of and age range of learners, learners who are potentially at greater risk and how often they access the IT system as well as the Prevent risk assessment, inform filtering and monitoring systems? * Have relevant staff been identified and assigned roles and responsibilities to manage filtering and monitoring systems? * Is filtering and monitoring provision regularly reviewed, as a minimum annually, for their effectiveness? * Do systems block harmful and inappropriate content without unreasonably impacting teaching and learning? * Does the leadership team and other relevant staff have an awareness and understanding of the provisions in place, manage them effectivity, including receiving regular monitoring reports which meet safeguarding needs and know how to escalate concerns when identified? * Is the safe use of technology, electronic and social media by staff and learners overseen? * Are appropriate tools, such as those outlined in KCSIE, used to what appropriate filtering might look like and whether the filtering provider is signed up to relevant lists? * Does the school communicate and support parents to reinforce the importance of children being safe online and inform them about the systems the school uses to filter and monitor online use, what children are being asked to do online, sites they will be accessing and who from the school their child will be interacting with online? * Are appropriate level of security protection procedures (e-security) in place, in order to safeguard the schools IT systems and everyone who uses them? Are these regularly reviewed? * Does the school refer to the guidance and cyber-security standards outlined in KCSIE? | D4: Partly met | E4: School is meeting the DFE filtering and monitoring standards- it has completed the LGFL audit 22/23. Filtering and monitoring is reviewed to ensure it is not restricting access to learning. The DSL monitors the filtering of the internet in school. Onlinse safety and filtering is shared with parents via the newsletter and the school website. | F4: Complete the LGFL audit 23/24 audit. Governors question and review the LGFL audit and hold a safeguarding monitoring visit in school. Cybersecurity training is planned for Jan 24 for all staff. | G4: Isabel Webb and governor Simon Howard. | H4: End of Dec 23 | I4: End of March 24
A5: 4.3 | B5: The governing body/proprietors ensures that an annual review of the approach to online safety is completed, supported by an annual risk assessment that considers and reflects the risks children face and supports assessing wider online safety policy and practice. | C5: * Does the governing body/proprietor refer to the Questions for the Governing Board Online Safety in schools and colleges to support their reflections as outlined in KCSIE? * What systems are in place to review online safety? * Does the school use the free 360 safe online safety review tool for schools and other supportive tools outlined in KCSIE or use another review tool? * Are these used annually as a minimum? * How have they impacted on online safety policy and practice, including remote learning? | D5: Partly met | E5: School has completed the LGFL audit and actions taken 22/23 to update the E-safety and remote learning policy. | F5: Complete a 360* online safety audit. Questions for the Governing Board Online Safety in schools and colleges to support their reflections as outlined in KCSIE? | G5: Isabel Webb and governor Simon Howard. | H5: End of March 24 | I5: End of March 24
A6: 4.4 | B6: The governing body/proprietors have ensured there is a planned education programme informed by Teaching Online Safety in Schools and Education for a Connected World and Project Evolve and/or via local initiatives such as i-vengers, takes place through relationship education/relationship and sex education/PSHE/ ICT/other lessons and across the curriculum and elsewhere, and is regularly revisited to ensure that it is up-to-date and effective. | C6: * Are learners aware of online safety issues, including sharing nudes/semi-nudes and understand and follow the online safety, use of mobile technology and acceptable use policies? * What strategies are in place to keep children safe, including when they are online at home, and to support them to develop their own understanding of these risks and in learning how to keep themselves and others safe, including offline/online bullying, including sharing nudes/semi-nudes, safe use of the internet and social media? * Is the education and protection of vulnerable children/young people who may be put at particular risk from their own and others’ actions on-line effective? * What actions are being taken to encourage and support learners that it’s safe to tell a trusted adult about any online concerns they may have? * Are parents engaged in school activities which promote the agreed principles of online safety? *Are parents informed and supported to effectively respond and protect children when they raise any online concerns without further punishing children, including by automatically removing access to their devices? * Does the school refer to UKCIS Using External Expertise to Enhance Online Safety Education guidance to support a whole school response towards online safety? * Is the effectiveness and impact of online safety teaching and the resources used regularly evaluated? | D6: Partly met | E6: Online safety is taught through the Computing and PSHCE curriculum. The school has audited its coverage through the Educated for a Connected World and uses Project Evolve and It's not a Joke resources. School uses i-vengers in school and they have procured parent training from Traci Good which was recorded and can be accessed on the school website. Children have their own E-safety policy which is reviewed annually. The DSL monitors incidences of on-line bullying/abuse and actions taken if needed to continue to keep children safe. Parents have been given information to educate their children if they have bullied online or groomed online, and to share with school so we can learn from experiences and keep the children safe at school and at home. | F6: DSL to read UKCIS Using External Expertise to Enhance Online Safety Education guidance to support a whole school response towards online safety. Evaluate the resources used to support online-safety. | G6: Isabel Webb | H6: End of Dec 23 | I6: End of March 24
A7: 4.5 | B7: Do all staff understand the risks posed by adults/young people/children who use technology, including the internet, to bully, groom, radicalise or abuse children, young people and vulnerable adults? | C7: * What steps have been taken to help staff understand these issues? * How are school staff are kept up-to-date about the safe use of internet/ social media and are aware of where they can go for expert advice? * Is action taken immediately when there are concerns about bullying, risky behaviours, sharing nudes/semi-nudes, child-on-child abuse, or children’s well-being? | D7: Fully met | E7: Staff are updated with new resources to keep children safe- March 23. Staff are aware of procedures to take to keep children safe online and school annualy completes a survey with the children on E-safety. All disclosures are followed up, including informing parents how to put filtering on home internet to prevent them seeing content they maybe viewing. Actions taken have been recorded on My Concern.

Sheet 5. Teaching & Behaviour
A1: Section 5: Teaching Safeguarding and Promoting Positive Behaviour | F1: Action Planning: provide details about what plans are in place to meet or improve on the current standard. Identify who is responsible, by what date and when the progress will be reviewed.
A2: Read each statement below and consider whether your setting has not met, partly or fully met the standard. It is important that you reflect on the evidence available and how you know that standards have been met or not. | C2: Key Considerations | D2: Status | E2: Give evidence for your current identified rating | F2: Actions | G2: Lead Name | H2: Timescale | I2: Review date
A3: 5.1 | B3: The governing body and proprietor ensure that children are taught about how to keep themselves and others safe, including online. Relevant topics included within relationships education (RE)/relationships and sex education (RSE) and health education and reinforced throughout the whole curriculum. | C3: * Does it have regard for statutory DfE RE/RSE and Health Education guidance and incorporate the importance of using effective quality assured resources such as those outlined in KCSIE or locally approved resources such as the Derbyshire BERT award? * How does the curriculum etc enable learners to learn and understand healthy relationships online and offline and recognise risks? * Are learners taught about physical health and mental well-being to give them the information that they need to make good decisions about their own health and wellbeing and, when issues arise, know how to seek support as early as possible from appropriate sources? * Is the programme evidence based, fully inclusive and developed to be age and stage of development appropriate? * Is it tailored to the specific needs of individual children, including children who are victims of abuse, those with neurodevelopmental conditions and children with SEND? * How is it incorporated within the whole school approach that prepares learners for life in Modern Britain? * Is it cross referenced and consistent with the school behaviour policy? * If external organisations and speakers are used, is careful consideration given to their suitability and an assessment made to ensure any learning event delivered fits within a planned programme and is consistent with the whole school approach? * Are all programmes informed by best practice principles for teaching PSHE? Does the school ensure that shock, scare and shame tactics are not used? | D3: Fully met | E3: Online safety is taught through the Computing and PSHCE curriculum. The school has audited its coverage through the Educated for a Connected World and uses Project Evolve and It's not a Joke resources. School has a planned E-safety and Antibullying days which covers cyberbullying, privacy, security and how to manage information online. The PSHCE curriculum covers healthy relationships and reinforces the approach of calling thoughts and actions in to education and change behaviours. RSE is tuaght through the Service for Education resources and this is shared with parents if they wish to see them. Behaviours are monitored to see if more education is needed for children. The school uses a restorative approach and has purchased resources/social stories to complete bespoke work with indiviudals where needed. School has auditted its cultural capital and is now including more opportunities to look at diversity within the curriculum. Modern British values are embedded in the curriulum but also taught explictly through asemblies.
A4: 5.2 | B4: A written policy for Relationships Education or Relationship and Sex Education is in place. | C4: * Is the policy consistent with the DfE Relationships Education, Relationships and Sex Education and Health Education guidance? * Have parents been consulted in developing and reviewing the policy? * Does it incorporate the importance of using effective quality assured resources such as those outlined in KCSIE or locally approved resources such as the Derbyshire BERT award? * Has it been reviewed and is it up to date? * Has it been made available to parents and others? * Has the policy been published on the school website? | D4: Fully met | E4: Policy has been written and reviewed with staff and parents regularly and is on the school website for parents to see.
A5: 5.3 | B5: Learners are aware of safeguarding risks, recognise when they are at risk and how and where to get help and support if they need it. | C5: * How are learners helped to understand safeguarding risks and recognise when they are at risk? * How are learners enabled to learn, understand, and are supported to keep themselves safe? * Do learners have an awareness of the support available to them in and outside of the school environment and know how and where to get help and support when they need it? * What systems are in place for learners to report their concerns? Are they well promoted, easily understood and easily accessible? Do learners feel confident to report any concerns? * How does the school reduce the additional barriers which some children face such as those who may be or are LGBTQ+ and children with SEND? * Are these children provided with a safe space for them to speak out or share their concerns with staff? * Can learners identify a trusted adult with whom they can communicate about any concerns? * Where a child has been or is at risk, has a trusted adult has been instrumental in helping them to be safe in accordance with local procedures? * Do learners know how to complain and understand process for doing so? | D5: Partly met | E5: Children are taught online safety, safe touch, how to keep themselves safe and healthy, respecting diversity, British Values and what a healthy relationship is like. This is taught through the computing and PSHCE curriculum, and through the daily whole school assemblies. The curriculum has been adapted to esnure the children have a cultural rucksac of diversity to respect, show fairness, work together with others, trust and aspire to reach their full potential. (The school values). Children have their own complaint and antibullying policy in which they know how to report concerns to a trusted adult through a variety of verbal and non-verbal methods. Children have elected school council members who is a voice to make changes to their environment and discuss concerns. | F5: * To create a more whole school/ classroom apporach to safe behaviours to keep themselves safe and happy by teachers completing regular circle time with children and wellbeing surveys which are followed up with actions taken. | G5: Isabel Webb and all teaching staff | H5: By the end of December 23 | I5: End of March 24
A6: 5.4 | B6: Children are protected and helped to keep themselves from bullying, homophobic behaviour, racism, sexism, and other forms of discrimination. | C6: * How are discriminatory behaviours and derogatory language, including language about disabled people and homophobic, biphobic, sexist, and racist language, challenged? * Is help and support are given to children about how to treat others with respect, including those who have protected characteristics under the Equality duties? | D6: Partly met | E6: Deroagtory and racist comments are recorded oon My Concern and actions taken. Resources have purchased to purchase supporting pupils and advice sought from DCC PSHCE coordinator Yvonne Wright. School has written policy and asked for feedback from parents, diversity has been auditted across the curriculum and adaptions made to increase the coverage of diversity. Respecting diversity is covered as a whole school, in classes, small groups and individual support where needed. | F6: * Children creating their own equality policy and supported needed if other children are demonstarting disrespectful behaviours | G6: Isabel Webb | H6: By end of March 24. | I6: End of July 24
A7: 5.5 | B7: The school has clear systems and processes in place for identifying possible mental health problems. | C7: * Is there a senior mental health lead? * Has the school developed their own bespoke Derby and Derbyshire Mental Health Pathway Guidance outlining the supports available within the school and externally? *Do staff access a range of advice to help them identify children in need of mental health support, including working with external agencies? * Are there clear routes to escalate and clear referral and accountability systems, including when mental health concerns about a child is also a safeguarding concern? * Are all staff aware that mental health problems can be an indicator that a child has suffered or is at risk of suffering abuse, neglect, or exploitation? | D7: Partly met | E7: School has a well-being policy/procedures to support and a mental health lead. The policy identifies where suppot can be accessed. School has a regular wellebing survey for children | F7: School to implement a regular wellbeing survey with the children and discuss how this will make changes to teaching and learning. | G7: All teachers and Isabel Webb | H7: By end of December 23 | I7: End of March 24
A8: 5.6 | B8: There is an effective up-to-date school behaviour policy which incorporates child-on-child abuse (including sexual violence and harassment), mental health issues, learning disabilities and neurodevelopmental conditions such as autism and behaviour. | C8: * Is the policy reviewed annually as a minimum? * Is the policy consistent with DfE Behaviour in schools’ guidance? * Do staff promote a positive culture and positive behaviours? * Do they respond with clear boundaries about what is inappropriate, safe, and acceptable? * Do children presenting risky behaviours receive positive support from staff, who respond with clear boundaries about what is safe and acceptable and seek to understand that triggers for the child’s behaviour? * Do staff understand the behaviour triggers and consistently use effective de-escalation techniques and creative alternative strategies as appropriate? * Does the policy include searching, screen and confiscation which is consistent with the DfE Searching, screening and confiscation in schools guidance? | D8: Partly met | E8: The behaviour policy has been updated to include child-on-child abuse (including sexual violence and harassment), mental health issues, learning disabilities and neurodevelopmental conditions such as autism and behaviour. The school has an updated Child on Child abuse policy and Anti-bullying policy. Staff have been trained from behaviour support and understand how to desculate behaviours. All behaviours are written up on My Concern and actions taken. Two staff members have been trained as Autism Advocates and the trained will be shared with staff by end of March 2024. School has a seperate Searching, screening and confiscation policy. | F8: All staff trained on Autism and how to support them in school and what this looks like. | G8: Isabel Webb and Becci Davies | H8: By March 2024 | I8: End of July 24
A9: 5.7 | B9: The school has an effective anti-bullying policy either as a standalone policy or as part of another relevant policy such as the behaviour policy. | C9: * Has the policy been reviewed in the last two years? * Is it consistent with current anti-bullying guidance, including cyber-bullying, and sexual violence and harassment in schools and colleges? * Is it known and understood by all staff and learners and their parents? * Is there is a strong culture and ethos within the school which promotes a clear understanding of what bullying is and what behaviours are acceptable and unacceptable? * Is there a clear process for dealing with incidents with all learners and their parents? * Is the anti-bullying policy easily available to learners and parents? | D9: Fully met | E9: The school has a separate anti-bullying policy which parents have been invited to have their input on. Children have their own policy. Both policies are reviewed annually. Antibullying is covered in assemblies, through the PSHCE, Computing and across the other curriculum areas to respect differences. The policy is on the school website. Staff record all incidences and bespoke programs to support the perpetrators are written in conjunction with parents.

Sheet 6. Safe Environment
A1: Section 6: Ensuring a safe environment for all children | F1: Action Planning: provide details about what plans are in place to meet or improve on the current standard. Identify who is responsible, by what date and when the progress will be reviewed.
A2: Read each statement below and consider whether your setting has not met, partly or fully met the standard. It is important that you reflect on the evidence available and how you know that standards have been met or not. | C2: Key Considerations | D2: Status | E2: Give evidence for your current identified rating | F2: Actions | G2: Lead Name | H2: Timescale | I2: Review date
A3: 6.1 | B3: The governing body/proprietor ensure staff work in-line with use of reasonable force in schools and refer where needed to the DfE Reducing the need for restraint and restrictive intervention guidance. | C3: * Is the staff team able to develop effective responses, including identification of possible mental health problems, learning disabilities or neurodevelopmental conditions such as autism, provide early intervention and, where appropriate, referral to skilled professionals? * Are these are reviewed and monitored to ensure children are protected and kept safe? * Are effective de-escalation techniques and creative alternative strategies used that are specific to the individual needs of a child? * Are all staff able to develop effective responses as a team and review these to assess the impact, taking into account the views and experiences of the child? * How staff are supported to make reasonable judgements in conjunction with using the legislative framework about when it might be appropriate to use physical contact with a child to protect them and those around them from injury? * Are all incidents are reviewed, recorded and monitored? * Are the views of the child are sought and understood? * Is management of behaviour monitored to ensure it is effective and the use of any restraint significantly reduces or ceases over time? | D3: Fully met | E3: School staff have been trained with behavour support and reducing the use of physical restraint. School has a policy will identifies positive behaviour support incuding physical restraint. Risk assessments are written to support pupils and staff to proactively reduce restraints and ecutaion of dysregaulated behaviours. If pyshical restraints is to be used this will be recorded on My Concern, and reviewed by headteacher/DSL if rescualtion could have happened with out restraint.
A4: 6.2 | B4: The governing body/proprietor ensures the school continues to be responsible for any learner placed with an alternative provision provider. | C4: * Does the school recognise that learners in alternative provision often have complex needs and are vulnerable to additional risk of harm? * What steps have been taken to ensure that the provider meets the needs of the learner? * Has written confirmation been obtained from the provider that appropriate safeguarding checks have been carried out on their staff and individuals working for the provider? * Are arrangements in place to ensure attendance is monitored and that there are effective safeguarding arrangements within the provision? | D4: Fully met | E4: School has information on the alternative provision used and has made a checks on provision and if it is impacting on the pupils well-being and education. This has been recorded on My Concern and the Single Central Record.
A5: 6.3 | B5: Where school premises/facilities are rented out the governing body/proprietor ensures appropriate arrangements are in place to keep children safe. | C5: * Do services provided under the direct supervision or management of the school refer to the school safeguarding and child protection arrangements? * Are checks are made to ensure services or activities provided by another body have appropriate safeguarding and child protection policies and procedures in place? Are these inspected? * Are arrangements in place for the provider to liaise with the school on safeguarding matters where appropriate and does this apply regardless of whether children are on the school roll or not? * Does safeguarding requirements form part of all lease or high agreement as a condition of use and occupation of the premises, including that a failure to comply would lead to termination of the agreement? * Is there an expectation that providers comply with DfE Keeping children safe in out of school settings guidance? * Does safeguarding requirements form part of all lease or high agreement as a condition of use and occupation of the premises, including that a failure to comply would lead to termination of the agreement? * Is there an expectation that providers comply with DfE Keeping children safe in out of school settings guidance? | D5: Fully met | E5: All clubs and external hiring of the school completes TOCs and is sent the schools: * Handbooks * Child Protection Policy * Confidential Reporting policy
A6: 6.4 | B6: The governing body/proprietor ensures the school’s physical environment is safe and secure. | C6: * Does the school maintain a safe and secure physical environment which protects children from harm and the risk of harm? * Is access to the school premises secure? * Are appropriate checks undertaken on supply staff, contractors, visiting speakers and visitors to the school? * Does the school refer to the DDSCP Briefing Note: Access to Schools by Staff from Other Agencies in their roles and responsibilities in respect of providing access to children for assessment and the checks required on visitors to schools? * Does the DSL contribute to the school health and safety assessment? | D6: Partly met | E6: The school site is secure and accessed through fobs. All staff know they need to check DBS's before staff are allowed into the school. If not they must be escorted around school. These are recorded on SCR. Different coloured bands are given to staff to ensure they have been checked in through the school office and if not they are challenged. DDC staff have their id checked before they are allowed access, note form DCC is recorded next to the Single Central Record. No one is allowed into school without prior meetings arranged. The DSL writes the Health and Safety policy. | F6: Security doors fitted with fobs to allow doors to be only accessed with a fob, but opens in a fire. Quotes to be obtained and governors agree costings and work to be completed. | G6: Isabel Webb and Shannon Boam | H6: End of July 24 | I6: End of September 24

Sheet 7. Safeguarding & Welfare
A1: Section 7: Safeguarding and Promoting the Welfare of Children
A2: In order to complete this section, please consider how many concerns about individual learners’ welfare, including pastoral support, emerging needs, complex needs or child protection concerns the school recorded during the current academic year. Reflect on how many of these concerns related to learners: * With disabilities/ special educational needs or neurodevelopmental conditions * Where there were concerns about radicalisation * Where there were concerns about domestic abuse, including any identified via Stopping Domestic Abuse Together (SDAT) notifications * Where there were concerns about child-on-child abuse * Where there were concerns about a child’s emotional well-being or mental health This should include understanding and reflecting local authority Assessment Protocols, the DDSCPs Thresholds document, Dispute Resolution and Escalation policy, Child Protection Conference Dissent policy and appropriate information sharing as outlined in national and local guidance documents. | F2: Action Planning: provide details about what plans are in place to meet or improve on the current standard. Identify who is responsible, by what date and when the progress will be reviewed.
A3: Read each statement below and consider whether your setting has not met, partly or fully met the standard. It is important that you reflect on the evidence available and how you know that standards have been met or not. | C3: Key Considerations | D3: Status | E3: Give evidence for your current identified rating | F3: Actions | G3: Lead Name | H3: Timescale | I3: Review date
A4: 7.1 | B4: As part of the school early help offer, an early help assessment is considered and progressed for children with emerging needs to prevent child protection concerns developing. | C4: * Are all staff able to identify children who may be in need of extra help via either pastoral support or early help processes within the school or in the family or wider community? * Does the school routinely consider extra pastoral support for children with special educational needs and disabilities or health issues and ensure that appropriate support for communication is in place? * How do safeguarding staff promote supportive engagement with parents in safeguarding and promoting the welfare of children, including where families may be facing challenging circumstances? * Are the emerging needs discussed with parents, and/or where appropriate children and young people, and consent sought according to local procedures? * Do safeguarding staff liaise with the senior mental health lead (and mental health support team where available) where safeguarding concerns are linked to mental health? * Following reports of concerns or abuse involving learners with SEND, is there close liaison between safeguarding staff and the SENCO or person with oversight of SEND? * Are staff members liaising with other agencies, setting up inter-agency assessment and where appropriate undertaking lead professional role, supported by safeguarding staff? * Do all of these have a written plan in place? * Are cases kept under constant review? Is consideration given to a referral to local authority children’s services where needs escalate requiring intensive support or where specialist input is required i.e., local authority led early help assessment, child in need or child protection? * Where concerns involve indicators of exploitation, was a risk assessment (from Derby and Derbyshire Exploitation Toolkit) completed for each child, to support decision making about the actions to be taken? If appropriate, were Operation Liberty/Blofeld information sharing forms completed? * Where appropriate, are other relevant locally agreed assessment tools used or guidance referred too, to support identification of need and the level of interventions required? * Are national guidance tools used to support decision making? * Do staff have an understanding of when to make referrals when there are issues concerning sexual and/or criminal exploitation, domestic abuse, a child’s mental health, neglect, child-on-child abuse, radicalisation and/or extremism or that they have sought additional advice/support? | D4: Fully met | E4: The school uses the following Early Help services: * Nurse * CAHMS and Sound Minds * Educational Pyschologist * Crossroads- DV support * Change. Grow. Live- Support for drug use. * Autism Outreach * Speech and Language * NTA and S tutoring services * OOST / Tailor-made program Staff suggest referrals and concerns about children to the DSL, SEND or Attendance Officer. Children with SEND receive pastoral support where needed. All staff are trained on signs for child-on-child abuse, how to respond to the child and to report this to the DSL through My Concern. School takes a restorative approach which is centred around the child and their wishes and what they want. However, if a child is at risk of immediate harm we do not promise that we will not tell anyone. The school has an emphasis on improving communication. Teachers engage with parents at the school gates, through emails and Class Dojo. The pastoral manager may step in and offer support at the very early signs of a concern, to build relationships, which aims to support engagement and improved behaviour and safety for the child. Concerns and referrals are under constant review and these are updated on My Concern. CRE risk assessments are used where necessary. The school is aware of assessment tools and will use these where appropriate. The SENDCo is also the DSL, who knows the thresholds to esculate support being offered. Staff are all trained on what the thresholds and how to make referrals.
A5: 7.2 | B5: When a child has an early help assessment led by local authority children’s services, a Child in Need plan or a Child Protection Plan in place, the school works in partnership with external agencies, the child and their family regarding the concerns. | C5: * Are school staff clear about their role, the actions to be taken by the school, as well as other agencies, to protect and promote the welfare of the child? * Is there a clear action plan and review process? * Does the plan include the action to be taken if a professional has further concerns, or information to report? * Is there is regular and effective liaison with other agencies where appropriate? * Does the school prioritise staff attendance at relevant meetings and provide reports using the agreed report templates and within agreed timescale as required? * Do staff share school safeguarding reports with parents and where appropriate, children? * If possible, are arrangements in place to provide information and attend meetings during school holidays? | D5: Fully met | E5: School attends all TAF, CiN, CP and conference meetings when invited and if a member of staff cannot attend a report is sent to other professionals at the meetings. During holidays the school family support worker will support families and the DSL attends meetings that have been arrnaged for the holidays. The DSL cimmunicates with social workers and will esculate concerns if there is not improvements in the pupils wellbeing and safety.
A6: 7.3 | B6: Safeguarding/child protection concerns requiring intensive, or specialist support are immediately shared with the Local Authority Children's Social Care via telephone (urgent concerns) or online system (non-urgent) or in Derby only via a locality vulnerable children’s meeting (VCM). | C6: * Are staff able to identify children where there are complex needs or child protection concerns either within the school or in the family or wider community, and take the appropriate and necessary action in accordance with local procedures and statutory guidance? * Are children supported, protected and informed about what action the adult is taking to share their concerns? * Are children's wishes and feeling taken into account when determining what action to take and the services to provide? * Are parents made aware of concerns and is consent sought according to local procedures? * Where referrals are made by anyone other than the DSL , is the DSL is informed as soon as possible afterwards? * In all cases is a record of discussions, decisions, actions taken and referral, including referral outcome retained? * Where there are urgent concerns and a telephone referral is made, is this is followed up ‘in writing’ within 48 hours using the appropriate Derby or Derbyshire local authority children's social care referral system? * Is there a record of the outcome for all referrals to local authority children's services? * Where referrals have resulted in a strategy meeting, has the school attended (including virtual meetings) or provided information? * What considerations and arrangements are in place during school holidays for attendance at or provision of information at strategy meetings or other key safeguarding meetings such as child protection conferences? | D6: Fully met | E6: During holidays, the DSL will attend meetings, and if not a report will be sent to share with professionals which will have obtained the parents and pupils' wishes. All referrals and attendance at meetings are recorded on My Concern and identify actions taken and steps to be taken in the future. When referrals have been made to DCC Early Help and Social care these are followed up in writing and outcomes recorded on my Concern.
A7: 7.4 | B7: The DSL is effective in pursuing concerns, where appropriate pressing for re-consideration and protecting children throughout all safeguarding processes and promoting their educational outcomes. | C7: * Is the DDSCP Dispute Resolution and Escalation policy used when there is a difference of professional opinion about the seriousness of a situation or the proposed action? * When there are concerns about the outcome of a Derby or Derbyshire child protection conference, does the DSL use the relevant Child Protection Conference Dissent policy? * In what ways does the DSL promote the educational outcomes of children who have or who have had a social worker? * Are all escalations, child protection conference dissent and actions to promote education outcomes recorded in the child's safeguarding/child protection file and the outcome and actions to be taken noted? | D7: Fully met | E7: The Escalation and the Dissent policy is used when there is a difference of opinions of the situation and proposed actions. The DSL promotes educational outcomes of the children who have a social worker by attending meetings and reporting on academic outcomes, engagement of child and parent, attendance, presentation in school, social skills, engagement in parents’ evenings and supporting homework. The school has used the escalation and dissent procedures and these were recorded on My Concern when necessary.
A8: 7.5 | B8: The governing body/proprietor has ensured that all staff have the skills, knowledge and understanding to keep looked after children and previously looked after children safe. | C8: * Has a designated teacher for looked after children with the appropriate training, relevant qualifications and experience been appointed? * Have appropriate staff the information they need in relation to the child's looked after legal status, contact arrangements with birth parents or those with parental responsibility and their care arrangements and levels of authority delegated to the carer? * Do safeguarding staff have the details of the child's social worker and the name of the virtual school headteacher in the LA that looks after the child? * Are safeguarding staff and designated teacher working in partnership to keep looked after and previously looked after children safe and promote their educational outcomes? * Are educational arrangements in place with the local authority where the child resides? * Is the designated teacher working with the staff from the virtual school to promote the educational achievements of children who are looked after or have previously been looked after? * Have there been discussions about how best to use pupil premium funding for the child? * Are personal education plans in place for every looked after child and are these regularly reviewed within agreed timescales? * Is the school working in partnership with the virtual school headteacher (maintained schools and academies only), external agencies and the child; and taking prompt action when necessary? * Does the designated teacher contribute to and attend LAC meetings for children who are looked after? * Are key staff such as the governing body, headteacher, safeguarding staff, SENCo and senior mental health leads working with the virtual school headteacher to overcome the barriers and promote attendance, attainment and progress of children who have or have had a social worker? * Do safeguarding staff have details of the personal advisor appointed to guide and support care leavers and liaise with them regarding any issues of concern? | D8: Fully met | E8: The school is in close communication with the virtual school head to support the LAC in school. The designated teacher uses the Virtual portal to discuss he best use of the pupil premium + funding which is completed in the PEP portal with the foster parents, social worker and virtual school head. | F8: DSL to attend LAC training
A9: 7.6 | B9: Staff receive regular supervision and support if they are working directly and regularly with children where there are concerns about their safety and welfare. | C9: * Is there a school supervision policy either standalone or part of another relevant policy, outlining which staff will receive supervision, who will do this (internal/external), the supervision model being used, roles/expectations of those involved and recording processes? * Is supervision linked to staff development and learning? * Do supervision support processes include local and national policies, procedures, and guidance and where to seek advice? | D9: Fully met | E9: The school will be reciving supervision from Sept 2024 from the local authourtiy. Staff in school get the opportunity to discuss cases with the the DSL. The family support worker get supervision with the line manager at Anthony Gell

Sheet 8. Record Keeping
A1: Section 8: Safeguarding Record Keeping Processes | F1: Action Planning: provide details about what plans are in place to meet or improve on the current standard. Identify who is responsible, by what date and when the progress will be reviewed.
A2: Read each statement below and consider whether your setting has not met, partly or fully met the standard. It is important that you reflect on the evidence available and how you know that standards have been met or not. | C2: Key Considerations | D2: Status | E2: Give evidence for your current identified rating | F2: Actions | G2: Lead Name | H2: Timescale | I2: Review date
A3: 8.1 | B3: The governing body/proprietors ensure the school has a defined process on safeguarding record keeping whether that be through paper files and systems or electronic systems such as CPOM’s or My Concern, in line with the Data Protection Act (DPA) 2018 and UK General Data Protection Regulation (UK GDPR) to ensure that personal information is processed fairly and lawfully and kept safe and secure and where appropriate is shared to support the safeguarding of children and individuals at risk. | C3: * Does the school have data protection policies and procedures in place which are complaint with legislation as outlined in the Data Protection in Schools Toolkit? * Are these regularly reviewed and updated? * Is there an agreed pro-forma for recording child welfare and child protection concerns? * Are safeguarding record keeping processes outlined in safeguarding/child protection policy? * Are all staff are aware of and understand the process? * Are records kept securely away from main learner files? * Who has access to these records? * Who manages the records in the absence of safeguarding staff? | D3: Fully met | E3: The school uses My Concern and a DPIA has been written for this and is included on the data map. My Concern opens and lists all relevant questions to be completed, so there is a clear proforma. All staff have a login and are given training on how to sue this during their induction. The expectation to report on My Concern is included in the staff handbook and Child Protection policy. Only the DSL can access all the concerns and there is a written rational when some is able to see a concern or be a team around the concern on My Concern. There are three DSL's and if they are absent there is an agreement in place for advice to be sort from the Infant school headteacher/DSL.
A4: 8.2 | B4: The governing body/proprietors ensure the school routinely asks parents and records and maintains up-to-date records of who has parental responsibility for each learner, and where reasonably possible holds more than one emergency contact number for each learner. | C4: * Parental responsibility, emergency contact numbers and private fostering is routinely asked about, recorded and up to date records maintained? * Who has parental responsibility is known by relevant staff, and updated at least annually? * Are all staff aware of what private fostering arrangements are and how to report it within the school? * Is local authority social care consistently informed when a learner is in a private fostering arrangement? | D4: Fully met | E4: Parental responsibility and emergency contact numbers are routinely asked about to keep records up dating and teaching staff have a professional curiosity to ask if a child is being cared for by someone else other that Mum and Dad. The guidelines for private fostering is shared with parents on Class Dojo, through the newsletter and on the school website. Parental responsibility is known by relevant staff and this is updated annually. The DSL/Headteacher knows to inform the local authority if a child is in a private fostering arrangement. Staff are aware of private fostering and report it to the DSL if they believe arrangement have changed on who is caring for the child. School uses the review of the contact details to ask questions if parents/ carer are in a a private fostering arrangement. The school revisits the private fostering guidance and remind staff what to do if they believe arrangements have changed.
A5: 8.3 | B5: The governing body/proprietors ensures that child protection records are maintained as per KCSIE 2023 to ensure the safeguarding record keeping process effective and regularly reviewed. | C5: * Are records kept securely away from main learner files? * Do records include a clear summary of the concern, details of how the concern was followed up/resolved, decisions made, actions taken and outcome, including any dispute resolution and escalation? * Do records incorporate a chronology? * Are concerns (including Stopping Domestic Abuse Together notifications), the decisions made and reasons for them as well as the actions and outcomes are routinely and clearly recorded in a timely way? * Are records only accessed by those who need to see them? * Are records shared appropriately and where necessary, with consent? * Does the school refer to the Derbyshire Education Data Hub Safeguarding Record Keeping guidance, which outlines good practice about the creation, maintenance and retention of safeguarding records? * Are safeguarding recording processes (including recording outcomes for each concern) re-viewed/quality assured as part of safeguarding/child protection policy annual (as a minimum) review? * Did the review consider if the child’s journey and their wishes and feelings were evidenced? | D5: Fully met | E5: Parental responsibility and emergency contact numbers are routinely asked about to keep records up dating and teaching staff have a professional curiosity to ask if a child is being cared for by someone else other that Mum and Dad. The guidelines for private fostering is shared with parents on Class Dojo, through the newsletter and on the school website. Parental responsibility is known by relevant staff and this is updated annually. The DSL/Headteacher knows to inform the local authority if a child is in a private fostering arrangement. Staff are aware of private fostering and report it to the DSL if they believe arrangement have changed on who is caring for the child. The school now uses the review of the contact details to ask questions if parents/ carer are in a a private fostering arrangement. Private fostering guidance and remind staff what to do if they believe arrangements have changed has been shared with staff - Aptil 2023
A6: 8.4 | B6: The DSL ensures safeguarding/child protection files are securely transferred to the new school as soon as possible, separate to main file and confirmation of receipt obtained. | C6: * Is there an agreed file transfer policy/protocol/process to ensure when a child moves school/education provision their safeguarding/child protection file is sent securely to their new education provider? * Numbers of learners with safeguarding/child protection files who have transferred to a new school in year or start of a new term? * Of these, are records transferred as soon as possible and within 5 days of an in-year transfer or within 5 days of the start of a new term? * Have confirmation of receipts for all transferred files been obtained? * Has the DSL also considered if it would be appropriate to share any information, or had a discussion with the new education provider in advance of the child leaving e.g. children with or who have had a social worker, victims of /or perpetrators of child-on-child abuse or those receiving support through the Channel programme or mental health services? * Did this include the information to ensure that any support and any reasonable adjustments can be put in place to ensure a seamless transition ensuring the child’s safety and enabling a positive integration experience and engagement with new staff and learning? * Were dates of any meetings, name of social worker/other key worker and their contact details given to the new provider? *Where a transferred to a new school, has the DSL liaised with the previous schools DSL to clarify any information, concerns, and support needs? | D6: Fully met | E6: Safeguarding files are transferred via My Concern portal if the receiving school has My Concern. Otherwise files can be transferred via password protection or printed and sent via recorded delivery. These are kept separately from the children's information files and will be signed for if these are posted, physically transferred with a receipt obtained. These are stored in the headteachers filing cabinet. Discussions with the new DSL at the receiving school will be had regarding any social care or safeguarding issues before the children start at the school. On one occasion we made a booklet of positive experiences that had been had at the school to support memories of moving on. Names of professionals involved are shared. School works with the Data Hub and is supported on recording and retention of personal data.

Sheet 9. Safer Recruitment
A1: Section 9: Safer Recruitment | F1: Action Planning: provide details about what plans are in place to meet or improve on the current standard. Identify who is responsible, by what date and when the progress will be reviewed.
A2: Read each statement below and consider whether your setting has not met, partly or fully met the standard. It is important that you reflect on the evidence available and how you know that standards have been met or not. | C2: Key Considerations | D2: Status | E2: Give evidence for your current identified rating | F2: Actions | G2: Lead Name | H2: Timescale | I2: Review date
A3: 9.1 | B3: The governing body/proprietors have adopted best practice and robust recruitment and selection processes in line with national guidance KCSIE, Disqualification under the Childcare Act (2006) as amended 2018: statutory guidance for local authorities, maintained schools, academies and free schools (including further education settings) and Disclosure & Barring Service (DBS) requirements, including risk assessment and supervision of volunteers and visitors and section 128 checks. | C3: * Is there a safer recruitment and selection policy which includes issues to do with child protection and safeguarding children at every stage of the process - adverts, application forms, shortlisting, employment history, references, selection and pre-appointment vetting checks, regulated activity and recording? * Are copies of curriculum vitae only accepted alongside an application form? * Are online searches carried out as part of due diligence on shortlisted candidates and are candidates informed about this? * Is there an agreed process/procedure for online searches on shortlisted candidates, including liaison with HR, who will complete the search and who will review findings? * Is there a DBS policy statement which cover all staff? * Does this include risk assessment and recording process to support decision making whether to obtain an enhanced DBS certificate for any volunteer not engaged in regulated activity? * Does this include obtaining written notification from any agency, third party organisation or initial teacher training provider that they have caried out checks on an individual that the school would otherwise perform? * Has the school obtained a copy of the DBS certificate before supply staff begin work at the school, where their DBS checks have disclosed any matter or information – or any information that was provided to the employment business? * Does the school check that the supply staff presenting themselves for work is the same person on whom the checks have been made? * Where contactors are used to provide services, are safeguarding requirements and the check needed set out in the contract? * Does the school check the identity of contractors on arrival at the school? * Is there a policy for the supervision of volunteers? | D3: Partly met | E3: Recruitment and Selection policy updated to KCSIE 22 taken to the Resources committee Nov 22. We only accept application forms completed on a DCC format. These are stored in the personnel files. Online searches are carried out and recorded that they have been complete on the application form. The school has just started using HR's online searches paperwork which allows for questions to be asked during interview if inappropriate content is found. This includes a risk assessment on the findings to help the interview panel review and decide if this person is safe to recruit and work with children. Checks are obtained from supply agencies, taxi companies, universities to ensure all adults that are working in the school have the right to work in the UK and they have Safeguarding checks and training. These emails or letters have been saved next to the SCR on SharePoint. Before staff work in school, their id and DBS is checked and if coming into school regularly they will be added to the SCR. Nobody is allowed to be left alone with the children if we have not had checks safeguarding checks sent over beforehand. If no checks have been completed they are supervised at all times and risk assessments will be completed and checked over by Human Resources before they can work in school. Where contractors are used, just like supply staff, we will get confirmation from the contractor that safeguarding checks have been completed and they have the right to work in the UK. This again will be saved on SharePoint next to the SCR. Contractors id is checked on arrival, and they will not be allowed to be unsupervised if checks have not been completed. School has a volunteer's handbook as well as a supply teacher and music teacher's handbook which is shared with volunteers when they come into school, with inductions completes if they intend to be a regular volunteer in school. Procedures on the supervision of volunteers and what this looks like, and included on the Child Protection policy. | F3: * DBS policy statement for governors/ trustees, associate members, staff, supply staff, volunteers, contractors, trainee students and students on placement has been written. | G3: Isabel Webb | H3: End of Dec 23 | I3: End of March 24
A4: 9.2 | B4: The governing body/proprietor has ensured that a member of the senior leadership team (or other relevant staff) have completed safer recruitment training and all interview panels include at least one member who has completed safer recruitment training. | C4: * Has a member of the governing body, or equivalent, completed safer recruitment training? * Have they completed/refreshed safer recruitment training in last 3 to 5 years? * Are training certificates available? * Has at least one governor completed safer recruitment training for headteacher recruitment purposes? * Is there evidence that on last three selection and/or interview rounds that there was someone on the interview panel with appropriate safer recruitment training? * Is there evidence that on last three selection and/or interview rounds that safer recruitment procedures were used to potentially deter, reject, or identify people who might abuse children or who are otherwise unsuitable to work with children? | D4: Fully met | E4: Headteacher, who is also a goevrnor, has attended safer recruitement training and has a three year update. Attended training on 21.06.22 with certificates saved on the sharepoint and in a paper folder in the school office. On every interview process there is at least one person who has safer recruitment training. Gaps in service history are discuss at interviewed and discussions and governors discuss reasons why candidates may or may not be suitable for the role from their personal statement. Governing body member attended safer recruitment training. 10.10.22 New SBO attended safer recruitment training. 04.10.23 All certificates saved on sharepoint.
A5: 9.3 | B5: Single Central Register (SCR) kept as per DfE regulations and outlined in KCSIE 2023, including written confirmation of relevant checks by agency/training providers/third party staff? | C5: * Who manages and completes the SCR? * Is the SCR complete as outlined in KCSIE and up to date? * Is it checked and signed by the headteacher and designated governor on a termly basis? * Retention of copies of DBS certificates – schools do not have to keep copies of DBS certificates, if a copy is kept, is there a valid reason for doing so? Are they destroyed after 6 months? * Is a record kept of what vetting was carried out, the result and the recruitment decision taken? * How is the school ensuring that staff are aware of relevant legislation, what information will be required of them, including the relationships and associations that staff have in school and outside (including online) which may have an implication for the safeguarding of children in school, and how it will be used to make decisions about disqualification? | D5: Fully met | E5: SCR is overseen by the SBO, headteacher and link safeguarding governor. This is completed by office staff who sign them in. SCR is up to date, awaiting DBS form for one member of staff, and risk assessment has been completed that has been agreed and seen by Human Resources. Copies of DBS certificates are not retained. Evidence of right to work check are copied and signed, along with id verifications and certificates. Separate Excel grid next to the SCR on SharePoint lists the checks and updates made to the SCR. With the DSL and link safeguarding governor checking this termly. DSL reads the updated forums/briefings and information is disseminated down through briefings and staff meetings to all staff. All records kept are inline with data protection, privacy notices and written in our records and retention policies.
A6: 9.4 | B6: The school has clear policies and procedures for ensuring different types of visitors to the school are suitable and checked and monitored as appropriate. | C6: * Does it include how decisions will be made about the need to escort of supervise visitors such as children's relatives and others visiting a school activity? * Does it include visitors who are there in a professional capacity, checking ID and assurance that the visitor has had the appropriate DBS checks? * Does the school refer to the DDSCP Briefing Note: Professional visitors to schools by staff from other Derby and Derbyshire agencies? * Are arrangements set out for all visiting speakers and external organisations coming to the premises – whether invited by staff or by children themselves? Has an assessment been made of the education value, age appropriateness of what is going to be delivered, suitability, ability to meet the full range of learners’ needs and whether relevant checks and supervision will be required? * Are all programmes informed by best practice principles for teaching PSHE? * Does the visiting speaker/external organisation fit within a planned education programme, and will their input be consistent with the whole school approach which keeps children safe and prepares learners for life in modern Britain and creates a culture of zero tolerance for sexism, misogyny/misandry, homophobia, biphobia, transphobia and sexual violence/ harassment? | D6: Fully met | E6: Clear instructions have been given to office staff when signing people in during COVID, this needs updating and sharing with all staff, including the caretaking and cleaning staff. External Contributors Policies are completed for all visitors into school, which is overseen by the DSL/Headteacher. These are inline with the schools PSHCE curriculum. Update of clear procedures on what to do if we have a visitor in school. This to be placed in the office on what steps will be taken by anyone signing visitors into school and added as an appendix to the Child Protection Policy. Used the DDSCP Briefing Note: Access to Schools by Staff from Other Agencies used to support this.
A7: 9.5 | B7: The governing body/proprietors ensure induction for all new staff has a safeguarding element which includes KCSIE, the school safeguarding/child protection policy, online safety (including filtering and monitoring), safeguarding response to children who go missing from education, behaviour policy, staff behaviour policy/code of conduct, response to children who are absent from education and role and identity of the DSL and their deputy, designated teacher for looked after children, senior mental health lead and designated governor. | C7: * Are copies of relevant safeguarding polices and a copy of KCSIE, appropriate to their role, provided to staff at induction? * Are all staff aware of systems in the school which support safeguarding? * Is a proportional risk based approach to the level of information provided to temporary/supply staff/contractors and volunteers made? * Is there on-going consideration to staff suitability in order to prevent the opportunity for harm to a child and is this outlined in the staff behaviour policy/code of conduct, including low-level concerns? | D7: Fully met | E7: Inductions are completed for all staff and these are saved in the personnel files. Included in the induction is reading of the staff handbook, code of conduct, social media policy, behaviour policy, confidential reporting, low level concern policy, who the DSL is and what steps need to be taken if you are concerned about the wellbeing of a child and basic safeguarding training and Health and Safety.

Sheet 10. Staff Behaviour
A1: Section 10: Staff Behaviour/Professional Conduct Policy (Code of Conduct), including low-level concerns | F1: Action Planning: provide details about what plans are in place to meet or improve on the current standard. Identify who is responsible, by what date and when the progress will be reviewed.
A2: Read each statement below and consider whether your setting has not met, partly or fully met the standard. It is important that you reflect on the evidence available and how you know that standards have been met or not. | C2: Key considerations | D2: Status | E2: Give evidence for your current identified rating | F2: Actions | G2: Lead Name | H2: Timescale | I2: Review date
A3: 10.1 | B3: The governing body/proprietor has ensured there is a staff behaviour policy/code of conduct, which includes low-level concerns, allegations against staff and whistle blowing, plus acceptable use of technologies (including the use of mobile devices), staff/learner relationships and communications including the use of social media? Note: some schools may have stand-alone low-level concerns, managing allegation and whistleblowing policies. If this is the case, it is essential that they are cross referenced and are consistent with each other. | C3: * Does the policy reflect DfE guidance and other relevant guidance e.g. from the Safer Recruitment Consortium and Farrer and Co? * Does it distinguish expected and appropriate behaviour from concerning, problematic or inappropriate behaviour? * Have staff and others been engaged and consulted so they can be involved in shaping the policy? * Does it include what a low-level concern is, the importance of sharing low-level concerns and an explanation of what the purpose of the policy is i.e. to create and embed a culture of openness, trust, and transparency? * Does it outline how low-level concerns should be reported and to whom, how they will be responded to, recorded, and reviewed? * Where the school process is for concerns to be initially shared with the DSL or another member of staff, is the headteacher informed in a timely fashion according to the nature of the concern? * Is it clear that the headteacher is the ultimate decision maker in respect of all low-level concerns? * Does the policy reference, if and the circumstances in which, the headteacher may wish to consult with the DSL to take a more collaborative decision-making approach? * Is the policy cross referenced/consistent with the safeguarding/child protection policy? * Are the school and external whistleblowing processes reflected in the policy? * Have the governing body, trust and HR team liaised to agree, approve and sign off staff behaviour policy/code of conduct? * Is the policy clear how staff can share any concerns in confidence and clear, easy to understand and implement? * Are all staff, supply staff/contractors, visitors and volunteers who come into the school regularly aware of the policy? * On induction all staff been given a copy of the staff behaviour policy/ code of conduct, have read and understood it and signed to this effect? * Has the policy been published on school website or via other means? * Is information about the school staff behaviour policy/code of conduct displayed in staff rooms or equivalent? | D3: Partly met | E3: The school has the following policies: * Confidential Reporting * Social Media Policy * Bring your own device policy. Low Level Concern policy which lists expected behaviours and concerning behaviours. This has been shared in consultation with staff during a staff meeting. It lists the reasons for having this policy to keep us all save and have an open culture of trust and transparency. Concerns are reported to the DSL who is also the Headteacher and this is included in the policy. A record of low-level concerns is kept to ensure there is not patterns or extra training needed. The policy makes links to the confidential reporting policy. Safer recruitment policy with references to KCSIE 22 and 23. school uses the Human Resources online checks which are updated with the Farrer and Co resources for online checks. These polices are shared with all staff, regular volunteers and external contributors during induction. There is staff in the staff room which has the policies. Governing body signed off the staff code of conduct on 6.10.22 which is shared with staff annually in September and for new staff during the induction process, which they complete a Microsoft Forms to say this has been is completed. This is shared on the school website and saved on the SharePoint for all to see. | F3: * Check the DfE guidance and other relevant guidance on staff behaviour e.g. from the Safer Recruitment Consortium and Farrer and Co, is reflected in the school's safegurading policies * Make sure the low level concern policy has has the headteacher as the ultimate decision maker in respect of all low-level concerns. * Ensure the Low-level Concern policy references, and identifies the circumstances in which, the headteacher may wish to consult with the DSL to take a more collaborative decision-making approach. * Publish the Low-level Concern policy onto the school website. | G3: Isabel Webb, Jill Warren | H3: End of December 23 | I3: End of March 24
A4: 10.2 | B4: The governing body/proprietor has ensured the school has regularly refreshed staff understanding of staff behaviour and ‘safer working practice’. | C4: * What training or awareness raising is in place to ensure all staff understand the staff behaviour policy /code of conduct, including low-level concerns, allegations, whistleblowing, behaviour to be aware of and how organisational grooming occurs? * Is staff behaviour (including distinguishing expected and appropriate behaviour from concerning, problematic or inappropriate behaviour) and safer working practices regularly discussed in staff meetings or briefings? * How have all staff been supported to understand the importance of reporting low-level concerns and feel empowered to do so? * Are all staff clear about how to report any concerns they may have and who to? * Is the staff behaviour policy/code of conduct embedded within the whole school safeguarding culture? * How does learning from managing allegations against staff (including supply teachers, contractors and volunteers) and low-level concerns inform the schools safer working practices? * Are all staff involved in reviewing the staff behaviour policy/code of conduct? | D4: Partly met | E4: Newly appointed staff completed online training through the Learning Pool. Acceptable and unacceptable behaviour is discussed in staff meetings and added to the briefings and extra training given if needed. The mantra of it could be happening here and probably is has been shared with all staff and those that report low level concerns are thanked for sharing and improving our safeguarding practises. Staff are aware of procedures to report incidences from the policy. After every low-level incident or managing allegations, these have been recorded to see if more training is needed or policies need reviewing. Staff part of the reviewing the staff code of conduct and reviewing the low-level concern policy | F4: Check and update the induction paperwork to include all school's safeguarding policies. | G4: Isabel Webb | H4: End of December 23 | I4: End of March 24
A5: 10.3 | B5: Where there have been low-level concerns about adults working in the school, the procedure for managing these has been properly used by the school. | C5: * Have all low-level concerns been responded to as outlined in the school staff behaviour policy/code of conduct? * Have all low-level concerns been recorded in writing by the headteacher, including details of the concern, context and the action taken? * Have low-level concerns about supply staff and contractors been notified to their employers? * Does it include the name of the individual sharing the concern? Remember, individuals wishing to remain anonymous should be respected as far as reasonably possible. * Are all records kept confidential, held securely, and comply with legislation? * Are multiple low-level concerns regarding the same individual kept in chronological order and with a timeline? * Are records reviewed so that potential patterns of concerning, problematic or inappropriate behaviour are identified, and if needed appropriate actions taken i.e., with the individual concerned (disciplinary procedures, escalation to harms threshold), school policies revised, or extra training provided? | D5: Fully met | E5: Low level concerns since September 22 have been written up using the policy form. General overview of the concern has been recorded on a password protected table with context and actions taken. These are not shared on a reference and the school seeks advice from Human Resources before sharing this information and following legislation. Multiple concerns are recorded in chronological order in a confidential file, so patterns of behaviour can be seen and actions taken with support from Human Resources and the safeguarding LADO. Concerns about supply teachers have been reported to the agency and these have been added to the low-level concern table.
A6: 10.4 | B6: Concerns about poor or unsafe practice and potential failures in the schools safeguarding regime are reported and taken seriously by the governing body/proprietor and senior leadership team. | C6: * Is there evidence that all staff and volunteers know how to make a complaint and how to manage whistleblowing or other concerns about the practice of adults, poor or unsafe practice or potential failures within the schools safeguarding regime, in regard to the safety and protection of children? * When concerns have been raised how have these been addressed, is there an action plan and review process? | D6: Fully met | E6: All staff and governors read the confidential reporting policy annually and completed a Microsoft Forms to say they have read this. It regularly discussed in staff meetings and put on the briefings how to raise a concern and how this needs to be kept confidential at all times. Concerns are written up and saved confidentially with actions taken.All staff know how to report a low level concern or allegation.

Sheet 11. Allegations
A1: Section 11: Procedures for Managing Allegations of Abuse Made Against Staff, including Supply Staff, Contractors and Volunteers | F1: Action Planning: provide details about what plans are in place to meet or improve on the current standard. Identify who is responsible, by what date and when the progress will be reviewed.
A2: Read each statement below and consider whether your setting has not met, partly or fully met the standard. It is important that you reflect on the evidence available and how you know that standards have been met or not. | C2: Key Considerations | D2: Status | E2: Give evidence for your current identified rating | F2: Actions | G2: Lead Name | H2: Timescale | I2: Review date
A3: 11.1 | B3: The governing body/proprietor has ensured there are procedures in place within the school staff behaviour policy/code of conduct to manage safeguarding concerns or allegations against staff (including supply staff, contractors and volunteers) that may meet the harms threshold. | C3: * Is there an up-to-date school allegations against staff policy within the staff behaviour policy/code of conduct, which includes duty to refer to DBS and/or the Secretary of State via the Teaching Regulation Agency, when the criteria have been met? * Does it include any behaviour that may have happened outside school (known as transferable risk)? * Does it include if the school receives an allegation relating to an incident that happened when an individual or organisation was using school premises for the purpose of running activities for children? * Is it clear about to whom allegations and concerns should be reported and that this should be done without delay? * Does it incorporate looking after the welfare of the child and who is responsible for this, as well as investigating and supporting the person subject to the allegation? * Are non-recent allegations and learning lessons to determine if improvements can be made both covered within school procedures? * Is it clear that concerns/allegations about supply staff and contractors should be notified to the employment agency? * Is the policy consistent with the school safeguarding/child protection and other linked polices, as well as DfE KCSIE and the DDSCP procedure for Managing Allegations against staff, carers and volunteers? | D3: Partly met | E3: We have the following policies which have been agreed by governors and read by all staff: * Child Protection policy with the responsibility to report to the DBS or the secretary of state through the TRA if the criteria has been met. This includes transferable risks. * Confidential reporting policy. * Recruitment and retention policy. This includes looking at online profile and discussions at interview about transferable risks. * Staff code of conduct policy. * Low-level concern policy. * Staff handbook. * Student handbook. * Music teachers/club leader’s handbook. * Managing allegations against staff policy, explains the procedures and steps to raise a concern and how the DSL should report to the LADO. Concerns are written up and reviewed to update procedures and training. Policies are all cross referenced and a spreadsheet is kept with this on by the office staff. | F3: To use the DCC managing allegations policy and adapt to the school and take to FGM in December 23. | G3: Isabel Webb | H3: End of Dec 23 | I3: End of March 24
A4: 11.2 | B4: The governing body/proprietors and senior leadership team are fully aware of their roles and responsibilities relating to allegations against teachers and other staff, including supply teachers, contractors and volunteers that may meet the harms threshold. | C4: * Are all members of the senior leadership team aware of and understand the school policy for managing allegations and DDSCP procedure for managing allegations against members of staff, carers and volunteers? *Is there a member of the governing body/trust (usually the chair) responsible for responding & liaising with the local authority in the event of an allegation being made against the headteacher? * Have the headteacher, DSL and designated governor have attended appropriate managing allegations training? | D4: Partly met | E4: Headteacher and deputy has attended training on managing allegations against staff. 18.11.21 and 22.11.22. School has a low level policy that has been shared and adapted by staff. | F4: Governor needs training on managing allegations against staff. Governors to agree the managing allegations against staff policy/procedures | G4: Governors | H4: Asap | I4: End of Dec 24
A5: 11.3 | B5: All members of staff are aware of the procedure for responding to and managing allegations against staff, including the headteacher, supply staff, contractors and volunteers, and are clear about how to report any concerns they may have and to who? | C5: * Do all staff have a copy of the staff behaviour/code of conduct policy and are able to understand and distinguish expected and appropriate behaviour from concerning, problematic or inappropriate behaviour? * Do all staff understand the procedures within the staff behaviour policy/code of conduct for managing concerns/allegations that may meet the harms threshold? * Are supply staff/contractors, visitors and volunteers who come into the school regularly aware of how the school manages concerns/allegations against staff? * Is information about the school staff behaviour policy/code of conduct and the process for reporting and managing concerns/allegations displayed in staff rooms or equivalent? | D5: Fully met | E5: All DSL have read the KCSIE part 1-5 and understand their role in managing allegations. The headteacher and deputy have attended the managing allegations training. The chair of governors would liaise with the LADO regarding a complaint or allegation which is written into the managing allegations and complaints policy. Annually all staff read the code of conduct and signed to say they understand this, the handbook if updated annually and shared with all staff. The low level concerns policy is accessibe to all staff on sharepoint and in the staff room and they understand their role in reporting all incidences however small.
A6: 11.4 | B6: Where there have been allegations about adults working in the school, the procedure for managing these has been properly used by the school. | C6: * Are allegations, including those against supply staff and contractors, being reported to the Local Authority Designated Officer (LADO) in a timely way using the agreed processes as outlined in the DDSCP managing allegations against staff, carers and volunteers procedure? * Is feedback provided to the LADO on actions agreed and clear records kept as required? * Have there been any allegations about any member of staff during the current academic year? * Is there a list of referrals and are records maintained about all concerns, discussions with the LADO, including the person who reported the allegation, copy of the LADO referral form, any follow up with LADO and actions taken by the school, including where relevant liaison with the supply staff agency and outcomes? * 'Duty to refer' to DBS and Teaching Regulation Agency, have referrals been made when criteria met? | D6: Fully met | E6: School has clear procedures on how to manage allegations. When used they work alongside the LADO if required. All staff know how to make a referral to the LADO and what to do if this is the headteacher. Records are kept of any allegations made and these are supported by Human Resources when required. Low level concerns are recoorded, actions taken any update to procedures taken to impove the safety of pupils.

Sheet Action Plan
A1: To refresh the action plan: * Use your cursor to select cell B4 or F5 (depending on which of the two tables you are refreshing) * A Pivot Table Tools menu appears towards the right of the green menu bar at the top of the screen * Click refresh - see highighted image on the right * Make sure the filter (cell C3) is set to only show 'not met', or 'partially met'
B2: Summary Action Plan
A3: ID | B3: Item | C3: Status | D3: Actions | E3: Lead Name | F3: Timescale | G3: Review Date | J3: Current Ratings Position
A4: 1.1 | B4: The governing body and proprietors ensure the school complies with their duties under legislation, contributing to multi-agency working in line with statutory guidance. | C4: Partly met | D4: * Governor trained on managing allegations, and GDPR training. * PREVENT action plan on reducing radicalisation | E4: Isabel Webb | F4: By the end of Jan 24 | G4: By September 24 | J4: Row Labels | K4: Count of Status
A5: 2.1 | B5: The governing body/proprietors have ensured there is an effective and up to date safeguarding/child protection policy. | C5: Partly met | D5: Prevent action plan/risk assessment written and referenced in the policy. | E5: Isabel Webb | F5: End of December 23 | G5: By the end of Jan 24 | J5: Partly met | K5: 16
A6: 4.1 | B6: The governing body/proprietor has ensured there is an online safety/mobile and smart technology policy outlining a whole school approach to online safety to protect and educate learners (and support parents awareness and understanding) and staff in their use of technology and establishes mechanisms to identify, intervene in and escalate any concerns. The school approach addresses the 4 areas of risk - content, contact, conduct and commerce. | C6: Partly met | D6: Check E-safety policy hasd reference the DDSCP Briefing Note: Harmful Online Challenges and Hoaxes. | E6: Isabel Webb | F6: End of March 24 | G6: End of July 24 | J6: Fully met | K6: 41
A7: 4.2 | B7: The governing body/proprietors are doing all they reasonably can to limit children's exposure to risks from the schools IT systems, including when children are learning online at home. | C7: Partly met | D7: Complete the LGFL audit 23/24 audit. Governors question and review the LGFL audit and hold a safeguarding monitoring visit in school. Cybersecurity training is planned for Jan 24 for all staff. | E7: Isabel Webb and governor Simon Howard. | F7: End of Dec 23 | G7: End of March 24 | J7: Grand Total | K7: 57
A8: 4.3 | B8: The governing body/proprietors ensures that an annual review of the approach to online safety is completed, supported by an annual risk assessment that considers and reflects the risks children face and supports assessing wider online safety policy and practice. | C8: Partly met | D8: Complete a 360* online safety audit. Questions for the Governing Board Online Safety in schools and colleges to support their reflections as outlined in KCSIE? | E8: Isabel Webb and governor Simon Howard. | F8: End of March 24 | G8: End of March 24
A9: 4.4 | B9: The governing body/proprietors have ensured there is a planned education programme informed by Teaching Online Safety in Schools and Education for a Connected World and Project Evolve and/or via local initiatives such as i-vengers, takes place through relationship education/relationship and sex education/PSHE/ ICT/other lessons and across the curriculum and elsewhere, and is regularly revisited to ensure that it is up-to-date and effective. | C9: Partly met | D9: DSL to read UKCIS Using External Expertise to Enhance Online Safety Education guidance to support a whole school response towards online safety. Evaluate the resources used to support online-safety. | E9: Isabel Webb | F9: End of Dec 23 | G9: End of March 24
A10: 5.3 | B10: Learners are aware of safeguarding risks, recognise when they are at risk and how and where to get help and support if they need it. | C10: Partly met | D10: * To create a more whole school/ classroom apporach to safe behaviours to keep themselves safe and happy by teachers completing regular circle time with children and wellbeing surveys which are followed up with actions taken. | E10: Isabel Webb and all teaching staff | F10: By the end of December 23 | G10: End of March 24
A11: 5.4 | B11: Children are protected and helped to keep themselves from bullying, homophobic behaviour, racism, sexism, and other forms of discrimination. | C11: Partly met | D11: * Children creating their own equality policy and supported needed if other children are demonstarting disrespectful behaviours | E11: Isabel Webb | F11: By end of March 24. | G11: End of July 24
A12: 5.5 | B12: The school has clear systems and processes in place for identifying possible mental health problems. | C12: Partly met | D12: School to implement a regular wellbeing survey with the children and discuss how this will make changes to teaching and learning. | E12: All teachers and Isabel Webb | F12: By end of December 23 | G12: End of March 24
A13: 5.6 | B13: There is an effective up-to-date school behaviour policy which incorporates child-on-child abuse (including sexual violence and harassment), mental health issues, learning disabilities and neurodevelopmental conditions such as autism and behaviour. | C13: Partly met | D13: All staff trained on Autism and how to support them in school and what this looks like. | E13: Isabel Webb and Becci Davies | F13: By March 2024 | G13: End of July 24
A14: 6.4 | B14: The governing body/proprietor ensures the school’s physical environment is safe and secure. | C14: Partly met | D14: Security doors fitted with fobs to allow doors to be only accessed with a fob, but opens in a fire. Quotes to be obtained and governors agree costings and work to be completed. | E14: Isabel Webb and Shannon Boam | F14: End of July 24 | G14: End of September 24
A15: 9.1 | B15: The governing body/proprietors have adopted best practice and robust recruitment and selection processes in line with national guidance KCSIE, Disqualification under the Childcare Act (2006) as amended 2018: statutory guidance for local authorities, maintained schools, academies and free schools (including further education settings) and Disclosure & Barring Service (DBS) requirements, including risk assessment and supervision of volunteers and visitors and section 128 checks. | C15: Partly met | D15: * DBS policy statement for governors/ trustees, associate members, staff, supply staff, volunteers, contractors, trainee students and students on placement has been written. | E15: Isabel Webb | F15: End of Dec 23 | G15: End of March 24
A16: 10.1 | B16: The governing body/proprietor has ensured there is a staff behaviour policy/code of conduct, which includes low-level concerns, allegations against staff and whistle blowing, plus acceptable use of technologies (including the use of mobile devices), staff/learner relationships and communications including the use of social media? Note: some schools may have stand-alone low-level concerns, managing allegation and whistleblowing policies. If this is the case, it is essential that they are cross referenced and are consistent with each other. | C16: Partly met | D16: * Check the DfE guidance and other relevant guidance on staff behaviour e.g. from the Safer Recruitment Consortium and Farrer and Co, is reflected in the school's safegurading policies * Make sure the low level concern policy has has the headteacher as the ultimate decision maker in respect of all low-level concerns. * Ensure the Low-level Concern policy references, and identifies the circumstances in which, the headteacher may wish to consult with the DSL to take a more collaborative decision-making approach. * Publish the Low-level Concern policy onto the school website. | E16: Isabel Webb, Jill Warren | F16: End of December 23 | G16: End of March 24
A17: 10.2 | B17: The governing body/proprietor has ensured the school has regularly refreshed staff understanding of staff behaviour and ‘safer working practice’. | C17: Partly met | D17: Check and update the induction paperwork to include all school's safeguarding policies. | E17: Isabel Webb | F17: End of December 23 | G17: End of March 24
A18: 11.1 | B18: The governing body/proprietor has ensured there are procedures in place within the school staff behaviour policy/code of conduct to manage safeguarding concerns or allegations against staff (including supply staff, contractors and volunteers) that may meet the harms threshold. | C18: Partly met | D18: To use the DCC managing allegations policy and adapt to the school and take to FGM in December 23. | E18: Isabel Webb | F18: End of Dec 23 | G18: End of March 24
A19: 11.2 | B19: The governing body/proprietors and senior leadership team are fully aware of their roles and responsibilities relating to allegations against teachers and other staff, including supply teachers, contractors and volunteers that may meet the harms threshold. | C19: Partly met | D19: Governor needs training on managing allegations against staff. Governors to agree the managing allegations against staff policy/procedures | E19: Governors | F19: Asap | G19: End of Dec 24

Sheet Confirmation
A1: Confirmation of Safeguarding Audit Completion
A5: Date safeguarding audit completed: | E5: 05.11.2023
A8: Signed by:
A10: Designated Safeguarding Lead name: | E10: Isabel Webb
A12: Signature: | E12: Isabel Webb
A14: Date: | E14: 05.11.23
A17: Headteacher/Principal name: | E17: Isabel Webb
A19: Signature: | E19: Isabel Webb
A21: Date: | E21: 05.11.23
A24: Designated Governor/Trustee name: | E24: Simon Howard
A26: Signature: | E26: Simon Howard
A28: Date: | E28: 16.11.23
A31: Chair of Governors/Trustees name: | E31: Wilma Hyde
A33: Signature: | E33: Wilma Hyde
A35: Date: | E35: 21.12.23
A38: Full Governor’s/Trustee’s meeting date where the audit is to be an agenda item: | E38: 21.12.23
A43: Please note: For the academic year 2023-2024, the Derby and Derbyshire Safeguarding Children Partnership (DDSCP) and Local Authority do not require schools to confirm audit completion or provide a copy of their completed audit.

Sheet Works
A2: ID | B2: Item | C2: Status | D2: Actions | E2: Lead Name | F2: Timescale | G2: Review Date
A3: 1.1 | B3: =VLOOKUP($A3,'1. Leadership & Key Roles'!$A$3:$I$9,2,FALSE) -> The governing body and proprietors ensure the school complies with their duties under legislation, contributing to multi-agency working in line with statutory guidance. | C3: =VLOOKUP($A3,'1. Leadership & Key Roles'!$A$3:$I$9,4,FALSE) -> Partly met | D3: =VLOOKUP($A3,'1. Leadership & Key Roles'!$A$3:$I$9,6,FALSE) -> * Governor trained on managing allegations, and GDPR training. * PREVENT action plan on reducing radicalisation | E3: =VLOOKUP($A3,'1. Leadership & Key Roles'!$A$3:$I$9,7,FALSE) -> Isabel Webb | F3: =VLOOKUP($A3,'1. Leadership & Key Roles'!$A$3:$I$9,8,FALSE) -> By the end of Jan 24 | G3: =VLOOKUP($A3,'1. Leadership & Key Roles'!$A$3:$I$9,9,FALSE) -> By September 24
A4: 1.2 | B4: =VLOOKUP($A4,'1. Leadership & Key Roles'!$A$3:$I$9,2,FALSE) -> The governing body/proprietor have ensured there is a whole school approach and proactive culture to safeguarding. | C4: =VLOOKUP($A4,'1. Leadership & Key Roles'!$A$3:$I$9,4,FALSE) -> Fully met | D4: =VLOOKUP($A4,'1. Leadership & Key Roles'!$A$3:$I$9,6,FALSE) -> 0 | E4: =VLOOKUP($A4,'1. Leadership & Key Roles'!$A$3:$I$9,7,FALSE) -> 0 | F4: =VLOOKUP($A4,'1. Leadership & Key Roles'!$A$3:$I$9,8,FALSE) -> 0 | G4: =VLOOKUP($A4,'1. Leadership & Key Roles'!$A$3:$I$9,9,FALSE) -> 0
A5: 1.3 | B5: =VLOOKUP($A5,'1. Leadership & Key Roles'!$A$3:$I$9,2,FALSE) -> The governing body/proprietor has ensured that an appropriate senior member of staff, from the school leadership team, is appointed to the role of Designated Safeguarding Lead (DSL) to take lead responsibility for safeguarding and child protection, including online safety and understanding the filtering and monitoring systems, and processes in place. | C5: =VLOOKUP($A5,'1. Leadership & Key Roles'!$A$3:$I$9,4,FALSE) -> Fully met | D5: =VLOOKUP($A5,'1. Leadership & Key Roles'!$A$3:$I$9,6,FALSE) -> 0 | E5: =VLOOKUP($A5,'1. Leadership & Key Roles'!$A$3:$I$9,7,FALSE) -> 0 | F5: =VLOOKUP($A5,'1. Leadership & Key Roles'!$A$3:$I$9,8,FALSE) -> 0 | G5: =VLOOKUP($A5,'1. Leadership & Key Roles'!$A$3:$I$9,9,FALSE) -> 0
A6: 1.4 | B6: =VLOOKUP($A6,'1. Leadership & Key Roles'!$A$3:$I$9,2,FALSE) -> The governing body/proprietor/headteacher has ensured that appropriate members of staff have been identified as leads for key areas of safeguarding and they have a co-ordinated approach. | C6: =VLOOKUP($A6,'1. Leadership & Key Roles'!$A$3:$I$9,4,FALSE) -> Fully met | D6: =VLOOKUP($A6,'1. Leadership & Key Roles'!$A$3:$I$9,6,FALSE) -> 0 | E6: =VLOOKUP($A6,'1. Leadership & Key Roles'!$A$3:$I$9,7,FALSE) -> 0 | F6: =VLOOKUP($A6,'1. Leadership & Key Roles'!$A$3:$I$9,8,FALSE) -> 0 | G6: =VLOOKUP($A6,'1. Leadership & Key Roles'!$A$3:$I$9,9,FALSE) -> 0
A7: 1.5 | B7: =VLOOKUP($A7,'1. Leadership & Key Roles'!$A$3:$I$9,2,FALSE) -> The governing body/trustees ensure the DSL and deputy liaise with the 'three' safeguarding partners and work with other agencies in line with Working Together to Safeguard Children, Keeping Children Safe in Education (KCSIE), national guidance (i.e. NSPCC - when to call the police) and local policies and procedures. | C7: =VLOOKUP($A7,'1. Leadership & Key Roles'!$A$3:$I$9,4,FALSE) -> Fully met | D7: =VLOOKUP($A7,'1. Leadership & Key Roles'!$A$3:$I$9,6,FALSE) -> 0 | E7: =VLOOKUP($A7,'1. Leadership & Key Roles'!$A$3:$I$9,7,FALSE) -> 0 | F7: =VLOOKUP($A7,'1. Leadership & Key Roles'!$A$3:$I$9,8,FALSE) -> 0 | G7: =VLOOKUP($A7,'1. Leadership & Key Roles'!$A$3:$I$9,9,FALSE) -> 0
A8: 1.6 | B8: =VLOOKUP($A8,'1. Leadership & Key Roles'!$A$3:$I$9,2,FALSE) -> All staff have read and understood KCSIE Sept 2023 relevant to their role. | C8: =VLOOKUP($A8,'1. Leadership & Key Roles'!$A$3:$I$9,4,FALSE) -> Fully met | D8: =VLOOKUP($A8,'1. Leadership & Key Roles'!$A$3:$I$9,6,FALSE) -> 0 | E8: =VLOOKUP($A8,'1. Leadership & Key Roles'!$A$3:$I$9,7,FALSE) -> 0 | F8: =VLOOKUP($A8,'1. Leadership & Key Roles'!$A$3:$I$9,8,FALSE) -> 0 | G8: =VLOOKUP($A8,'1. Leadership & Key Roles'!$A$3:$I$9,9,FALSE) -> 0
A9: 1.7 | B9: =VLOOKUP($A9,'1. Leadership & Key Roles'!$A$3:$I$9,2,FALSE) -> All staff are aware of the DDSCP safeguarding children procedures and know how to access them. | C9: =VLOOKUP($A9,'1. Leadership & Key Roles'!$A$3:$I$9,4,FALSE) -> Fully met | D9: =VLOOKUP($A9,'1. Leadership & Key Roles'!$A$3:$I$9,6,FALSE) -> 0 | E9: =VLOOKUP($A9,'1. Leadership & Key Roles'!$A$3:$I$9,7,FALSE) -> 0 | F9: =VLOOKUP($A9,'1. Leadership & Key Roles'!$A$3:$I$9,8,FALSE) -> 0 | G9: =VLOOKUP($A9,'1. Leadership & Key Roles'!$A$3:$I$9,9,FALSE) -> 0
A10: 2.1 | B10: =VLOOKUP($A10,'2. Safeguarding Policies '!$A$3:$I$9,2,FALSE) -> The governing body/proprietors have ensured there is an effective and up to date safeguarding/child protection policy. | C10: =VLOOKUP($A10,'2. Safeguarding Policies '!$A$3:$I$9,4,FALSE) -> Partly met | D10: =VLOOKUP($A10,'2. Safeguarding Policies '!$A$3:$I$9,6,FALSE) -> Prevent action plan/risk assessment written and referenced in the policy. | E10: =VLOOKUP($A10,'2. Safeguarding Policies '!$A$3:$I$9,7,FALSE) -> Isabel Webb | F10: =VLOOKUP($A10,'2. Safeguarding Policies '!$A$3:$I$9,8,FALSE) -> End of December 23 | G10: =VLOOKUP($A10,'2. Safeguarding Policies '!$A$3:$I$9,9,FALSE) -> By the end of Jan 24
A11: 2.2 | B11: =VLOOKUP($A11,'2. Safeguarding Policies '!$A$3:$I$9,2,FALSE) -> The governing body/proprietor has ensured the safeguarding/child protection policy reflects the whole school approach to child-on-child abuse. | C11: =VLOOKUP($A11,'2. Safeguarding Policies '!$A$3:$I$9,4,FALSE) -> Fully met | D11: =VLOOKUP($A11,'2. Safeguarding Policies '!$A$3:$I$9,6,FALSE) -> * Does it specify reports should be made to 2 members of staff wherever possible? Completed 03.11.23 | E11: =VLOOKUP($A11,'2. Safeguarding Policies '!$A$3:$I$9,7,FALSE) -> Isabel Webb | F11: =VLOOKUP($A11,'2. Safeguarding Policies '!$A$3:$I$9,8,FALSE) -> 03.11.23 | G11: =VLOOKUP($A11,'2. Safeguarding Policies '!$A$3:$I$9,9,FALSE) -> End of Jan 24
A12: 2.3 | B12: =VLOOKUP($A12,'2. Safeguarding Policies '!$A$3:$I$9,2,FALSE) -> All staff have read and understood the school safeguarding/child protection policy and signed to this effect. | C12: =VLOOKUP($A12,'2. Safeguarding Policies '!$A$3:$I$9,4,FALSE) -> Fully met | D12: =VLOOKUP($A12,'2. Safeguarding Policies '!$A$3:$I$9,6,FALSE) -> 0 | E12: =VLOOKUP($A12,'2. Safeguarding Policies '!$A$3:$I$9,7,FALSE) -> 0 | F12: =VLOOKUP($A12,'2. Safeguarding Policies '!$A$3:$I$9,8,FALSE) -> 0 | G12: =VLOOKUP($A12,'2. Safeguarding Policies '!$A$3:$I$9,9,FALSE) -> 0
A13: 2.4 | B13: =VLOOKUP($A13,'2. Safeguarding Policies '!$A$3:$I$9,2,FALSE) -> The school website contains relevant safeguarding information, and the safeguarding/child protection policy is easily accessible to parents. | C13: =VLOOKUP($A13,'2. Safeguarding Policies '!$A$3:$I$9,4,FALSE) -> Fully met | D13: =VLOOKUP($A13,'2. Safeguarding Policies '!$A$3:$I$9,6,FALSE) -> 0 | E13: =VLOOKUP($A13,'2. Safeguarding Policies '!$A$3:$I$9,7,FALSE) -> 0 | F13: =VLOOKUP($A13,'2. Safeguarding Policies '!$A$3:$I$9,8,FALSE) -> 0 | G13: =VLOOKUP($A13,'2. Safeguarding Policies '!$A$3:$I$9,9,FALSE) -> 0
A14: 2.5 | B14: =VLOOKUP($A14,'2. Safeguarding Policies '!$A$3:$I$9,2,FALSE) -> The governing body/proprietor has ensured there are effective safeguarding arrangements to respond to children who are absent from education, particularly on repeat occasions and or for prolonged periods or go missing and those who may be removed from school with a view to be electively home educated. | C14: =VLOOKUP($A14,'2. Safeguarding Policies '!$A$3:$I$9,4,FALSE) -> Fully met | D14: =VLOOKUP($A14,'2. Safeguarding Policies '!$A$3:$I$9,6,FALSE) -> 0 | E14: =VLOOKUP($A14,'2. Safeguarding Policies '!$A$3:$I$9,7,FALSE) -> 0 | F14: =VLOOKUP($A14,'2. Safeguarding Policies '!$A$3:$I$9,8,FALSE) -> 0 | G14: =VLOOKUP($A14,'2. Safeguarding Policies '!$A$3:$I$9,9,FALSE) -> 0
A15: 2.6 | B15: =VLOOKUP($A15,'2. Safeguarding Policies '!$A$3:$I$9,2,FALSE) -> Safeguarding/child protection policies are in place and other policies and procedures which come un-der the safeguarding 'umbrella' are aligned. For example: supporting learners with medical conditions, health and safety and well-being, including their mental health, behaviour policies which include mental health and behaviour, acceptable and non-acceptable behaviours, prevention and responding to bullying including cyber bullying, prejudiced based and discriminatory bullying, child-on-child abuse as well as screening, searching, and confiscating powers, complaints, staff behaviour policies including low-level concerns, allegations and whistleblowing, safer recruitment, online safety, physical intervention, school attendance/children missing education, Prevent action plan/risk assessment, SEND annual report and confidentiality/information sharing. | C15: =VLOOKUP($A15,'2. Safeguarding Policies '!$A$3:$I$9,4,FALSE) -> Fully met | D15: =VLOOKUP($A15,'2. Safeguarding Policies '!$A$3:$I$9,6,FALSE) -> 0 | E15: =VLOOKUP($A15,'2. Safeguarding Policies '!$A$3:$I$9,7,FALSE) -> 0 | F15: =VLOOKUP($A15,'2. Safeguarding Policies '!$A$3:$I$9,8,FALSE) -> 0 | G15: =VLOOKUP($A15,'2. Safeguarding Policies '!$A$3:$I$9,9,FALSE) -> 0
A16: 3.1 | B16: =VLOOKUP($A16,'3. Training'!$A$3:$I$9,2,FALSE) -> The governing body/proprietors ensure that all staff receive appropriate safeguarding and child protection training at induction, including online safety, which is regularly updated. | C16: =VLOOKUP($A16,'3. Training'!$A$3:$I$9,4,FALSE) -> Fully met | D16: =VLOOKUP($A16,'3. Training'!$A$3:$I$9,6,FALSE) -> 0 | E16: =VLOOKUP($A16,'3. Training'!$A$3:$I$9,7,FALSE) -> 0 | F16: =VLOOKUP($A16,'3. Training'!$A$3:$I$9,8,FALSE) -> 0 | G16: =VLOOKUP($A16,'3. Training'!$A$3:$I$9,9,FALSE) -> 0
A17: 3.2 | B17: =VLOOKUP($A17,'3. Training'!$A$3:$I$9,2,FALSE) -> All staff including the governing board/ proprietors have an understanding of wider safeguarding issues that can impact on a child's welfare or put them at risk of harm. | C17: =VLOOKUP($A17,'3. Training'!$A$3:$I$9,4,FALSE) -> Fully met | D17: =VLOOKUP($A17,'3. Training'!$A$3:$I$9,6,FALSE) -> 0 | E17: =VLOOKUP($A17,'3. Training'!$A$3:$I$9,7,FALSE) -> 0 | F17: =VLOOKUP($A17,'3. Training'!$A$3:$I$9,8,FALSE) -> 0 | G17: =VLOOKUP($A17,'3. Training'!$A$3:$I$9,9,FALSE) -> 0
A18: 3.3 | B18: =VLOOKUP($A18,'3. Training'!$A$3:$I$9,2,FALSE) -> All staff receive safeguarding and child protection updates, as required. | C18: =VLOOKUP($A18,'3. Training'!$A$3:$I$9,4,FALSE) -> Fully met | D18: =VLOOKUP($A18,'3. Training'!$A$3:$I$9,6,FALSE) -> 0 | E18: =VLOOKUP($A18,'3. Training'!$A$3:$I$9,7,FALSE) -> 0 | F18: =VLOOKUP($A18,'3. Training'!$A$3:$I$9,8,FALSE) -> 0 | G18: =VLOOKUP($A18,'3. Training'!$A$3:$I$9,9,FALSE) -> 0
A19: 3.4 | B19: =VLOOKUP($A19,'3. Training'!$A$3:$I$9,2,FALSE) -> Specific safeguarding issues training have been taken into account. | C19: =VLOOKUP($A19,'3. Training'!$A$3:$I$9,4,FALSE) -> Fully met | D19: =VLOOKUP($A19,'3. Training'!$A$3:$I$9,6,FALSE) -> 0 | E19: =VLOOKUP($A19,'3. Training'!$A$3:$I$9,7,FALSE) -> 0 | F19: =VLOOKUP($A19,'3. Training'!$A$3:$I$9,8,FALSE) -> 0 | G19: =VLOOKUP($A19,'3. Training'!$A$3:$I$9,9,FALSE) -> 0
A20: 3.5 | B20: =VLOOKUP($A20,'3. Training'!$A$3:$I$9,2,FALSE) -> There are up-to-date safeguarding and online safety training (and where appropriate safer recruitment training) records for all staff. | C20: =VLOOKUP($A20,'3. Training'!$A$3:$I$9,4,FALSE) -> Fully met | D20: =VLOOKUP($A20,'3. Training'!$A$3:$I$9,6,FALSE) -> 0 | E20: =VLOOKUP($A20,'3. Training'!$A$3:$I$9,7,FALSE) -> 0 | F20: =VLOOKUP($A20,'3. Training'!$A$3:$I$9,8,FALSE) -> 0 | G20: =VLOOKUP($A20,'3. Training'!$A$3:$I$9,9,FALSE) -> 0
A21: 4.1 | B21: =VLOOKUP($A21,'4. Online Safety '!$A$3:$I$9,2,FALSE) -> The governing body/proprietor has ensured there is an online safety/mobile and smart technology policy outlining a whole school approach to online safety to protect and educate learners (and support parents awareness and understanding) and staff in their use of technology and establishes mechanisms to identify, intervene in and escalate any concerns. The school approach addresses the 4 areas of risk - content, contact, conduct and commerce. | C21: =VLOOKUP($A21,'4. Online Safety '!$A$3:$I$9,4,FALSE) -> Partly met | D21: =VLOOKUP($A21,'4. Online Safety '!$A$3:$I$9,6,FALSE) -> Check E-safety policy hasd reference the DDSCP Briefing Note: Harmful Online Challenges and Hoaxes. | E21: =VLOOKUP($A21,'4. Online Safety '!$A$3:$I$9,7,FALSE) -> Isabel Webb | F21: =VLOOKUP($A21,'4. Online Safety '!$A$3:$I$9,8,FALSE) -> End of March 24 | G21: =VLOOKUP($A21,'4. Online Safety '!$A$3:$I$9,9,FALSE) -> End of July 24
A22: 4.2 | B22: =VLOOKUP($A22,'4. Online Safety '!$A$3:$I$9,2,FALSE) -> The governing body/proprietors are doing all they reasonably can to limit children's exposure to risks from the schools IT systems, including when children are learning online at home. | C22: =VLOOKUP($A22,'4. Online Safety '!$A$3:$I$9,4,FALSE) -> Partly met | D22: =VLOOKUP($A22,'4. Online Safety '!$A$3:$I$9,6,FALSE) -> Complete the LGFL audit 23/24 audit. Governors question and review the LGFL audit and hold a safeguarding monitoring visit in school. Cybersecurity training is planned for Jan 24 for all staff. | E22: =VLOOKUP($A22,'4. Online Safety '!$A$3:$I$9,7,FALSE) -> Isabel Webb and governor Simon Howard. | F22: =VLOOKUP($A22,'4. Online Safety '!$A$3:$I$9,8,FALSE) -> End of Dec 23 | G22: =VLOOKUP($A22,'4. Online Safety '!$A$3:$I$9,9,FALSE) -> End of March 24
A23: 4.3 | B23: =VLOOKUP($A23,'4. Online Safety '!$A$3:$I$9,2,FALSE) -> The governing body/proprietors ensures that an annual review of the approach to online safety is completed, supported by an annual risk assessment that considers and reflects the risks children face and supports assessing wider online safety policy and practice. | C23: =VLOOKUP($A23,'4. Online Safety '!$A$3:$I$9,4,FALSE) -> Partly met | D23: =VLOOKUP($A23,'4. Online Safety '!$A$3:$I$9,6,FALSE) -> Complete a 360* online safety audit. Questions for the Governing Board Online Safety in schools and colleges to support their reflections as outlined in KCSIE? | E23: =VLOOKUP($A23,'4. Online Safety '!$A$3:$I$9,7,FALSE) -> Isabel Webb and governor Simon Howard. | F23: =VLOOKUP($A23,'4. Online Safety '!$A$3:$I$9,8,FALSE) -> End of March 24 | G23: =VLOOKUP($A23,'4. Online Safety '!$A$3:$I$9,9,FALSE) -> End of March 24
A24: 4.4 | B24: =VLOOKUP($A24,'4. Online Safety '!$A$3:$I$9,2,FALSE) -> The governing body/proprietors have ensured there is a planned education programme informed by Teaching Online Safety in Schools and Education for a Connected World and Project Evolve and/or via local initiatives such as i-vengers, takes place through relationship education/relationship and sex education/PSHE/ ICT/other lessons and across the curriculum and elsewhere, and is regularly revisited to ensure that it is up-to-date and effective. | C24: =VLOOKUP($A24,'4. Online Safety '!$A$3:$I$9,4,FALSE) -> Partly met | D24: =VLOOKUP($A24,'4. Online Safety '!$A$3:$I$9,6,FALSE) -> DSL to read UKCIS Using External Expertise to Enhance Online Safety Education guidance to support a whole school response towards online safety. Evaluate the resources used to support online-safety. | E24: =VLOOKUP($A24,'4. Online Safety '!$A$3:$I$9,7,FALSE) -> Isabel Webb | F24: =VLOOKUP($A24,'4. Online Safety '!$A$3:$I$9,8,FALSE) -> End of Dec 23 | G24: =VLOOKUP($A24,'4. Online Safety '!$A$3:$I$9,9,FALSE) -> End of March 24
A25: 4.5 | B25: =VLOOKUP($A25,'4. Online Safety '!$A$3:$I$9,2,FALSE) -> Do all staff understand the risks posed by adults/young people/children who use technology, including the internet, to bully, groom, radicalise or abuse children, young people and vulnerable adults? | C25: =VLOOKUP($A25,'4. Online Safety '!$A$3:$I$9,4,FALSE) -> Fully met | D25: =VLOOKUP($A25,'4. Online Safety '!$A$3:$I$9,6,FALSE) -> 0 | E25: =VLOOKUP($A25,'4. Online Safety '!$A$3:$I$9,7,FALSE) -> 0 | F25: =VLOOKUP($A25,'4. Online Safety '!$A$3:$I$9,8,FALSE) -> 0 | G25: =VLOOKUP($A25,'4. Online Safety '!$A$3:$I$9,9,FALSE) -> 0
A26: 5.1 | B26: =VLOOKUP($A26,'5. Teaching & Behaviour'!$A$3:$I$9,2,FALSE) -> The governing body and proprietor ensure that children are taught about how to keep themselves and others safe, including online. Relevant topics included within relationships education (RE)/relationships and sex education (RSE) and health education and reinforced throughout the whole curriculum. | C26: =VLOOKUP($A26,'5. Teaching & Behaviour'!$A$3:$I$9,4,FALSE) -> Fully met | D26: =VLOOKUP($A26,'5. Teaching & Behaviour'!$A$3:$I$9,6,FALSE) -> 0 | E26: =VLOOKUP($A26,'5. Teaching & Behaviour'!$A$3:$I$9,7,FALSE) -> 0 | F26: =VLOOKUP($A26,'5. Teaching & Behaviour'!$A$3:$I$9,8,FALSE) -> 0 | G26: =VLOOKUP($A26,'5. Teaching & Behaviour'!$A$3:$I$9,9,FALSE) -> 0
A27: 5.2 | B27: =VLOOKUP($A27,'5. Teaching & Behaviour'!$A$3:$I$9,2,FALSE) -> A written policy for Relationships Education or Relationship and Sex Education is in place. | C27: =VLOOKUP($A27,'5. Teaching & Behaviour'!$A$3:$I$9,4,FALSE) -> Fully met | D27: =VLOOKUP($A27,'5. Teaching & Behaviour'!$A$3:$I$9,6,FALSE) -> 0 | E27: =VLOOKUP($A27,'5. Teaching & Behaviour'!$A$3:$I$9,7,FALSE) -> 0 | F27: =VLOOKUP($A27,'5. Teaching & Behaviour'!$A$3:$I$9,8,FALSE) -> 0 | G27: =VLOOKUP($A27,'5. Teaching & Behaviour'!$A$3:$I$9,9,FALSE) -> 0
A28: 5.3 | B28: =VLOOKUP($A28,'5. Teaching & Behaviour'!$A$3:$I$9,2,FALSE) -> Learners are aware of safeguarding risks, recognise when they are at risk and how and where to get help and support if they need it. | C28: =VLOOKUP($A28,'5. Teaching & Behaviour'!$A$3:$I$9,4,FALSE) -> Partly met | D28: =VLOOKUP($A28,'5. Teaching & Behaviour'!$A$3:$I$9,6,FALSE) -> * To create a more whole school/ classroom apporach to safe behaviours to keep themselves safe and happy by teachers completing regular circle time with children and wellbeing surveys which are followed up with actions taken. | E28: =VLOOKUP($A28,'5. Teaching & Behaviour'!$A$3:$I$9,7,FALSE) -> Isabel Webb and all teaching staff | F28: =VLOOKUP($A28,'5. Teaching & Behaviour'!$A$3:$I$9,8,FALSE) -> By the end of December 23 | G28: =VLOOKUP($A28,'5. Teaching & Behaviour'!$A$3:$I$9,9,FALSE) -> End of March 24
A29: 5.4 | B29: =VLOOKUP($A29,'5. Teaching & Behaviour'!$A$3:$I$9,2,FALSE) -> Children are protected and helped to keep themselves from bullying, homophobic behaviour, racism, sexism, and other forms of discrimination. | C29: =VLOOKUP($A29,'5. Teaching & Behaviour'!$A$3:$I$9,4,FALSE) -> Partly met | D29: =VLOOKUP($A29,'5. Teaching & Behaviour'!$A$3:$I$9,6,FALSE) -> * Children creating their own equality policy and supported needed if other children are demonstarting disrespectful behaviours | E29: =VLOOKUP($A29,'5. Teaching & Behaviour'!$A$3:$I$9,7,FALSE) -> Isabel Webb | F29: =VLOOKUP($A29,'5. Teaching & Behaviour'!$A$3:$I$9,8,FALSE) -> By end of March 24. | G29: =VLOOKUP($A29,'5. Teaching & Behaviour'!$A$3:$I$9,9,FALSE) -> End of July 24
A30: 5.5 | B30: =VLOOKUP($A30,'5. Teaching & Behaviour'!$A$3:$I$9,2,FALSE) -> The school has clear systems and processes in place for identifying possible mental health problems. | C30: =VLOOKUP($A30,'5. Teaching & Behaviour'!$A$3:$I$9,4,FALSE) -> Partly met | D30: =VLOOKUP($A30,'5. Teaching & Behaviour'!$A$3:$I$9,6,FALSE) -> School to implement a regular wellbeing survey with the children and discuss how this will make changes to teaching and learning. | E30: =VLOOKUP($A30,'5. Teaching & Behaviour'!$A$3:$I$9,7,FALSE) -> All teachers and Isabel Webb | F30: =VLOOKUP($A30,'5. Teaching & Behaviour'!$A$3:$I$9,8,FALSE) -> By end of December 23 | G30: =VLOOKUP($A30,'5. Teaching & Behaviour'!$A$3:$I$9,9,FALSE) -> End of March 24
A31: 5.6 | B31: =VLOOKUP($A31,'5. Teaching & Behaviour'!$A$3:$I$9,2,FALSE) -> There is an effective up-to-date school behaviour policy which incorporates child-on-child abuse (including sexual violence and harassment), mental health issues, learning disabilities and neurodevelopmental conditions such as autism and behaviour. | C31: =VLOOKUP($A31,'5. Teaching & Behaviour'!$A$3:$I$9,4,FALSE) -> Partly met | D31: =VLOOKUP($A31,'5. Teaching & Behaviour'!$A$3:$I$9,6,FALSE) -> All staff trained on Autism and how to support them in school and what this looks like. | E31: =VLOOKUP($A31,'5. Teaching & Behaviour'!$A$3:$I$9,7,FALSE) -> Isabel Webb and Becci Davies | F31: =VLOOKUP($A31,'5. Teaching & Behaviour'!$A$3:$I$9,8,FALSE) -> By March 2024 | G31: =VLOOKUP($A31,'5. Teaching & Behaviour'!$A$3:$I$9,9,FALSE) -> End of July 24
A32: 5.7 | B32: =VLOOKUP($A32,'5. Teaching & Behaviour'!$A$3:$I$9,2,FALSE) -> The school has an effective anti-bullying policy either as a standalone policy or as part of another relevant policy such as the behaviour policy. | C32: =VLOOKUP($A32,'5. Teaching & Behaviour'!$A$3:$I$9,4,FALSE) -> Fully met | D32: =VLOOKUP($A32,'5. Teaching & Behaviour'!$A$3:$I$9,6,FALSE) -> 0 | E32: =VLOOKUP($A32,'5. Teaching & Behaviour'!$A$3:$I$9,7,FALSE) -> 0 | F32: =VLOOKUP($A32,'5. Teaching & Behaviour'!$A$3:$I$9,8,FALSE) -> 0 | G32: =VLOOKUP($A32,'5. Teaching & Behaviour'!$A$3:$I$9,9,FALSE) -> 0
A33: 6.1 | B33: =VLOOKUP($A33,'6. Safe Environment'!$A$3:$I$9,2,FALSE) -> The governing body/proprietor ensure staff work in-line with use of reasonable force in schools and refer where needed to the DfE Reducing the need for restraint and restrictive intervention guidance. | C33: =VLOOKUP($A33,'6. Safe Environment'!$A$3:$I$9,4,FALSE) -> Fully met | D33: =VLOOKUP($A33,'6. Safe Environment'!$A$3:$I$9,6,FALSE) -> 0 | E33: =VLOOKUP($A33,'6. Safe Environment'!$A$3:$I$9,7,FALSE) -> 0 | F33: =VLOOKUP($A33,'6. Safe Environment'!$A$3:$I$9,8,FALSE) -> 0 | G33: =VLOOKUP($A33,'6. Safe Environment'!$A$3:$I$9,9,FALSE) -> 0
A34: 6.2 | B34: =VLOOKUP($A34,'6. Safe Environment'!$A$3:$I$9,2,FALSE) -> The governing body/proprietor ensures the school continues to be responsible for any learner placed with an alternative provision provider. | C34: =VLOOKUP($A34,'6. Safe Environment'!$A$3:$I$9,4,FALSE) -> Fully met | D34: =VLOOKUP($A34,'6. Safe Environment'!$A$3:$I$9,6,FALSE) -> 0 | E34: =VLOOKUP($A34,'6. Safe Environment'!$A$3:$I$9,7,FALSE) -> 0 | F34: =VLOOKUP($A34,'6. Safe Environment'!$A$3:$I$9,8,FALSE) -> 0 | G34: =VLOOKUP($A34,'6. Safe Environment'!$A$3:$I$9,9,FALSE) -> 0
A35: 6.3 | B35: =VLOOKUP($A35,'6. Safe Environment'!$A$3:$I$9,2,FALSE) -> Where school premises/facilities are rented out the governing body/proprietor ensures appropriate arrangements are in place to keep children safe. | C35: =VLOOKUP($A35,'6. Safe Environment'!$A$3:$I$9,4,FALSE) -> Fully met | D35: =VLOOKUP($A35,'6. Safe Environment'!$A$3:$I$9,6,FALSE) -> 0 | E35: =VLOOKUP($A35,'6. Safe Environment'!$A$3:$I$9,7,FALSE) -> 0 | F35: =VLOOKUP($A35,'6. Safe Environment'!$A$3:$I$9,8,FALSE) -> 0 | G35: =VLOOKUP($A35,'6. Safe Environment'!$A$3:$I$9,9,FALSE) -> 0
A36: 6.4 | B36: =VLOOKUP($A36,'6. Safe Environment'!$A$3:$I$9,2,FALSE) -> The governing body/proprietor ensures the school’s physical environment is safe and secure. | C36: =VLOOKUP($A36,'6. Safe Environment'!$A$3:$I$9,4,FALSE) -> Partly met | D36: =VLOOKUP($A36,'6. Safe Environment'!$A$3:$I$9,6,FALSE) -> Security doors fitted with fobs to allow doors to be only accessed with a fob, but opens in a fire. Quotes to be obtained and governors agree costings and work to be completed. | E36: =VLOOKUP($A36,'6. Safe Environment'!$A$3:$I$9,7,FALSE) -> Isabel Webb and Shannon Boam | F36: =VLOOKUP($A36,'6. Safe Environment'!$A$3:$I$9,8,FALSE) -> End of July 24 | G36: =VLOOKUP($A36,'6. Safe Environment'!$A$3:$I$9,9,FALSE) -> End of September 24
A37: 7.1 | B37: =VLOOKUP($A37,'7. Safeguarding & Welfare'!$A$3:$I$9,2,FALSE) -> As part of the school early help offer, an early help assessment is considered and progressed for children with emerging needs to prevent child protection concerns developing. | C37: =VLOOKUP($A37,'7. Safeguarding & Welfare'!$A$3:$I$9,4,FALSE) -> Fully met | D37: =VLOOKUP($A37,'7. Safeguarding & Welfare'!$A$3:$I$9,6,FALSE) -> 0 | E37: =VLOOKUP($A37,'7. Safeguarding & Welfare'!$A$3:$I$9,7,FALSE) -> 0 | F37: =VLOOKUP($A37,'7. Safeguarding & Welfare'!$A$3:$I$9,8,FALSE) -> 0 | G37: =VLOOKUP($A37,'7. Safeguarding & Welfare'!$A$3:$I$9,9,FALSE) -> 0
A38: 7.2 | B38: =VLOOKUP($A38,'7. Safeguarding & Welfare'!$A$3:$I$9,2,FALSE) -> When a child has an early help assessment led by local authority children’s services, a Child in Need plan or a Child Protection Plan in place, the school works in partnership with external agencies, the child and their family regarding the concerns. | C38: =VLOOKUP($A38,'7. Safeguarding & Welfare'!$A$3:$I$9,4,FALSE) -> Fully met | D38: =VLOOKUP($A38,'7. Safeguarding & Welfare'!$A$3:$I$9,6,FALSE) -> 0 | E38: =VLOOKUP($A38,'7. Safeguarding & Welfare'!$A$3:$I$9,7,FALSE) -> 0 | F38: =VLOOKUP($A38,'7. Safeguarding & Welfare'!$A$3:$I$9,8,FALSE) -> 0 | G38: =VLOOKUP($A38,'7. Safeguarding & Welfare'!$A$3:$I$9,9,FALSE) -> 0
A39: 7.3 | B39: =VLOOKUP($A39,'7. Safeguarding & Welfare'!$A$3:$I$9,2,FALSE) -> Safeguarding/child protection concerns requiring intensive, or specialist support are immediately shared with the Local Authority Children's Social Care via telephone (urgent concerns) or online system (non-urgent) or in Derby only via a locality vulnerable children’s meeting (VCM). | C39: =VLOOKUP($A39,'7. Safeguarding & Welfare'!$A$3:$I$9,4,FALSE) -> Fully met | D39: =VLOOKUP($A39,'7. Safeguarding & Welfare'!$A$3:$I$9,6,FALSE) -> 0 | E39: =VLOOKUP($A39,'7. Safeguarding & Welfare'!$A$3:$I$9,7,FALSE) -> 0 | F39: =VLOOKUP($A39,'7. Safeguarding & Welfare'!$A$3:$I$9,8,FALSE) -> 0 | G39: =VLOOKUP($A39,'7. Safeguarding & Welfare'!$A$3:$I$9,9,FALSE) -> 0
A40: 7.4 | B40: =VLOOKUP($A40,'7. Safeguarding & Welfare'!$A$3:$I$9,2,FALSE) -> The DSL is effective in pursuing concerns, where appropriate pressing for re-consideration and protecting children throughout all safeguarding processes and promoting their educational outcomes. | C40: =VLOOKUP($A40,'7. Safeguarding & Welfare'!$A$3:$I$9,4,FALSE) -> Fully met | D40: =VLOOKUP($A40,'7. Safeguarding & Welfare'!$A$3:$I$9,6,FALSE) -> 0 | E40: =VLOOKUP($A40,'7. Safeguarding & Welfare'!$A$3:$I$9,7,FALSE) -> 0 | F40: =VLOOKUP($A40,'7. Safeguarding & Welfare'!$A$3:$I$9,8,FALSE) -> 0 | G40: =VLOOKUP($A40,'7. Safeguarding & Welfare'!$A$3:$I$9,9,FALSE) -> 0
A41: 7.5 | B41: =VLOOKUP($A41,'7. Safeguarding & Welfare'!$A$3:$I$9,2,FALSE) -> The governing body/proprietor has ensured that all staff have the skills, knowledge and understanding to keep looked after children and previously looked after children safe. | C41: =VLOOKUP($A41,'7. Safeguarding & Welfare'!$A$3:$I$9,4,FALSE) -> Fully met | D41: =VLOOKUP($A41,'7. Safeguarding & Welfare'!$A$3:$I$9,6,FALSE) -> DSL to attend LAC training | E41: =VLOOKUP($A41,'7. Safeguarding & Welfare'!$A$3:$I$9,7,FALSE) -> 0 | F41: =VLOOKUP($A41,'7. Safeguarding & Welfare'!$A$3:$I$9,8,FALSE) -> 0 | G41: =VLOOKUP($A41,'7. Safeguarding & Welfare'!$A$3:$I$9,9,FALSE) -> 0
A42: 7.6 | B42: =VLOOKUP($A42,'7. Safeguarding & Welfare'!$A$3:$I$9,2,FALSE) -> Staff receive regular supervision and support if they are working directly and regularly with children where there are concerns about their safety and welfare. | C42: =VLOOKUP($A42,'7. Safeguarding & Welfare'!$A$3:$I$9,4,FALSE) -> Fully met | D42: =VLOOKUP($A42,'7. Safeguarding & Welfare'!$A$3:$I$9,6,FALSE) -> 0 | E42: =VLOOKUP($A42,'7. Safeguarding & Welfare'!$A$3:$I$9,7,FALSE) -> 0 | F42: =VLOOKUP($A42,'7. Safeguarding & Welfare'!$A$3:$I$9,8,FALSE) -> 0 | G42: =VLOOKUP($A42,'7. Safeguarding & Welfare'!$A$3:$I$9,9,FALSE) -> 0
A43: 8.1 | B43: =VLOOKUP($A43,'8. Record Keeping'!$A$3:$I$9,2,FALSE) -> The governing body/proprietors ensure the school has a defined process on safeguarding record keeping whether that be through paper files and systems or electronic systems such as CPOM’s or My Concern, in line with the Data Protection Act (DPA) 2018 and UK General Data Protection Regulation (UK GDPR) to ensure that personal information is processed fairly and lawfully and kept safe and secure and where appropriate is shared to support the safeguarding of children and individuals at risk. | C43: =VLOOKUP($A43,'8. Record Keeping'!$A$3:$I$9,4,FALSE) -> Fully met | D43: =VLOOKUP($A43,'8. Record Keeping'!$A$3:$I$9,6,FALSE) -> 0 | E43: =VLOOKUP($A43,'8. Record Keeping'!$A$3:$I$9,7,FALSE) -> 0 | F43: =VLOOKUP($A43,'8. Record Keeping'!$A$3:$I$9,8,FALSE) -> 0 | G43: =VLOOKUP($A43,'8. Record Keeping'!$A$3:$I$9,9,FALSE) -> 0
A44: 8.2 | B44: =VLOOKUP($A44,'8. Record Keeping'!$A$3:$I$9,2,FALSE) -> The governing body/proprietors ensure the school routinely asks parents and records and maintains up-to-date records of who has parental responsibility for each learner, and where reasonably possible holds more than one emergency contact number for each learner. | C44: =VLOOKUP($A44,'8. Record Keeping'!$A$3:$I$9,4,FALSE) -> Fully met | D44: =VLOOKUP($A44,'8. Record Keeping'!$A$3:$I$9,6,FALSE) -> 0 | E44: =VLOOKUP($A44,'8. Record Keeping'!$A$3:$I$9,7,FALSE) -> 0 | F44: =VLOOKUP($A44,'8. Record Keeping'!$A$3:$I$9,8,FALSE) -> 0 | G44: =VLOOKUP($A44,'8. Record Keeping'!$A$3:$I$9,9,FALSE) -> 0
A45: 8.3 | B45: =VLOOKUP($A45,'8. Record Keeping'!$A$3:$I$9,2,FALSE) -> The governing body/proprietors ensures that child protection records are maintained as per KCSIE 2023 to ensure the safeguarding record keeping process effective and regularly reviewed. | C45: =VLOOKUP($A45,'8. Record Keeping'!$A$3:$I$9,4,FALSE) -> Fully met | D45: =VLOOKUP($A45,'8. Record Keeping'!$A$3:$I$9,6,FALSE) -> 0 | E45: =VLOOKUP($A45,'8. Record Keeping'!$A$3:$I$9,7,FALSE) -> 0 | F45: =VLOOKUP($A45,'8. Record Keeping'!$A$3:$I$9,8,FALSE) -> 0 | G45: =VLOOKUP($A45,'8. Record Keeping'!$A$3:$I$9,9,FALSE) -> 0
A46: 8.4 | B46: =VLOOKUP($A46,'8. Record Keeping'!$A$3:$I$9,2,FALSE) -> The DSL ensures safeguarding/child protection files are securely transferred to the new school as soon as possible, separate to main file and confirmation of receipt obtained. | C46: =VLOOKUP($A46,'8. Record Keeping'!$A$3:$I$9,4,FALSE) -> Fully met | D46: =VLOOKUP($A46,'8. Record Keeping'!$A$3:$I$9,6,FALSE) -> 0 | E46: =VLOOKUP($A46,'8. Record Keeping'!$A$3:$I$9,7,FALSE) -> 0 | F46: =VLOOKUP($A46,'8. Record Keeping'!$A$3:$I$9,8,FALSE) -> 0 | G46: =VLOOKUP($A46,'8. Record Keeping'!$A$3:$I$9,9,FALSE) -> 0
A47: 9.1 | B47: =VLOOKUP($A47,'9. Safer Recruitment'!$A$3:$I$9,2,FALSE) -> The governing body/proprietors have adopted best practice and robust recruitment and selection processes in line with national guidance KCSIE, Disqualification under the Childcare Act (2006) as amended 2018: statutory guidance for local authorities, maintained schools, academies and free schools (including further education settings) and Disclosure & Barring Service (DBS) requirements, including risk assessment and supervision of volunteers and visitors and section 128 checks. | C47: =VLOOKUP($A47,'9. Safer Recruitment'!$A$3:$I$9,4,FALSE) -> Partly met | D47: =VLOOKUP($A47,'9. Safer Recruitment'!$A$3:$I$9,6,FALSE) -> * DBS policy statement for governors/ trustees, associate members, staff, supply staff, volunteers, contractors, trainee students and students on placement has been written. | E47: =VLOOKUP($A47,'9. Safer Recruitment'!$A$3:$I$9,7,FALSE) -> Isabel Webb | F47: =VLOOKUP($A47,'9. Safer Recruitment'!$A$3:$I$9,8,FALSE) -> End of Dec 23 | G47: =VLOOKUP($A47,'9. Safer Recruitment'!$A$3:$I$9,9,FALSE) -> End of March 24
A48: 9.2 | B48: =VLOOKUP($A48,'9. Safer Recruitment'!$A$3:$I$9,2,FALSE) -> The governing body/proprietor has ensured that a member of the senior leadership team (or other relevant staff) have completed safer recruitment training and all interview panels include at least one member who has completed safer recruitment training. | C48: =VLOOKUP($A48,'9. Safer Recruitment'!$A$3:$I$9,4,FALSE) -> Fully met | D48: =VLOOKUP($A48,'9. Safer Recruitment'!$A$3:$I$9,6,FALSE) -> 0 | E48: =VLOOKUP($A48,'9. Safer Recruitment'!$A$3:$I$9,7,FALSE) -> 0 | F48: =VLOOKUP($A48,'9. Safer Recruitment'!$A$3:$I$9,8,FALSE) -> 0 | G48: =VLOOKUP($A48,'9. Safer Recruitment'!$A$3:$I$9,9,FALSE) -> 0
A49: 9.3 | B49: =VLOOKUP($A49,'9. Safer Recruitment'!$A$3:$I$9,2,FALSE) -> Single Central Register (SCR) kept as per DfE regulations and outlined in KCSIE 2023, including written confirmation of relevant checks by agency/training providers/third party staff? | C49: =VLOOKUP($A49,'9. Safer Recruitment'!$A$3:$I$9,4,FALSE) -> Fully met | D49: =VLOOKUP($A49,'9. Safer Recruitment'!$A$3:$I$9,6,FALSE) -> 0 | E49: =VLOOKUP($A49,'9. Safer Recruitment'!$A$3:$I$9,7,FALSE) -> 0 | F49: =VLOOKUP($A49,'9. Safer Recruitment'!$A$3:$I$9,8,FALSE) -> 0 | G49: =VLOOKUP($A49,'9. Safer Recruitment'!$A$3:$I$9,9,FALSE) -> 0
A50: 9.4 | B50: =VLOOKUP($A50,'9. Safer Recruitment'!$A$3:$I$9,2,FALSE) -> The school has clear policies and procedures for ensuring different types of visitors to the school are suitable and checked and monitored as appropriate. | C50: =VLOOKUP($A50,'9. Safer Recruitment'!$A$3:$I$9,4,FALSE) -> Fully met | D50: =VLOOKUP($A50,'9. Safer Recruitment'!$A$3:$I$9,6,FALSE) -> 0 | E50: =VLOOKUP($A50,'9. Safer Recruitment'!$A$3:$I$9,7,FALSE) -> 0 | F50: =VLOOKUP($A50,'9. Safer Recruitment'!$A$3:$I$9,8,FALSE) -> 0 | G50: =VLOOKUP($A50,'9. Safer Recruitment'!$A$3:$I$9,9,FALSE) -> 0
A51: 9.5 | B51: =VLOOKUP($A51,'9. Safer Recruitment'!$A$3:$I$9,2,FALSE) -> The governing body/proprietors ensure induction for all new staff has a safeguarding element which includes KCSIE, the school safeguarding/child protection policy, online safety (including filtering and monitoring), safeguarding response to children who go missing from education, behaviour policy, staff behaviour policy/code of conduct, response to children who are absent from education and role and identity of the DSL and their deputy, designated teacher for looked after children, senior mental health lead and designated governor. | C51: =VLOOKUP($A51,'9. Safer Recruitment'!$A$3:$I$9,4,FALSE) -> Fully met | D51: =VLOOKUP($A51,'9. Safer Recruitment'!$A$3:$I$9,6,FALSE) -> 0 | E51: =VLOOKUP($A51,'9. Safer Recruitment'!$A$3:$I$9,7,FALSE) -> 0 | F51: =VLOOKUP($A51,'9. Safer Recruitment'!$A$3:$I$9,8,FALSE) -> 0 | G51: =VLOOKUP($A51,'9. Safer Recruitment'!$A$3:$I$9,9,FALSE) -> 0
A52: 10.1 | B52: =VLOOKUP($A52,'10. Staff Behaviour'!$A$3:$I$9,2,FALSE) -> The governing body/proprietor has ensured there is a staff behaviour policy/code of conduct, which includes low-level concerns, allegations against staff and whistle blowing, plus acceptable use of technologies (including the use of mobile devices), staff/learner relationships and communications including the use of social media? Note: some schools may have stand-alone low-level concerns, managing allegation and whistleblowing policies. If this is the case, it is essential that they are cross referenced and are consistent with each other. | C52: =VLOOKUP($A52,'10. Staff Behaviour'!$A$3:$I$9,4,FALSE) -> Partly met | D52: =VLOOKUP($A52,'10. Staff Behaviour'!$A$3:$I$9,6,FALSE) -> * Check the DfE guidance and other relevant guidance on staff behaviour e.g. from the Safer Recruitment Consortium and Farrer and Co, is reflected in the school's safegurading policies * Make sure the low level concern policy has has the headteacher as the ultimate decision maker in respect of all low-level concerns. * Ensure the Low-level Concern policy references, and identifies the circumstances in which, the headteacher may wish to consult with the DSL to take a more collaborative decision-making approach. * Publish the Low-level Concern policy onto the school website. | E52: =VLOOKUP($A52,'10. Staff Behaviour'!$A$3:$I$9,7,FALSE) -> Isabel Webb, Jill Warren | F52: =VLOOKUP($A52,'10. Staff Behaviour'!$A$3:$I$9,8,FALSE) -> End of December 23 | G52: =VLOOKUP($A52,'10. Staff Behaviour'!$A$3:$I$9,9,FALSE) -> End of March 24
A53: 10.2 | B53: =VLOOKUP($A53,'10. Staff Behaviour'!$A$3:$I$9,2,FALSE) -> The governing body/proprietor has ensured the school has regularly refreshed staff understanding of staff behaviour and ‘safer working practice’. | C53: =VLOOKUP($A53,'10. Staff Behaviour'!$A$3:$I$9,4,FALSE) -> Partly met | D53: =VLOOKUP($A53,'10. Staff Behaviour'!$A$3:$I$9,6,FALSE) -> Check and update the induction paperwork to include all school's safeguarding policies. | E53: =VLOOKUP($A53,'10. Staff Behaviour'!$A$3:$I$9,7,FALSE) -> Isabel Webb | F53: =VLOOKUP($A53,'10. Staff Behaviour'!$A$3:$I$9,8,FALSE) -> End of December 23 | G53: =VLOOKUP($A53,'10. Staff Behaviour'!$A$3:$I$9,9,FALSE) -> End of March 24
A54: 10.3 | B54: =VLOOKUP($A54,'10. Staff Behaviour'!$A$3:$I$9,2,FALSE) -> Where there have been low-level concerns about adults working in the school, the procedure for managing these has been properly used by the school. | C54: =VLOOKUP($A54,'10. Staff Behaviour'!$A$3:$I$9,4,FALSE) -> Fully met | D54: =VLOOKUP($A54,'10. Staff Behaviour'!$A$3:$I$9,6,FALSE) -> 0 | E54: =VLOOKUP($A54,'10. Staff Behaviour'!$A$3:$I$9,7,FALSE) -> 0 | F54: =VLOOKUP($A54,'10. Staff Behaviour'!$A$3:$I$9,8,FALSE) -> 0 | G54: =VLOOKUP($A54,'10. Staff Behaviour'!$A$3:$I$9,9,FALSE) -> 0
A55: 10.4 | B55: =VLOOKUP($A55,'10. Staff Behaviour'!$A$3:$I$9,2,FALSE) -> Concerns about poor or unsafe practice and potential failures in the schools safeguarding regime are reported and taken seriously by the governing body/proprietor and senior leadership team. | C55: =VLOOKUP($A55,'10. Staff Behaviour'!$A$3:$I$9,4,FALSE) -> Fully met | D55: =VLOOKUP($A55,'10. Staff Behaviour'!$A$3:$I$9,6,FALSE) -> 0 | E55: =VLOOKUP($A55,'10. Staff Behaviour'!$A$3:$I$9,7,FALSE) -> 0 | F55: =VLOOKUP($A55,'10. Staff Behaviour'!$A$3:$I$9,8,FALSE) -> 0 | G55: =VLOOKUP($A55,'10. Staff Behaviour'!$A$3:$I$9,9,FALSE) -> 0
A56: 11.1 | B56: =VLOOKUP($A56,'11. Allegations'!$A$3:$I$9,2,FALSE) -> The governing body/proprietor has ensured there are procedures in place within the school staff behaviour policy/code of conduct to manage safeguarding concerns or allegations against staff (including supply staff, contractors and volunteers) that may meet the harms threshold. | C56: =VLOOKUP($A56,'11. Allegations'!$A$3:$I$9,4,FALSE) -> Partly met | D56: =VLOOKUP($A56,'11. Allegations'!$A$3:$I$9,6,FALSE) -> To use the DCC managing allegations policy and adapt to the school and take to FGM in December 23. | E56: =VLOOKUP($A56,'11. Allegations'!$A$3:$I$9,7,FALSE) -> Isabel Webb | F56: =VLOOKUP($A56,'11. Allegations'!$A$3:$I$9,8,FALSE) -> End of Dec 23 | G56: =VLOOKUP($A56,'11. Allegations'!$A$3:$I$9,9,FALSE) -> End of March 24
A57: 11.2 | B57: =VLOOKUP($A57,'11. Allegations'!$A$3:$I$9,2,FALSE) -> The governing body/proprietors and senior leadership team are fully aware of their roles and responsibilities relating to allegations against teachers and other staff, including supply teachers, contractors and volunteers that may meet the harms threshold. | C57: =VLOOKUP($A57,'11. Allegations'!$A$3:$I$9,4,FALSE) -> Partly met | D57: =VLOOKUP($A57,'11. Allegations'!$A$3:$I$9,6,FALSE) -> Governor needs training on managing allegations against staff. Governors to agree the managing allegations against staff policy/procedures | E57: =VLOOKUP($A57,'11. Allegations'!$A$3:$I$9,7,FALSE) -> Governors | F57: =VLOOKUP($A57,'11. Allegations'!$A$3:$I$9,8,FALSE) -> Asap | G57: =VLOOKUP($A57,'11. Allegations'!$A$3:$I$9,9,FALSE) -> End of Dec 24
A58: 11.3 | B58: =VLOOKUP($A58,'11. Allegations'!$A$3:$I$9,2,FALSE) -> All members of staff are aware of the procedure for responding to and managing allegations against staff, including the headteacher, supply staff, contractors and volunteers, and are clear about how to report any concerns they may have and to who? | C58: =VLOOKUP($A58,'11. Allegations'!$A$3:$I$9,4,FALSE) -> Fully met | D58: =VLOOKUP($A58,'11. Allegations'!$A$3:$I$9,6,FALSE) -> 0 | E58: =VLOOKUP($A58,'11. Allegations'!$A$3:$I$9,7,FALSE) -> 0 | F58: =VLOOKUP($A58,'11. Allegations'!$A$3:$I$9,8,FALSE) -> 0 | G58: =VLOOKUP($A58,'11. Allegations'!$A$3:$I$9,9,FALSE) -> 0
A59: 11.4 | B59: =VLOOKUP($A59,'11. Allegations'!$A$3:$I$9,2,FALSE) -> Where there have been allegations about adults working in the school, the procedure for managing these has been properly used by the school. | C59: =VLOOKUP($A59,'11. Allegations'!$A$3:$I$9,4,FALSE) -> Fully met | D59: =VLOOKUP($A59,'11. Allegations'!$A$3:$I$9,6,FALSE) -> 0 | E59: =VLOOKUP($A59,'11. Allegations'!$A$3:$I$9,7,FALSE) -> 0 | F59: =VLOOKUP($A59,'11. Allegations'!$A$3:$I$9,8,FALSE) -> 0 | G59: =VLOOKUP($A59,'11. Allegations'!$A$3:$I$9,9,FALSE) -> 0
A62: Not met
A63: Partly met
A64: Fully met
