Workbook

Sheet Instructions
B1: Introduction to the Derby and Derbyshire Safeguarding Audit Tool for Schools
B6: All schools should have in place, arrangements that reflect the importance of safeguarding and promoting the welfare of children. These arrangements are set out in Working Together to Safeguard Children (2018). Schools in England must also have regard to Keeping Children Safe in Education when carrying out their duties to safeguard and promote the welfare of children. Schools are required to carry out an annual review of their safeguarding practice and to demonstrate how the duties set out in the guidance have been discharged. The safeguarding children audit tool for Derby and Derbyshire schools has been developed to support establishments to effectively complete their annual safeguarding review. It has been developed in line with statutory guidance Keeping Children Safe in Education, other statutory and non-statutory guidance, as well as the local Derby and Derbyshire multi-agency safeguarding children policies and procedures.
B8: Inspecting safeguarding
B10: The Ofsted Education Inspection Framework (EIF) will always take into account how well learners are helped and protected so that they are kept safe. While safeguarding does not have a separate grade, there will always be a written judgement under ‘leadership and management’ about whether the arrangements for safeguarding learners are effective. When safeguarding is ineffective, this is likely to lead to a judgement of inadequate for leadership and management. All schools should have an open and positive culture around safeguarding that puts learners’ interests first. Evidence gathered during the inspection will be triangulated to evaluate the effectiveness of the safeguarding culture that has been established in the school. The extent to which there is an effective whole-school approach to safeguarding will be evaluated to find out how well staff exercise their professional judgement in keeping pupils safe. Judgements are not made solely on what is presented during the inspection, Inspectors will probe further and take into account a range of evidence to evaluate the effectiveness of safeguarding arrangements over time. This includes: • Evidence of effective safeguarding practice and the impact of this practice on all pupils. • How a school is implementing its safeguarding policies and processes effectively and how it keeps them under review. • If there are proper arrangements in place for sharing information appropriately with relevant parties, including forwarding information to schools and post-16 or post-18 providers (such as at the point of transition) and other agencies, such as the Teaching Regulation Agency, for example, around teacher misconduct. • Whether there have been any safeguarding incidents or allegations since the last inspection, and whether the school has taken appropriate action to safeguard the pupils affected and/or to deal with allegations. • Comments about safeguarding from staff, pupils and parents of pupils who attend the school.
B12: Aims of the safeguarding audit tool
B14: The safeguarding audit tool enables you to: • Assess your establishment’s safeguarding processes and practice, identify any gaps, and move on to develop an action plan and a review process to address these. • Ensure that key people within the school, including the governing body/trustees, know how the school is working to keep children safe. This will support strategic challenge to help test and provide assurance that policies, procedures and processes are effective and support the delivery of a robust whole school approach to safeguarding. • Demonstrate that you have taken appropriate steps to audit your safeguarding arrangements and taken action to safeguard children and young people. • Assemble your evidence of impact of safeguarding processes and practice ready for any Ofsted inspection. Remember to keep copies of at least the last 3 previous years of annual safeguarding audits and action plans as this is a good way of demonstrating progression at inspection.
B16: Using the safeguarding audit tool
B18: When using the tool please note that unless specified: • 'School' refers to maintained, non-maintained, independent, pupil referral units, maintained nurseries and colleges. • 'Parents' refers to parents and carers. • 'All staff' refers to anyone working in or on behalf of the school. • 'Safeguarding staff' refers to the designated safeguarding lead, their deputies and other school safeguarding staff.
B20: All policies and guidance documents referenced within the audit tool, can be found in Keeping Children Safe in Education, other statutory and non-statutory guidance, as well as the local Derby and Derbyshire multi-agency safeguarding children policies and procedures.
B22: * Keeping Children Safe in Education | F22: https://www.gov.uk/government/publications/keeping-children-safe-in-education--2
B23: * Schools: statutory guidance | E23: https://www.gov.uk/government/collections/statutory-guidance-schools
B24: * Derby and Derbyshire multi-agency safeguarding children policies and procedures | J24: https://derbyshirescbs.proceduresonline.com/index.htm
B26: The headteacher, designated safeguarding lead and designated child protection governor/trustee should work on this audit together to consider and agree for each section and the associated questions: • Evidence of your current safeguarding processes and practice. • A RAG rating (red, amber, green) not met, partly met, and fully met which best describes your establishment now. To rate your school as fully met, you should at minimum meet all the detailed requirements. If you have some of the requirements, you should rate your school as partly met. • A brief explanation of the evidence supporting your judgment against each question standard. • An action plan with details about the actions in place to meet or improve on the current situation, the timescales for this and when progress will be reviewed.
B28: The audit tool will pull together a summary of the identified RAG ratings and an action plan to support the safeguarding planning process and review cycle.
B30: Audit tool completion
B32: On completion the audit must be signed by the designated safeguarding lead, headteacher, designated governor/trustee and chair of governors/trustees to confirm that they agree the contents. The findings of the completed audit must be discussed at senior management meetings as well as a full governing body/trustee meeting; any further actions and their timescales must be formally recorded in the minutes. The date of the full governing body/trustee meeting where the audit is to be discussed should also be noted on the audit tool.
B34: Please Note: For the academic year 2023-2024, the Derby and Derbyshire Safeguarding Children Partnership (DDSCP) and Local Authority do not require schools to confirm audit completion or provide a copy of their completed audit.
B36: Next steps after completing the audit
B38: The audit, action plan and RAG rating should be reviewed halfway through the year as a minimum. It is recommended whenever there is a change in headteacher that the safeguarding audit is reviewed.
B41: If you wish to provide feedback on the content of the Safeguarding Children Audit Tool for school and colleges, please email the Derby and Derbyshire Safeguarding Children Partnership on
B42: ddscp@derby.gov.uk

Sheet 1. Leadership & Key Roles
A1: Section 1. Leadership and Key Roles | F1: Action Planning: provide details about what plans are in place to meet or improve on the current standard. Identify who is responsible, by what date and when the progress will be reviewed.
A2: Read each statement below and consider whether your setting has not met, partly or fully met the standard. It is important that you reflect on the evidence available and how you know that standards have been met or not. | C2: Key considerations | D2: Status | E2: Give evidence for your current identified rating | F2: Actions | G2: Lead Name | H2: Timescale | I2: Review date
A3: 1.1 | B3: The governing body and proprietors ensure the school complies with their duties under legislation, contributing to multi-agency working in line with statutory guidance. | C3: * Are the governing body/proprietor and relevant school staff aware of, understand and have due regard to key legislation and statutory guidance such as Working Together to Safeguard Children, Human Rights Act 1989 and the Equality Act 2010 (including the Public Sector Equality Duty), Data Protection Act 2018, UK GDPR and other departmental safeguarding advice documents such as Keeping Children Safe in Education (KCSIE)? * Is there a senior board level (or equivalent) lead to take leadership responsibility for the schools safeguarding arrangements, including those where there are allegations of abuse against staff, supply teachers, volunteers or contractors? * Does the governing body/proprietor and the senior leadership team, especially the DSL, understand the 'three' safeguarding partner arrangements and follow the local multi-agency safeguarding arrangements? * Are arrangements in place that set out clearly the process and principles for sharing information within the school, with the Derby and Derbyshire Safeguarding Children Partnership (DDSCP) and other agencies and practitioners as required? *Are the governing body/proprietors and senior school leaders, including the DSL, aware of and implement any local learning where appropriate? * Are written safeguarding/child protection reports to governors/trustees a standing item at each full governing body/trustees meeting? * Do all part-time timetables, exclusions, internal, fixed term and permanent, meet requirements of DfE statutory guidance and local guidance, including obligations under Equality duties? * Is there a Prevent action plan/risk assessment in place to keep learners safe from the dangers of radicalisation and extremism? | D3: Partly met | E3: The Governing body read and reviewed the Child Protection policy and read the statutory guidance KCSIE 23, minutes to say they have read and understand part 1. Governors have agreed the Equality and objectives policy 17.2.22 The governing body have a link safeguarding governor. If an allegation has been made against anyone, governors will have committee to support this along with support from Human Resources. The school understand the three safeguarding partner arrangements https://www.childprotectioncompany.com/general/who-are-the-3-safeguarding-partners/#:~:text=The%20Safeguarding%20Partners%20will%20be,falls%20under%20the%20local%20authority. The Threshold offer is understood by the headteacher, DSL and link safeguarding governor. Governors and all staff are aware of the Data Protection 2012 Act because of regular training and changing of policies due to data breach reports. School follows the Derby and Derbyshire agreement of sharing information to protect children. DSL is aware and learns from the serious case reviews, and has asked questions about the invisible men in the household. A written Headteacher report is given to the governors three times a year on referrals made to the family support worker and social care and how many children we have in each category. The numbers are also discussed with the link governor, an additional three times. | F3: * Governor trained on managing allegations, and GDPR training. * PREVENT action plan on reducing radicalisation | G3: Isabel Webb | H3: By the end of Jan 24 | I3: By September 24
A4: 1.2 | B4: The governing body/proprietor have ensured there is a whole school approach and proactive culture to safeguarding. | C4: * How do they ensure that safeguarding and child protection are at the forefront and underpin all aspects of process and policy development? * What steps have been taken to ensure that everyone is involved in the whole school approach to safeguarding? * Do all systems, process and policies operate with the best interests of children and learners at their core and recognise that ‘it could happen here’ inside and outside of the school and online? * In what ways is a culture of listening to children and taking into account their wishes and feelings, among staff and in any measure the school puts in place to protect them, encouraged and supported? * Are systems are in place which are well promoted, easily understood and easily accessible for children to confidently report abuse, knowing concerns will be treated seriously and that they can safety express their views and give feedback? * Is an open and transparent culture promoted to enable the school to identify concerning, problematic and inappropriate behaviour early, minimise the risk of abuse and ensure that all adults working in or on behalf of the school are clear about expected and appropriate behaviour, professional boundaries and act within these, in accordance with the ethos and values of the school? * Are the school safeguarding policies and procedures transparent, clear, and easy to understand for staff, learners and their parents? | D4: Fully met | E4: The Governing body read and reviewed the Child Protection policy and read the statutory guidance KCSIE 23, minuted to say they have read and understand part 1. Governors have agreed the Equality and objectives policy 17.2.22 Children and parents have been actively in updating their Antibullying and E-safety policy. Children have updated the Children's complaints policy. These polices are shared with governors to review and agree. All behaviour and child on child abuse incidences start with a restorative practise which asks what the child wants to resolve the issue. Our policies reflect this. All staff are trained on Restorative Practise After discussions with the children during Antibullying Week, children said they would like a sign so they can tell a trusted adult that they don't feel safe and want some help but can't talk about this at the moment. This has been included in the Anti-bullying policy. Staff are aware of the staff code of conduct and that we have the following policies to support 'calling in’ concerns such as the Low-Level Concern policy and the Managing Allegations policy. Our policies are annually reviewed and shared with staff.
A5: 1.3 | B5: The governing body/proprietor has ensured that an appropriate senior member of staff, from the school leadership team, is appointed to the role of Designated Safeguarding Lead (DSL) to take lead responsibility for safeguarding and child protection, including online safety and understanding the filtering and monitoring systems, and processes in place. | C5: * Are they a member of the Senior Leadership Team? * The appointed DSL is not the proprietor? * Is the role explicit in the job description? * Is the DSL given appropriate authority and time, funding, training, resources and support? * Is there cover in role? Has a Deputy or Deputies been appointed and trained to the same standard as the DSL? * While safeguarding activities can be delegated, does the lead responsibility remain with DSL? * Is the DSL or their deputy available during term time and during school hours for staff to discuss safeguarding concerns? * Have senior leadership team cover arrangements been made should the DSL and their deputy be unavailable? * Are adequate and appropriate DSL cover arrangements made for any out of hours/out of term activities? * Are safeguarding staff cover arrangements, including during school holidays, communicated to staff, learners, and partner agencies? | D5: Fully met | E5: The headteacher is the DSL and the deputy DSL's are the deputy and the senior teacher. Each DSL has this included in their job description. The DSL has time to carry out the role as the headteacher is a non-teaching head. The DSL receives monthly updates and the deputy/senior teacher and the lead DSL have three yearly DSL training updates. All have annual safeguarding training. The DSL may delegate tasks but the DSL has lead responsibility and is available in school times to support safeguarding concerns. The DSL is available out of hours through the safeguarding email and all staff, governors and parents known they can report concerns to Call Derbyshire to make a referral to social services if they have immediate concerns about the welfare of a child, which is shared on the school website, newsletters and briefings to staff. The school family support worker is available over school holidays.
A6: 1.4 | B6: The governing body/proprietor/headteacher has ensured that appropriate members of staff have been identified as leads for key areas of safeguarding and they have a co-ordinated approach. | C6: * Is there an identified senior mental health lead? * Is there a lead teacher for relationships education/relationships and sex education and health education/PSHE programmes? * In what ways does the designated teacher for looked after children, senior mental health lead, SENCo/named person with oversight for SEND and lead teacher for relationship /relationship and sex education and health education, work together along with the DSL, to advise and support others within the school? * Does the DSL liaise with relevant staff such as IT technicians, designated teacher, pastoral staff, attendance officers, teachers, school nurses, SENCO's/named person with oversight for SEND and senior mental health leads on matters of safety (including online safety/filtering and monitoring), safeguarding and welfare and on when deciding to make a referral by liaising with relevant agencies? | D6: Fully met | E6: Headteacher and teacher have been trained as mental health first aiders. The headteacher is the RSE lead, PSHCE and DSL in school. She meets with the SENDCo who is also the LAC lead, to discuss referrals that can be made and support for the child and the family. In discussion with all relevant agencies and support staff referrals are made by the lead DSL.
A7: 1.5 | B7: The governing body/trustees ensure the DSL and deputy liaise with the 'three' safeguarding partners and work with other agencies in line with Working Together to Safeguard Children, Keeping Children Safe in Education (KCSIE), national guidance (i.e. NSPCC - when to call the police) and local policies and procedures. | C7: * Do safeguarding staff understand their responsibilities relating to the protection of children, young people and vulnerable adults and safeguarding of all learners, including where there has been a domestic abuse notification via SDAT? * Does the DSL provide support to other staff on child welfare/child protection matters, including child-on-child abuse and protecting children from the risk of radicalisation? * Does the DSL regularly liaise with the headteacher to inform them about safeguarding issues, including children known to local authority children’s social care and or the police? * Is the DSL aware of and understand the requirement for children to have an appropriate adult when detained, searched, and questioned by the police? * Does the DSL help to promote educational outcomes by sharing relevant information about the welfare, safeguarding and child protection issues that children, including those with a social worker or who have had a social worker, are experiencing, or have experienced, and identifying the impact that these might be having on children’s attendance, engagement and achievement at school with teachers and school leadership staff? * Has a dedicated secure safeguarding email address, accessible by at least two members of safeguarding staff been set up? Is this checked daily during school term? In school hours and during other times, including school holidays is there an ‘out of office’ message advising if and how often messages will be checked/responded to and when the school will reopen? * Are safeguarding staff aware of and follow multi-agency agreements led by the Derby and Derbyshire Safeguarding Children Partnership (DDSCP)? * In what ways does the DSL act as a main point of contact with the '3' safeguarding partners and other relevant agencies? | D7: Fully met | E7: Yes, DSL have a job description updated each year and they understand the expectations on what to do if there is a domestic violence notification. DSL is around to support staff and they often discuss threshold and if a referral is necessary. DSL is the headteacher. The school has a Confiscation Policy and all staff are aware that an appropriate adult should be around if a child is being questioned or searched. DSL attends TAF, CiN and Child Protection meetings where she reports back on attendance, welfare and educational outcomes because of home life or experiences. DSL's are aware of the sharing of information with multi-agencies as part of the DDSCP. The DSL is available if a multi-agency needs to speak to someone in school about the immediate welfare of a child. She attends TAF, CiN and Child Protection meetings, contacts social workers for advice on if to make referrals. Speaks with DCC Early help to support the school's family support worker. Signpost parents to different agencies to support if necessary. Escalates concerns if agencies are not acting swiftly enough. Write down what actions we take if there is a domestic violence notification and what steps we take. Completed from December 2022
A8: 1.6 | B8: All staff have read and understood KCSIE Sept 2023 relevant to their role. | C8: * Have all staff read and understood KCSIE according to their roles and responsibilities? - all staff who work directly with children, at least part 1 and Annex B? - all school leaders/SLT, including governors/trustees/proprietors and safeguarding staff, all of KCSIE? - all staff who do not work with children directly, at least part 1 or Annex A (condensed version of part 1)? * Where Annex A is used, has there been an assessment by the governing body or proprietor that they think it would provide a better basis for those staff to promote the welfare and safeguarding children? * Have all staff signed to say they have read and understood KCSIE relevant to their role? * What mechanisms are in place to assist staff to understand, respond to any questions which arise, clarify links to school policies and local arrangements and discharge their roles as set out in KCSIE 2023? | D8: Fully met | E8: Staff have read this at the INSET on 04.09.23, when not present they have read and signed to say they have understood this when they were in- MDS, cleaners and caretakers. Govenors have minuted they have read and understood the KCSIE 23. Staff have completed the LGFL qustionnaire and these surveys are used regualrly throughout the year to ensure staff still understand what this means. Regular visitors sign to say they ahve read and understood the KCSIE 23. Documentation from DCC and AGS says staff have all been vetted and completed Safeguarding training.
A9: 1.7 | B9: All staff are aware of the DDSCP safeguarding children procedures and know how to access them. | C9: * Are relevant staff familiar with the DDSCP safeguarding children procedures as appropriate to their role? * Does the governing body/proprietors and all safeguarding staff understand the Threshold document (local criteria for action), Assessment protocol, Dispute Resolution and Escalation policy and Child Protection Conference Professional Dissent policy? * Are all staff aware of the local early help process and the process for making referrals to local authority children's social care and or the police? * Are all relevant staff aware of their role in the early help assessment process and any social care processes such as strategy meetings, assessments, multi-agency meetings such as team around the child (TAF) meetings, child in need (CiN) review meetings, child protection (CP) conferences and looked after children (LAC) reviews? | D9: Fully met | E9: All staff know to Call Derbyshire if they have concerns about the immediate welfare of a child, which is identified in the Child Protection polciy which all staff have read. Safeguarding governor meets reguarly with DSL to review the safegurding audit and understand threshold levels. Monitoring reports taken to FGM to be minuted.

Sheet 2. Safeguarding Policies 
A1: Section 2: Safeguarding Policies and Procedures | F1: Action Planning: provide details about what plans are in place to meet or improve on the current standard. Identify who is responsible, by what date and when the progress will be reviewed.
A2: Read each statement below and consider whether your setting has not met, partly or fully met the standard. It is important that you reflect on the evidence available and how you know that standards have been met or not. | C2: Key considerations | D2: Status | E2: Give evidence for your current identified rating | F2: Actions | G2: Lead Name | H2: Timescale | I2: Review date
A3: 2.1 | B3: The governing body/proprietors have ensured there is an effective and up to date safeguarding/child protection policy. | C3: * Does the policy reflect KCSIE 2023 and DDSCP local safeguarding arrangements? * Is the policy reviewed at least annually? * Is it updated to incorporate safeguarding issues as they emerge or evolve, lessons learnt and national or local changes? * Does it include references to the context of the school and the community in which it is located and serves and participation in the Stopping Domestic Abuse Together (SDAT) initiative? * Does the policy detail the schools own individual ‘safeguarding arrangements’ which are consistent with government guidance and local multi-agency safeguarding children procedures put in place by the DDSCP? * Is the Prevent action plan/risk assessment referenced in the policy? * Does it include a reference to an annual child protection audit (and confirmation of completion to the DDSCP as required) and an annual online safety audit? * Have staff contributed to and shaped safeguarding arrangements and the child protection/safeguarding policy? | D3: Partly met | E3: Child Protection poicy reflcts KCSIE23 and local offer, and this is reviewed annually. The polciy is renewed to reflect local, national and school issues. The sgafuardinga dn LGFL aiudit is referred to and staff can an opportunity to adapt the policy. | F3: Prevent action plan/risk assessment written and referenced in the policy. | G3: Isabel Webb | H3: End of December 23 | I3: By the end of Jan 24
A4: 2.2 | B4: The governing body/proprietor has ensured the safeguarding/child protection policy reflects the whole school approach to child-on-child abuse. | C4: * Does it incorporate the different forms child-on-child abuse can take and abuse which has occurred, including online and outside of the school environment? * Are there procedures to minimise the risk of child-on-child abuse? * Are there systems in place which are well promoted, easily accessible and easily understood for children to confidently report their concerns/abuse? * Is it clear that all concerns/abuse must be treated seriously, regardless of how long ago the abuse may have taken place, that children must be reassured they will be supported and kept safe and not made to feel they are creating a problem or ashamed? * Does it specify reports should be made to 2 members of staff wherever possible? * Does it include how allegations of child-on-child abuse, including sexual harassment and violence will be recorded, investigated, and dealt with? * Does it include clear processes as to how victims, perpetrators and any other children affected by child-on-child abuse will be supported, including reference to intrafamilial harms and support for siblings following incidents? * Is there a recognition that abuse may still be taking place even if it is not being reported and that all staff maintain an attitude of ‘it could happen here’? * Is it clear that there is a zero tolerance approach to child-on-child abuse and a recognition that girls and some vulnerable groups such as children with SEND are more likely to be victims and boys perpetrators? * Does it reflect and reference key national guidance documents/assessment tools and local policies and procedures and the support services available to victims and perpetrators? * Does it make clear that where the report involves rape and assault by penetration, the alleged perpetrator must be removed from any classes they share with the victim and also careful consideration on how best to keep the victim and alleged perpetrator apart on school premises (including any before or after school activities) and on transport to and from the school? * Is it consistent with and cross referenced with the school behaviour policy? | D4: Fully met | E4: School has a separate Child on Child abuse policy and this is referred to in the Child Protection policy. Child have their own policies which are annually reviewed with the children. There are lots of mechanisms for children and adults to reeport and these are reviewed annually. The policies identify how to support perpetartors and victims. Staff areaware even they do not know about it, it could happen here in our school. The Child on Child anuse is cross referenced to the Child Protection/ behaviour and antibullying poicy. | F4: * Does it specify reports should be made to 2 members of staff wherever possible? Completed 03.11.23 | G4: Isabel Webb | H4: 03.11.23 | I4: End of Jan 24
A5: 2.3 | B5: All staff have read and understood the school safeguarding/child protection policy and signed to this effect. | C5: * Are all staff aware of and clear about the procedures where they identify emerging problems in or outside of the school environment and online, where a child may need support with their mental health or they are concerned about the well-being or safety of a child? * Are all staff aware of and are clear about the role they might be expected to play following a referral or in any assessment? * Do all staff know what to do if they suspect or if a child tells them they are being abused or neglected, including if a child reports any form of child-on-child abuse, or if a child shares, produces or receives a sexual communication, including sharing nudes/semi-nudes or if they disclose domestic abuse or so-called ‘honour-based’ abuse, including forced marriage, female genital mutilation (FGM), breast ironing, virginity testing or hymenoplasty? * Are all staff able to manage appropriate level of confidentiality and work in the best interests of the child? * Are all staff are aware that safeguarding issues can manifest themselves via child-on-child abuse and are clear on the policy and procedures in regard to this for both victims and alleged perpetrators? | D5: Fully met | E5: Regaular safeguarding training is completed by staff and they have signed to say they have read and understood the Child Protection and Confidential Reporting policy. All staff know how to report concerns and how to esculate them if they feel no action has been taken. Staff complete regular LGFL safeguarding surveys to reflect on their understanding on safegurding polices and procedures. Polices include how to support victims and perpetartors and actions are recorded on My Concern.
A6: 2.4 | B6: The school website contains relevant safeguarding information, and the safeguarding/child protection policy is easily accessible to parents. | C6: * Is the policy available through the school website or via other means and upon request? * Does the school website have information about how parents/children/other agencies can contact school safeguarding staff, including their availability during out of school hours and in school holidays? * In what way does the school promote awareness of safeguarding issues, including domestic abuse, online safety, child-on-child abuse and child exploitation, with parents? | D6: Fully met | E6: Polices are put onto the school website and they inform parents what to do if they have concerns about a child outside of normal school working hours. Information is shared with parents via Class Dojo, website and the monthly newsletter. We also have documents available outside the school office and in the community room.
D7: Not met
A8: 2.5 | B8: The governing body/proprietor has ensured there are effective safeguarding arrangements to respond to children who are absent from education, particularly on repeat occasions and or for prolonged periods or go missing and those who may be removed from school with a view to be electively home educated. | C8: * Is this compliant with the DfE advice on Working Together to improve school attendance and DfE statutory Children missing from education and /or from home or care guidance and the all local guidance such Vulnerability of children not in school and Children missing from home or care protocol? * Are all staff are aware of, understand and consistently follow the school procedures for dealing with children who are absent from education for prolonged periods and/or on repeat occasions or who go missing from education and/or home or care, particularly on repeat occasions? * Do all staff understand and are alert to the signs that both boys and girls who runaway or are absent or go missing from education and /or home or care might be at risk of abuse, neglect and /or sexual and/ or criminal exploitation? * Do children absent from school and/or missing from home or care, particularly on repeat occasions, receive well co-ordinated responses that reduce the harm or risk of harm to them? * Are comprehensive records held and shared with relevant agencies to help and protect children? * Where parents express an intention to remove a child from school to be educated at home, does the school will seek to co-ordinate a meeting with the parents, local authority and other key professionals where possible, before a final decision has been made? * Do relevant staff follow up any absences from school as per School Attendance Guidance? * Where there are any welfare or safeguarding concerns, is advice sought from safeguarding staff and any appropriate action taken? | D8: Fully met | E8: Attendance policy clearly states the support school takes regarding poor attendance and hw we also challenge through the use of penalty fines. Staff are aware of the increased risks of exploitation from not being in school and will ensure well being checks are made and these are recorded on My Concern. School works alongside differencet agencies to support pupils in school- family support workers, social workers, nurses, CAHMS, CGL workers, tutoring support, Ed psych, Autism Outreach, etc. Office staff follow up concerns of absentissm with the Attendance Officer and the DSL
A9: 2.6 | B9: Safeguarding/child protection policies are in place and other policies and procedures which come un-der the safeguarding 'umbrella' are aligned. For example: supporting learners with medical conditions, health and safety and well-being, including their mental health, behaviour policies which include mental health and behaviour, acceptable and non-acceptable behaviours, prevention and responding to bullying including cyber bullying, prejudiced based and discriminatory bullying, child-on-child abuse as well as screening, searching, and confiscating powers, complaints, staff behaviour policies including low-level concerns, allegations and whistleblowing, safer recruitment, online safety, physical intervention, school attendance/children missing education, Prevent action plan/risk assessment, SEND annual report and confidentiality/information sharing. | C9: * Is there an action plan to ensure that polices are reviewed, cross referenced appropriately and are consistent? * Are safeguarding umbrella polices reviewed in light of the outcome of the annual (as a minimum) safeguarding/child protection policy review? | D9: Fully met | E9: Clerk to governors and offcie staff lisise to ensure policies are cross referenced and rveiewed n a regular time frame.

Sheet 3. Training
A1: Section 3: Safeguarding Training | F1: Action Planning: provide details about what plans are in place to meet or improve on the current standard. Identify who is responsible, by what date and when the progress will be reviewed.
A2: Read each statement below and consider whether your setting has not met, partly or fully met the standard. It is important that you reflect on the evidence available and how you know that standards have been met or not. | C2: Key Considerations | D2: Status | E2: Give evidence for your current identified rating | F2: Actions | G2: Lead Name | H2: Timescale | I2: Review date
A3: 3.1 | B3: The governing body/proprietors ensure that all staff receive appropriate safeguarding and child protection training at induction, including online safety, which is regularly updated. | C3: * Are there clear and effective arrangements for staff development and training? * Have all members of the governing body/proprietors received appropriate safeguarding/child protection (including online) training at induction which is regularly updated to equip them with the knowledge to provide strategic challenge to test and provide assurance of the school safeguarding policies, procedures and practices ensuring a robust whole school approach? * Does the school refer to the training provided by the local authority, Safer Community Partnerships or other partner agencies to support decision making about appropriate safeguarding training for staff? * Have all staff received appropriate safeguarding children training during the last three years? * Have all safeguarding staff attended early help training provided by the local authority? * Does the school refer to the DDSCP multi-agency training pathway to support decision making about appropriate training for staff? | D3: Fully met | E3: Annually all staff safegurding training. PREVENT training is every three years. All new staff and governors receive safeguarding training as part of their induction and are aware of risks posed to children as they have been given training online. During training Staff are made aware that some children are more at risk than others. Staff are aware risks can be in school, at home, online or in the community. Staff are are professional curiousity and record all concerns however small. They are aware that children may not be ready to speak and the behaviour may be a demonstration of past trauma. Staff have ben trained on trauma induced behaviours from the Ed psychologist in the summer term 22. Safeguarding certificates are collated on sharepoint
A4: 3.2 | B4: All staff including the governing board/ proprietors have an understanding of wider safeguarding issues that can impact on a child's welfare or put them at risk of harm. | C4: * Do all staff recognise the indicators and signs of child-on-child abuse (including sexual violence and harassment), know how to identify it, respond to disclosures and who to report it to? * Is it understood by all staff that: - some children are potentially at greater risk of harm - children can be at risk of harm inside and outside of the school, inside/outside of their home, in their community and online - additional barriers can exist when recognising abuse, neglect and exploitation of children with SEND, including neurodevelopmental conditions such as autism or certain medical or physical health conditions - some children face additional barriers to telling someone or being unaware they are being harmed due to their vulnerability, disability, sex, ethnicity and or sexual orientation - children may not feel ready or know how to tell someone they are being abused or recognise they are being harmed - an initial disclosure may only be the first incidence reported rather than representative of a single incident and that trauma can impact on memory - children’s behaviour is a form of communication and may be an indicator that they are suffering harm or that they have been traumatised by abuse *Are all staff aware of the importance of building trusting relationships with learners and the importance of being professionally curious? | D4: Fully met | E4: Staff and governors have annual safeguarding training. Safegurding updates are sent via the weekly briefing, discussed with staff during staff meetings and through face to face where necessary. DSL has monthly updates from DDSCP via email, with relevant parts dessimentated down to staff where appropariate. All staff are aware of the need for every child to have a trusted adult in school.
A5: 3.3 | B5: All staff receive safeguarding and child protection updates, as required. | C5: * Do all staff receive safeguarding and child protection updates as required (at least annually)? * How are safeguarding updates provided, for example via email, bulletins, staff meetings? * Does the headteacher and all safeguarding staff, receive DDSCP safeguarding updates? * Are relevant staff are provided with copies of DDSCP briefing notes and communications? | D5: Fully met | E5: Safegurding updates are sent via the weekly briefing, discussed with staff during staff meetings and through face to face where necessary. DSL has monthly updates from DDSCP via email, with relevant parts dessimentated down to staff where appropariate.
A6: 3.4 | B6: Specific safeguarding issues training have been taken into account. | C6: * Are staff trained to identify and reduce the risk of female genital mutilation (FGM)? * Do teachers know about and understand their mandatory duty to report to the police any known case of FGM on a girl under the age of 18? * Have staff received domestic abuse training relevant to their roles which includes children as victims and the local Operation Encompass arrangement Stopping Domestic Abuse Together? * Are staff aware of the need to protect children from the risk of radicalisation? * Has the DSL undertaken Prevent awareness training? * Has the DSL been supported in developing knowledge and skills to encourage a culture of listening to children and taking into account their wishes and feelings? * Has the DSL been supported to identify the impact of welfare, safeguarding and child protection issues on a child's attendance, engagement and achievement at school and how their education achievements could be promoted? * Are staff trained in the safe use of the internet and social media, including an understanding of filtering and monitoring expectations, applicable roles and responsibilities which is this integrated, aligned and considered as part of the overarching whole school safeguarding approach and wider staff training and curriculum planning? * Have staff had input on the importance of effective information sharing (incorporating their responsibilities in regard of the Data Protection Act 2018 and UK General Data Protection Regulation/UK GDPR)? * Have staff been trained to understand what child-on-child abuse is, how to identify it, address inappropriate behaviour, what to do if they believe a child might be at risk and how to how to handle reports of child-on-child abuse including sexual violence and harassment between children, both on and outside school promises in line with KCSIE? | D6: Fully met | E6: All staff are trained on Child Protection, GDPR, FGM, PREVENT and first aid. Staff have been trained to understand what child-on-child abuse is, how to identify it, address inappropriate behaviour, what to do if they believe a child might be at risk and how to how to handle reports of child-on-child abuse including sexual violence and harassment between children, both on and outside school promises in line with KCSIEStaff are aware of the filtering systems used in school and the need to monitor these. The DSL completes monitoring checks with support from the IT technician regarding the filtering in place. Records are kept on updates to the filtering system. DSL completes 3 year updated training for the role.
A7: 3.5 | B7: There are up-to-date safeguarding and online safety training (and where appropriate safer recruitment training) records for all staff. | C7: * Does this include all staff working in or on behalf of the school? * Is there evidence of the safeguarding/child protection training undertaken by all staff? * Who is responsible for keeping the records and ensuring they are up-to-date? * Where are the records located and who is able to access them? | D7: Fully met | E7: DSL collates the training alongside the SBO. All staff and governors training is collated and is up to date.

Sheet 4. Online Safety 
A1: Section 4: Effective Approaches to Online Safety: Policy, Filtering and Monitoring and Teaching | F1: Action Planning: provide details about what plans are in place to meet or improve on the current standard. Identify who is responsible, by what date and when the progress will be reviewed.
A2: Read each statement below and consider whether your setting has not met, partly or fully met the standard. It is important that you reflect on the evidence available and how you know that standards have been met or not. | C2: Key Considerations | D2: Status | E2: Give evidence for your current identified rating | F2: Actions | G2: Lead Name | H2: Timescale | I2: Review date
A3: 4.1 | B3: The governing body/proprietor has ensured there is an online safety/mobile and smart technology policy outlining a whole school approach to online safety to protect and educate learners (and support parents awareness and understanding) and staff in their use of technology and establishes mechanisms to identify, intervene in and escalate any concerns. The school approach addresses the 4 areas of risk - content, contact, conduct and commerce. | C3: * Is the online safety/mobile and smart technology policy, safeguarding/child protection policy and all other policies and procedures reflected and inter-related with the curriculum, teacher training, role and responsibilities of the DSL and any parental engagement? * Is this aligned with national, regional and DDSCP safeguarding policies/procedures? * Does it include the use of mobile and smart technology and cameras in the school and keeping children safe when they are online at home? * Does it reference the DDSCP Briefing Note: Harmful Online Challenges and Hoaxes? * Does it incorporate whilst at school or outside of the school environment that some children will abuse, sexually harass, bully, and control their peers via mobile and smart technology or share indecent images consensually and non-consensually, and view and share pornography and other harmful content, and how this will be managed? * Does it incorporate online safety resources as outlined in KCSIE? * Is this cross-referenced and consistent with the school safeguarding/child protection policy and appropriate filtering and monitoring on school devices and networks? * Was the policy developed in consultation with a wide range of staff and learners? * Is it reviewed annually? * Are all staff aware of and understand the policy? * How are the principles of online safety across all elements of school life communicated to children and their parents? | D3: Partly met | E3: The school has the following policies: * Child Protection, * Online safety, * IT acceptable use policy * PSHCE policy * BYOD policy * Mobile phone use policy for children, parents and staff. * Relationship and Sex education policy. School uses the model polices from DCC and adapts them to the school and these agreed by governors. These refer to KCSIE 2023 and updated statutory guidance. Policies are cross referenced with our Child Protection policy and some policies, such as the: E-safety, RSE and antibullying policy, are shaped from consultation with parents and the children. The E-safety, Antibullying and IT acceptable use policy are updated annually. The other policies have a three-year cycle. Policies are shared with all staff and they are aware of these because they are shared with the children and they are discussed in staff meetings. The principles of online safety are shared through the curriculum, through special days- E-safety day/Antibullying day, through newsletters, Class Dojo, school website and opinions gain through online surveys. Workshops are offered; however, attendance is often very low. | F3: Check E-safety policy hasd reference the DDSCP Briefing Note: Harmful Online Challenges and Hoaxes. | G3: Isabel Webb | H3: End of March 24 | I3: End of July 24
A4: 4.2 | B4: The governing body/proprietors are doing all they reasonably can to limit children's exposure to risks from the schools IT systems, including when children are learning online at home. | C4: * Is the school working to DfE filtering and monitoring standards? * Has the governing body/proprietor reviewed the standards and discussed what more needs to be done to meet the standards with IT staff and service providers? * Does the number of and age range of learners, learners who are potentially at greater risk and how often they access the IT system as well as the Prevent risk assessment, inform filtering and monitoring systems? * Have relevant staff been identified and assigned roles and responsibilities to manage filtering and monitoring systems? * Is filtering and monitoring provision regularly reviewed, as a minimum annually, for their effectiveness? * Do systems block harmful and inappropriate content without unreasonably impacting teaching and learning? * Does the leadership team and other relevant staff have an awareness and understanding of the provisions in place, manage them effectivity, including receiving regular monitoring reports which meet safeguarding needs and know how to escalate concerns when identified? * Is the safe use of technology, electronic and social media by staff and learners overseen? * Are appropriate tools, such as those outlined in KCSIE, used to what appropriate filtering might look like and whether the filtering provider is signed up to relevant lists? * Does the school communicate and support parents to reinforce the importance of children being safe online and inform them about the systems the school uses to filter and monitor online use, what children are being asked to do online, sites they will be accessing and who from the school their child will be interacting with online? * Are appropriate level of security protection procedures (e-security) in place, in order to safeguard the schools IT systems and everyone who uses them? Are these regularly reviewed? * Does the school refer to the guidance and cyber-security standards outlined in KCSIE? | D4: Partly met | E4: School is meeting the DFE filtering and monitoring standards- it has completed the LGFL audit 22/23. Filtering and monitoring is reviewed to ensure it is not restricting access to learning. The DSL monitors the filtering of the internet in school. Onlinse safety and filtering is shared with parents via the newsletter and the school website. | F4: Complete the LGFL audit 23/24 audit. Governors question and review the LGFL audit and hold a safeguarding monitoring visit in school. Cybersecurity training is planned for Jan 24 for all staff. | G4: Isabel Webb and governor Simon Howard. | H4: End of Dec 23 | I4: End of March 24
A5: 4.3 | B5: The governing body/proprietors ensures that an annual review of the approach to online safety is completed, supported by an annual risk assessment that considers and reflects the risks children face and supports assessing wider online safety policy and practice. | C5: * Does the governing body/proprietor refer to the Questions for the Governing Board Online Safety in schools and colleges to support their reflections as outlined in KCSIE? * What systems are in place to review online safety? * Does the school use the free 360 safe online safety review tool for schools and other supportive tools outlined in KCSIE or use another review tool? * Are these used annually as a minimum? * How have they impacted on online safety policy and practice, including remote learning? | D5: Partly met | E5: School has completed the LGFL audit and actions taken 22/23 to update the E-safety and remote learning policy. | F5: Complete a 360* online safety audit. Questions for the Governing Board Online Safety in schools and colleges to support their reflections as outlined in KCSIE? | G5: Isabel Webb and governor Simon Howard. | H5: End of March 24 | I5: End of March 24
A6: 4.4 | B6: The governing body/proprietors have ensured there is a planned education programme informed by Teaching Online Safety in Schools and Education for a Connected World and Project Evolve and/or via local initiatives such as i-vengers, takes place through relationship education/relationship and sex education/PSHE/ ICT/other lessons and across the curriculum and elsewhere, and is regularly revisited to ensure that it is up-to-date and effective. | C6: * Are learners aware of online safety issues, including sharing nudes/semi-nudes and understand and follow the online safety, use of mobile technology and acceptable use policies? * What strategies are in place to keep children safe, including when they are online at home, and to support them to develop their own understanding of these risks and in learning how to keep themselves and others safe, including offline/online bullying, including sharing nudes/semi-nudes, safe use of the internet and social media? * Is the education and protection of vulnerable children/young people who may be put at particular risk from their own and others’ actions on-line effective? * What actions are being taken to encourage and support learners that it’s safe to tell a trusted adult about any online concerns they may have? * Are parents engaged in school activities which promote the agreed principles of online safety? *Are parents informed and supported to effectively respond and protect children when they raise any online concerns without further punishing children, including by automatically removing access to their devices? * Does the school refer to UKCIS Using External Expertise to Enhance Online Safety Education guidance to support a whole school response towards online safety? * Is the effectiveness and impact of online safety teaching and the resources used regularly evaluated? | D6: Partly met | E6: Online safety is taught through the Computing and PSHCE curriculum. The school has audited its coverage through the Educated for a Connected World and uses Project Evolve and It's not a Joke resources. School uses i-vengers in school and they have procured parent training from Traci Good which was recorded and can be accessed on the school website. Children have their own E-safety policy which is reviewed annually. The DSL monitors incidences of on-line bullying/abuse and actions taken if needed to continue to keep children safe. Parents have been given information to educate their children if they have bullied online or groomed online, and to share with school so we can learn from experiences and keep the children safe at school and at home. | F6: DSL to read UKCIS Using External Expertise to Enhance Online Safety Education guidance to support a whole school response towards online safety. Evaluate the resources used to support online-safety. | G6: Isabel Webb | H6: End of Dec 23 | I6: End of March 24
A7: 4.5 | B7: Do all staff understand the risks posed by adults/young people/children who use technology, including the internet, to bully, groom, radicalise or abuse children, young people and vulnerable adults? | C7: * What steps have been taken to help staff understand these issues? * How are school staff are kept up-to-date about the safe use of internet/ social media and are aware of where they can go for expert advice? * Is action taken immediately when there are concerns about bullying, risky behaviours, sharing nudes/semi-nudes, child-on-child abuse, or children’s well-being? | D7: Fully met | E7: Staff are updated with new resources to keep children safe- March 23. Staff are aware of procedures to take to keep children safe online and school annualy completes a survey with the children on E-safety. All disclosures are followed up, including informing parents how to put filtering on home internet to prevent them seeing content they maybe viewing. Actions taken have been recorded on My Concern.

Sheet 5. Teaching & Behaviour
A1: Section 5: Teaching Safeguarding and Promoting Positive Behaviour | F1: Action Planning: provide details about what plans are in place to meet or improve on the current standard. Identify who is responsible, by what date and when the progress will be reviewed.
A2: Read each statement below and consider whether your setting has not met, partly or fully met the standard. It is important that you reflect on the evidence available and how you know that standards have been met or not. | C2: Key Considerations | D2: Status | E2: Give evidence for your current identified rating | F2: Actions | G2: Lead Name | H2: Timescale | I2: Review date
A3: 5.1 | B3: The governing body and proprietor ensure that children are taught about how to keep themselves and others safe, including online. Relevant topics included within relationships education (RE)/relationships and sex education (RSE) and health education and reinforced throughout the whole curriculum. | C3: * Does it have regard for statutory DfE RE/RSE and Health Education guidance and incorporate the importance of using effective quality assured resources such as those outlined in KCSIE or locally approved resources such as the Derbyshire BERT award? * How does the curriculum etc enable learners to learn and understand healthy relationships online and offline and recognise risks? * Are learners taught about physical health and mental well-being to give them the information that they need to make good decisions about their own health and wellbeing and, when issues arise, know how to seek support as early as possible from appropriate sources? * Is the programme evidence based, fully inclusive and developed to be age and stage of development appropriate? * Is it tailored to the specific needs of individual children, including children who are victims of abuse, those with neurodevelopmental conditions and children with SEND? * How is it incorporated within the whole school approach that prepares learners for life in Modern Britain? * Is it cross referenced and consistent with the school behaviour policy? * If external organisations and speakers are used, is careful consideration given to their suitability and an assessment made to ensure any learning event delivered fits within a planned programme and is consistent with the whole school approach? * Are all programmes informed by best practice principles for teaching PSHE? Does the school ensure that shock, scare and shame tactics are not used? | D3: Fully met | E3: Online safety is taught through the Computing and PSHCE curriculum. The school has audited its coverage through the Educated for a Connected World and uses Project Evolve and It's not a Joke resources. School has a planned E-safety and Antibullying days which covers cyberbullying, privacy, security and how to manage information online. The PSHCE curriculum covers healthy relationships and reinforces the approach of calling thoughts and actions in to education and change behaviours. RSE is tuaght through the Service for Education resources and this is shared with parents if they wish to see them. Behaviours are monitored to see if more education is needed for children. The school uses a restorative approach and has purchased resources/social stories to complete bespoke work with indiviudals where needed. School has auditted its cultural capital and is now including more opportunities to look at diversity within the curriculum. Modern British values are embedded in the curriulum but also taught explictly through asemblies.
